BEGIN:VCALENDAR
VERSION:2.0
PRODID:-//SV Fehmarn - ECPv6.15.20//NONSGML v1.0//EN
CALSCALE:GREGORIAN
METHOD:PUBLISH
X-ORIGINAL-URL:https://svfehmarn.de
X-WR-CALDESC:Veranstaltungen für SV Fehmarn
REFRESH-INTERVAL;VALUE=DURATION:PT1H
X-Robots-Tag:noindex
X-PUBLISHED-TTL:PT1H
BEGIN:VTIMEZONE
TZID:Europe/Berlin
BEGIN:DAYLIGHT
TZOFFSETFROM:+0100
TZOFFSETTO:+0200
TZNAME:CEST
DTSTART:20250330T010000
END:DAYLIGHT
BEGIN:STANDARD
TZOFFSETFROM:+0200
TZOFFSETTO:+0100
TZNAME:CET
DTSTART:20251026T010000
END:STANDARD
BEGIN:DAYLIGHT
TZOFFSETFROM:+0100
TZOFFSETTO:+0200
TZNAME:CEST
DTSTART:20260329T010000
END:DAYLIGHT
BEGIN:STANDARD
TZOFFSETFROM:+0200
TZOFFSETTO:+0100
TZNAME:CET
DTSTART:20261025T010000
END:STANDARD
BEGIN:DAYLIGHT
TZOFFSETFROM:+0100
TZOFFSETTO:+0200
TZNAME:CEST
DTSTART:20270328T010000
END:DAYLIGHT
BEGIN:STANDARD
TZOFFSETFROM:+0200
TZOFFSETTO:+0100
TZNAME:CET
DTSTART:20271031T010000
END:STANDARD
END:VTIMEZONE
BEGIN:VEVENT
DTSTART;TZID=Europe/Berlin:20260514T164500
DTEND;TZID=Europe/Berlin:20260514T174500
DTSTAMP:20260424T095955
CREATED:20231122T180745Z
LAST-MODIFIED:20260208T161621Z
UID:10045488-1778777100-1778780700@svfehmarn.de
SUMMARY:Dance-Kids
DESCRIPTION:
URL:https://svfehmarn.de/veranstaltung/training-tanzen-miniclipdancing-1-2-2/2026-05-14/
LOCATION:Großsporthalle (Inselschule Fehmarn)\, Gahlendorfer Weg 25\, Fehmarn\, Schleswig-Holstein\, 23769\, Deutschland
CATEGORIES:Dance-Kids,Tanzen
ORGANIZER;CN="SV Fehmarn":MAILTO:moin@svfehmarn.de
END:VEVENT
BEGIN:VEVENT
DTSTART;TZID=Europe/Berlin:20260514T170000
DTEND;TZID=Europe/Berlin:20260514T183000
DTSTAMP:20260424T095955
CREATED:20230730T143215Z
LAST-MODIFIED:20260208T161603Z
UID:10019063-1778778000-1778783400@svfehmarn.de
SUMMARY:Training Handball Männliche E-Jugend
DESCRIPTION:
URL:https://svfehmarn.de/veranstaltung/training-handball-maennliche-e-jugend-2/2026-05-14/
LOCATION:Halle West (Grundschule Burg)\, Ohrtstraße 33\, Fehmarn\, Schleswig-Holstein\, 23769\, Deutschland
CATEGORIES:Handball,Handball Männliche E-Jugend
ORGANIZER;CN="SV Fehmarn":MAILTO:moin@svfehmarn.de
END:VEVENT
BEGIN:VEVENT
DTSTART;TZID=Europe/Berlin:20260514T170000
DTEND;TZID=Europe/Berlin:20260514T183000
DTSTAMP:20260424T095955
CREATED:20231106T152859Z
LAST-MODIFIED:20260208T161547Z
UID:10080569-1778778000-1778783400@svfehmarn.de
SUMMARY:Training Handball Weibliche C-Jugend
DESCRIPTION:
URL:https://svfehmarn.de/veranstaltung/training-handball-weibl-c-jugend-2/2026-05-14/
LOCATION:Halle West (Grundschule Burg)\, Ohrtstraße 33\, Fehmarn\, Schleswig-Holstein\, 23769\, Deutschland
CATEGORIES:Handball,Handball Weibliche C-Jugend
ORGANIZER;CN="SV Fehmarn":MAILTO:moin@svfehmarn.de
END:VEVENT
BEGIN:VEVENT
DTSTART;TZID=Europe/Berlin:20260514T170000
DTEND;TZID=Europe/Berlin:20260514T183000
DTSTAMP:20260424T095955
CREATED:20231116T163822Z
LAST-MODIFIED:20260208T161534Z
UID:10044653-1778778000-1778783400@svfehmarn.de
SUMMARY:Training Handball Männliche  D-Jugend
DESCRIPTION:Jahrgang 2009 – 2012
URL:https://svfehmarn.de/veranstaltung/training-handball-maennliche-c-d-jugend-4-2/2026-05-14/
LOCATION:Halle West (Grundschule Burg)\, Ohrtstraße 33\, Fehmarn\, Schleswig-Holstein\, 23769\, Deutschland
CATEGORIES:Handball,Handball Männliche C-D-Jugend
ORGANIZER;CN="SV Fehmarn":MAILTO:moin@svfehmarn.de
END:VEVENT
BEGIN:VEVENT
DTSTART;TZID=Europe/Berlin:20260514T170000
DTEND;TZID=Europe/Berlin:20260514T183000
DTSTAMP:20260424T095956
CREATED:20251031T205127Z
LAST-MODIFIED:20260208T161520Z
UID:10080448-1778778000-1778783400@svfehmarn.de
SUMMARY:Training Handball Weibliche E-Jugend
DESCRIPTION:Jahrgang 2013 – 2014
URL:https://svfehmarn.de/veranstaltung/training-handball-weibliche-e-jugend-3/2026-05-14/
LOCATION:Halle West (Grundschule Burg)\, Ohrtstraße 33\, Fehmarn\, Schleswig-Holstein\, 23769\, Deutschland
CATEGORIES:Handball,Handball Weibliche E-Jugend
ORGANIZER;CN="SV Fehmarn":MAILTO:moin@svfehmarn.de
END:VEVENT
BEGIN:VEVENT
DTSTART;TZID=Europe/Berlin:20260514T170000
DTEND;TZID=Europe/Berlin:20260514T183000
DTSTAMP:20260424T095956
CREATED:20251205T124935Z
LAST-MODIFIED:20260208T160814Z
UID:10080078-1778778000-1778783400@svfehmarn.de
SUMMARY:Training Handball Weibliche E-Jugend
DESCRIPTION:Jahrgang 2013 – 2014
URL:https://svfehmarn.de/veranstaltung/training-handball-weibliche-e-jugend-3-2/2026-05-14/
LOCATION:Halle West (Grundschule Burg)\, Ohrtstraße 33\, Fehmarn\, Schleswig-Holstein\, 23769\, Deutschland
CATEGORIES:Handball,Handball Weibliche E-Jugend
ORGANIZER;CN="SV Fehmarn":MAILTO:moin@svfehmarn.de
END:VEVENT
BEGIN:VEVENT
DTSTART;TZID=Europe/Berlin:20260514T180000
DTEND;TZID=Europe/Berlin:20260514T190000
DTSTAMP:20260424T095956
CREATED:20241022T084718Z
LAST-MODIFIED:20260208T161505Z
UID:10045824-1778781600-1778785200@svfehmarn.de
SUMMARY:Training Pilates Powerpilates
DESCRIPTION:
URL:https://svfehmarn.de/veranstaltung/training-pilates-powerpilates-2-2/2026-05-14/
LOCATION:Großsporthalle (Inselschule Fehmarn)\, Gahlendorfer Weg 25\, Fehmarn\, Schleswig-Holstein\, 23769\, Deutschland
CATEGORIES:Pilates,Powerpilates
ORGANIZER;CN="SV Fehmarn":MAILTO:moin@svfehmarn.de
END:VEVENT
BEGIN:VEVENT
DTSTART;TZID=Europe/Berlin:20260514T180000
DTEND;TZID=Europe/Berlin:20260514T200000
DTSTAMP:20260424T095956
CREATED:20250122T153137Z
LAST-MODIFIED:20260208T161439Z
UID:10023502-1778781600-1778788800@svfehmarn.de
SUMMARY:Training Schwimmen
DESCRIPTION:
URL:https://svfehmarn.de/veranstaltung/training-schwimmen-2-2/2026-05-14/
LOCATION:Schwimmbad FehMare\, Zur Strandpromenade 6\, Fehmarn\, 23769
CATEGORIES:Schwimmen
ORGANIZER;CN="SV Fehmarn":MAILTO:moin@svfehmarn.de
END:VEVENT
BEGIN:VEVENT
DTSTART;TZID=Europe/Berlin:20260514T180000
DTEND;TZID=Europe/Berlin:20260514T210000
DTSTAMP:20260424T095956
CREATED:20260208T125023Z
LAST-MODIFIED:20260208T125023Z
UID:10081613-1778781600-1778792400@svfehmarn.de
SUMMARY:Training Darts Erwachsene
DESCRIPTION:Bitte vorher telefonisch nachfragen\, ob das Trainibg stattfindet.
URL:https://svfehmarn.de/veranstaltung/training-darts-erwachsene/2026-05-14/
LOCATION:Teestube\, Gahlendorfer Weg 25\, Fehmarn\, Schleswig-Holstein\, 23769\, Deutschland
CATEGORIES:Darts,Darts Erwachsene
ORGANIZER;CN="SV Fehmarn":MAILTO:moin@svfehmarn.de
END:VEVENT
BEGIN:VEVENT
DTSTART;TZID=Europe/Berlin:20260514T181500
DTEND;TZID=Europe/Berlin:20260514T191500
DTSTAMP:20260424T095956
CREATED:20250219T171716Z
LAST-MODIFIED:20260208T161424Z
UID:10060550-1778782500-1778786100@svfehmarn.de
SUMMARY:Training Fitness Aqua Jogging
DESCRIPTION:
URL:https://svfehmarn.de/veranstaltung/training-fitness-aqua-jogging-fehmare/2026-05-14/
LOCATION:Schwimmbad FehMare\, Zur Strandpromenade 6\, Fehmarn\, 23769
CATEGORIES:Aqua Jogging,Fitness
ORGANIZER;CN="SV Fehmarn":MAILTO:moin@svfehmarn.de
END:VEVENT
BEGIN:VEVENT
DTSTART;TZID=Europe/Berlin:20260514T183000
DTEND;TZID=Europe/Berlin:20260514T200000
DTSTAMP:20260424T095956
CREATED:20240229T162936Z
LAST-MODIFIED:20260208T161410Z
UID:10051067-1778783400-1778788800@svfehmarn.de
SUMMARY:Training Fußball Alte Herren
DESCRIPTION:
URL:https://svfehmarn.de/veranstaltung/training-fussball-alte-herren-grosssporthalle/2026-05-14/
LOCATION:Großsporthalle (Inselschule Fehmarn)\, Gahlendorfer Weg 25\, Fehmarn\, Schleswig-Holstein\, 23769\, Deutschland
CATEGORIES:Fußball,Fußball 4. Herren,Fußball Alte Herren,Fußball Erwachsene
ORGANIZER;CN="SV Fehmarn":MAILTO:moin@svfehmarn.de
END:VEVENT
BEGIN:VEVENT
DTSTART;TZID=Europe/Berlin:20260514T190000
DTEND;TZID=Europe/Berlin:20260514T200000
DTSTAMP:20260424T095956
CREATED:20231227T075319Z
LAST-MODIFIED:20260208T161355Z
UID:10043834-1778785200-1778788800@svfehmarn.de
SUMMARY:Ladies-Workout
DESCRIPTION:
URL:https://svfehmarn.de/veranstaltung/ladies-workout-halle-west-2-2/2026-05-14/
LOCATION:Großsporthalle (Inselschule Fehmarn)\, Gahlendorfer Weg 25\, Fehmarn\, Schleswig-Holstein\, 23769\, Deutschland
CATEGORIES:Fitness,Ladies-Workout
ORGANIZER;CN="SV Fehmarn":MAILTO:moin@svfehmarn.de
END:VEVENT
BEGIN:VEVENT
DTSTART;TZID=Europe/Berlin:20260514T190000
DTEND;TZID=Europe/Berlin:20260514T204500
DTSTAMP:20260424T095956
CREATED:20240229T163108Z
LAST-MODIFIED:20260208T161340Z
UID:10051851-1778785200-1778791500@svfehmarn.de
SUMMARY:Training Fußball Frauen
DESCRIPTION:
URL:https://svfehmarn.de/veranstaltung/training-fussball-frauenmannschaft-grosssporthalle-2/2026-05-14/
LOCATION:Großsporthalle (Inselschule Fehmarn)\, Gahlendorfer Weg 25\, Fehmarn\, Schleswig-Holstein\, 23769\, Deutschland
CATEGORIES:Fußball,Fußball Erwachsene,Fußball Frauenmannschaft
ORGANIZER;CN="SV Fehmarn":MAILTO:moin@svfehmarn.de
END:VEVENT
BEGIN:VEVENT
DTSTART;TZID=Europe/Berlin:20260514T193000
DTEND;TZID=Europe/Berlin:20260514T213000
DTSTAMP:20260424T095956
CREATED:20230730T140007Z
LAST-MODIFIED:20260208T161323Z
UID:10077199-1778787000-1778794200@svfehmarn.de
SUMMARY:Training Handball Herren
DESCRIPTION:
URL:https://svfehmarn.de/veranstaltung/training-handball-maennliche-a-b-jugend-herren-2/2026-05-14/
LOCATION:Halle West (Grundschule Burg)\, Ohrtstraße 33\, Fehmarn\, Schleswig-Holstein\, 23769\, Deutschland
CATEGORIES:Handball,Handball Männliche A-B-Jugend
ORGANIZER;CN="SV Fehmarn":MAILTO:moin@svfehmarn.de
END:VEVENT
BEGIN:VEVENT
DTSTART;TZID=Europe/Berlin:20260514T200000
DTEND;TZID=Europe/Berlin:20260514T220000
DTSTAMP:20260424T095956
CREATED:20230730T175356Z
LAST-MODIFIED:20260208T161300Z
UID:10028201-1778788800-1778796000@svfehmarn.de
SUMMARY:Training Volleyball Fortgeschritten
DESCRIPTION:Mixed
URL:https://svfehmarn.de/veranstaltung/training-volleyball-fortgeschritten/2026-05-14/
LOCATION:Großsporthalle (Inselschule Fehmarn)\, Gahlendorfer Weg 25\, Fehmarn\, Schleswig-Holstein\, 23769\, Deutschland
CATEGORIES:Volleyball,Volleyball Fortgeschrittene
ORGANIZER;CN="SV Fehmarn":MAILTO:moin@svfehmarn.de
END:VEVENT
BEGIN:VEVENT
DTSTART;TZID=Europe/Berlin:20260515T150000
DTEND;TZID=Europe/Berlin:20260515T163000
DTSTAMP:20260424T095956
CREATED:20230730T140134Z
LAST-MODIFIED:20260208T161226Z
UID:10017755-1778857200-1778862600@svfehmarn.de
SUMMARY:Training Handball Mini-Mix
DESCRIPTION:
URL:https://svfehmarn.de/veranstaltung/training-handball-mini-mix/2026-05-15/
LOCATION:Großsporthalle (Inselschule Fehmarn)\, Gahlendorfer Weg 25\, Fehmarn\, Schleswig-Holstein\, 23769\, Deutschland
CATEGORIES:Handball,Handball Mini-Mix
ORGANIZER;CN="SV Fehmarn":MAILTO:moin@svfehmarn.de
END:VEVENT
BEGIN:VEVENT
DTSTART;TZID=Europe/Berlin:20260515T163000
DTEND;TZID=Europe/Berlin:20260515T180000
DTSTAMP:20260424T095956
CREATED:20251031T201233Z
LAST-MODIFIED:20260208T161243Z
UID:10078240-1778862600-1778868000@svfehmarn.de
SUMMARY:Training Handball Weibliche B-Jugend
DESCRIPTION:Jahrgang 2007-2008
URL:https://svfehmarn.de/veranstaltung/training-handball-weibliche-b-jugend-2-2/2026-05-15/
LOCATION:Halle West (Grundschule Burg)\, Ohrtstraße 33\, Fehmarn\, Schleswig-Holstein\, 23769\, Deutschland
CATEGORIES:Handball,Handball Weibliche B-Jugend
ORGANIZER;CN="SV Fehmarn":MAILTO:moin@svfehmarn.de
END:VEVENT
BEGIN:VEVENT
DTSTART;TZID=Europe/Berlin:20260515T164500
DTEND;TZID=Europe/Berlin:20260515T174500
DTSTAMP:20260424T095956
CREATED:20250821T124720Z
LAST-MODIFIED:20260208T161212Z
UID:10080837-1778863500-1778867100@svfehmarn.de
SUMMARY:Training Fit im Alltag
DESCRIPTION:
URL:https://svfehmarn.de/veranstaltung/training-fit-im-alltag/2026-05-15/
LOCATION:Großsporthalle (Inselschule Fehmarn)\, Gahlendorfer Weg 25\, Fehmarn\, Schleswig-Holstein\, 23769\, Deutschland
CATEGORIES:Fit im Alter,Fitness
ORGANIZER;CN="SV Fehmarn":MAILTO:moin@svfehmarn.de
END:VEVENT
BEGIN:VEVENT
DTSTART;TZID=Europe/Berlin:20260515T170000
DTEND;TZID=Europe/Berlin:20260515T183000
DTSTAMP:20260424T095956
CREATED:20231106T150937Z
LAST-MODIFIED:20260208T161156Z
UID:10080509-1778864400-1778869800@svfehmarn.de
SUMMARY:Training Handball Weibliche B-Jugend
DESCRIPTION:Jahrgang 2007-2008
URL:https://svfehmarn.de/veranstaltung/training-handball-weibliche-b-jugend-2/2026-05-15/
LOCATION:Halle West (Grundschule Burg)\, Ohrtstraße 33\, Fehmarn\, Schleswig-Holstein\, 23769\, Deutschland
CATEGORIES:Handball,Handball Weibliche B-Jugend
ORGANIZER;CN="SV Fehmarn":MAILTO:moin@svfehmarn.de
END:VEVENT
BEGIN:VEVENT
DTSTART;TZID=Europe/Berlin:20260515T180000
DTEND;TZID=Europe/Berlin:20260515T190000
DTSTAMP:20260424T095956
CREATED:20230730T134447Z
LAST-MODIFIED:20260208T161143Z
UID:10054154-1778868000-1778871600@svfehmarn.de
SUMMARY:Training Tabata
DESCRIPTION:
URL:https://svfehmarn.de/veranstaltung/training-fit-for-fight/2026-05-15/
LOCATION:Großsporthalle (Inselschule Fehmarn)\, Gahlendorfer Weg 25\, Fehmarn\, Schleswig-Holstein\, 23769\, Deutschland
CATEGORIES:Fitness,Tabata
ORGANIZER;CN="SV Fehmarn":MAILTO:moin@svfehmarn.de
END:VEVENT
BEGIN:VEVENT
DTSTART;TZID=Europe/Berlin:20260515T180000
DTEND;TZID=Europe/Berlin:20260515T190000
DTSTAMP:20260424T095956
CREATED:20240617T163848Z
LAST-MODIFIED:20251206T141627Z
UID:10016189-1778868000-1778871600@svfehmarn.de
SUMMARY:Training Tabata Großsporthalle
DESCRIPTION:
URL:https://svfehmarn.de/veranstaltung/training-fit-for-fight-2/2026-05-15/
LOCATION:Großsporthalle (Inselschule Fehmarn)\, Gahlendorfer Weg 25\, Fehmarn\, Schleswig-Holstein\, 23769\, Deutschland
CATEGORIES:Fitness,Tabata
ORGANIZER;CN="SV Fehmarn":MAILTO:moin@svfehmarn.de
END:VEVENT
BEGIN:VEVENT
DTSTART;TZID=Europe/Berlin:20260515T180000
DTEND;TZID=Europe/Berlin:20260515T190000
DTSTAMP:20260424T095956
CREATED:20241107T184849Z
LAST-MODIFIED:20260208T161131Z
UID:10016450-1778868000-1778871600@svfehmarn.de
SUMMARY:Training Rückenfit
DESCRIPTION:
URL:https://svfehmarn.de/veranstaltung/training-rueckenfit-2-2/2026-05-15/
LOCATION:Großsporthalle (Inselschule Fehmarn)\, Gahlendorfer Weg 25\, Fehmarn\, Schleswig-Holstein\, 23769\, Deutschland
CATEGORIES:Fitness,Rückenfit
ORGANIZER;CN="SV Fehmarn":MAILTO:moin@svfehmarn.de
END:VEVENT
BEGIN:VEVENT
DTSTART;TZID=Europe/Berlin:20260515T180000
DTEND;TZID=Europe/Berlin:20260515T200000
DTSTAMP:20260424T095956
CREATED:20240115T235103Z
LAST-MODIFIED:20260208T161115Z
UID:10076144-1778868000-1778875200@svfehmarn.de
SUMMARY:Training Handball Weibliche A-Jugend / Damen
DESCRIPTION:
URL:https://svfehmarn.de/veranstaltung/training-handball-weibliche-a-jugend-damen-halle-west-2/2026-05-15/
LOCATION:Halle West (Grundschule Burg)\, Ohrtstraße 33\, Fehmarn\, Schleswig-Holstein\, 23769\, Deutschland
CATEGORIES:Handball,Handball Weibliche A-Jugend / Damen
ORGANIZER;CN="SV Fehmarn":MAILTO:moin@svfehmarn.de
END:VEVENT
BEGIN:VEVENT
DTSTART;TZID=Europe/Berlin:20260515T183000
DTEND;TZID=Europe/Berlin:20260515T200000
DTSTAMP:20260424T095956
CREATED:20240515T151252Z
LAST-MODIFIED:20260208T161056Z
UID:10038001-1778869800-1778875200@svfehmarn.de
SUMMARY:Training Handball Männliche C-Jugend
DESCRIPTION:
URL:https://svfehmarn.de/veranstaltung/training-handball-maennliche-c-d-jugend-2-2-2/2026-05-15/
LOCATION:Großsporthalle (Inselschule Fehmarn)\, Gahlendorfer Weg 25\, Fehmarn\, Schleswig-Holstein\, 23769\, Deutschland
CATEGORIES:Handball,Handball Männliche C-D-Jugend
ORGANIZER;CN="SV Fehmarn":MAILTO:moin@svfehmarn.de
END:VEVENT
BEGIN:VEVENT
DTSTART;TZID=Europe/Berlin:20260515T183000
DTEND;TZID=Europe/Berlin:20260515T203000
DTSTAMP:20260424T095956
CREATED:20231110T160247Z
LAST-MODIFIED:20260208T161029Z
UID:10044097-1778869800-1778877000@svfehmarn.de
SUMMARY:Training Inliner-Hockey Damen
DESCRIPTION:
URL:https://svfehmarn.de/veranstaltung/training-inliner-hockey-damen-2-2/2026-05-15/
LOCATION:Sporthalle Puttgarden\, Marienleuchter Weg 4\, Fehmarn\, Schleswig-Holstein\, 23769\, Deutschland
CATEGORIES:Inliner-Hockey,Inliner-Hockey Damen
ORGANIZER;CN="SV Fehmarn":MAILTO:moin@svfehmarn.de
END:VEVENT
BEGIN:VEVENT
DTSTART;TZID=Europe/Berlin:20260515T193000
DTEND;TZID=Europe/Berlin:20260515T210000
DTSTAMP:20260424T095956
CREATED:20240229T162141Z
LAST-MODIFIED:20260208T161040Z
UID:10049240-1778873400-1778878800@svfehmarn.de
SUMMARY:Training Fußball 1. Herren
DESCRIPTION:
URL:https://svfehmarn.de/veranstaltung/training-fussball-1-herren-grosssporthalle-2/2026-05-15/
LOCATION:Großsporthalle (Inselschule Fehmarn)\, Gahlendorfer Weg 25\, Fehmarn\, Schleswig-Holstein\, 23769\, Deutschland
CATEGORIES:Fußball,Fußball 1. Herren,Fußball Erwachsene
ORGANIZER;CN="SV Fehmarn":MAILTO:moin@svfehmarn.de
END:VEVENT
BEGIN:VEVENT
DTSTART;TZID=Europe/Berlin:20260515T193000
DTEND;TZID=Europe/Berlin:20260515T210000
DTSTAMP:20260424T095956
CREATED:20240229T162351Z
LAST-MODIFIED:20260208T161009Z
UID:10050023-1778873400-1778878800@svfehmarn.de
SUMMARY:Training Fußball 2. Herren
DESCRIPTION:
URL:https://svfehmarn.de/veranstaltung/training-fussball-2-herren-grosssporthalle-2/2026-05-15/
LOCATION:Großsporthalle (Inselschule Fehmarn)\, Gahlendorfer Weg 25\, Fehmarn\, Schleswig-Holstein\, 23769\, Deutschland
CATEGORIES:Fußball,Fußball 2. Herren,Fußball Erwachsene
ORGANIZER;CN="SV Fehmarn":MAILTO:moin@svfehmarn.de
END:VEVENT
BEGIN:VEVENT
DTSTART;TZID=Europe/Berlin:20260515T193000
DTEND;TZID=Europe/Berlin:20260515T210000
DTSTAMP:20260424T095956
CREATED:20240229T162648Z
LAST-MODIFIED:20260208T160944Z
UID:10050806-1778873400-1778878800@svfehmarn.de
SUMMARY:Training Fußball 3. Herren
DESCRIPTION:
URL:https://svfehmarn.de/veranstaltung/training-fussball-3-herren-grosssporthalle-2/2026-05-15/
LOCATION:Großsporthalle (Inselschule Fehmarn)\, Gahlendorfer Weg 25\, Fehmarn\, Schleswig-Holstein\, 23769\, Deutschland
CATEGORIES:Fußball,Fußball 3. Herren,Fußball Erwachsene
ORGANIZER;CN="SV Fehmarn":MAILTO:moin@svfehmarn.de
END:VEVENT
BEGIN:VEVENT
DTSTART;TZID=Europe/Berlin:20260515T200000
DTEND;TZID=Europe/Berlin:20260515T213000
DTSTAMP:20260424T095956
CREATED:20230730T175503Z
LAST-MODIFIED:20260208T160924Z
UID:10028462-1778875200-1778880600@svfehmarn.de
SUMMARY:Training Volleyball Einsteiger
DESCRIPTION:Technik-/ und Einsteigertraining
URL:https://svfehmarn.de/veranstaltung/training-volleyball-einsteiger/2026-05-15/
LOCATION:Großsporthalle (Inselschule Fehmarn)\, Gahlendorfer Weg 25\, Fehmarn\, Schleswig-Holstein\, 23769\, Deutschland
CATEGORIES:Volleyball,Volleyball Einsteiger
ORGANIZER;CN="SV Fehmarn":MAILTO:moin@svfehmarn.de
END:VEVENT
BEGIN:VEVENT
DTSTART;TZID=Europe/Berlin:20260516T090000
DTEND;TZID=Europe/Berlin:20260516T100000
DTSTAMP:20260424T095956
CREATED:20251025T154700Z
LAST-MODIFIED:20260208T160852Z
UID:10061475-1778922000-1778925600@svfehmarn.de
SUMMARY:Training Langhantel-Workout
DESCRIPTION:
URL:https://svfehmarn.de/veranstaltung/training-langhantel-workout-grosssporthalle-2/2026-05-16/
LOCATION:Halle West (Grundschule Burg)\, Ohrtstraße 33\, Fehmarn\, Schleswig-Holstein\, 23769\, Deutschland
CATEGORIES:Langhantel-Workout
ORGANIZER;CN="SV Fehmarn":MAILTO:moin@svfehmarn.de
END:VEVENT
END:VCALENDAR