BEGIN:VCALENDAR
VERSION:2.0
PRODID:-//SV Fehmarn - ECPv6.15.18//NONSGML v1.0//EN
CALSCALE:GREGORIAN
METHOD:PUBLISH
X-ORIGINAL-URL:https://svfehmarn.de
X-WR-CALDESC:Veranstaltungen für SV Fehmarn
REFRESH-INTERVAL;VALUE=DURATION:PT1H
X-Robots-Tag:noindex
X-PUBLISHED-TTL:PT1H
BEGIN:VTIMEZONE
TZID:Europe/Berlin
BEGIN:DAYLIGHT
TZOFFSETFROM:+0100
TZOFFSETTO:+0200
TZNAME:CEST
DTSTART:20250330T010000
END:DAYLIGHT
BEGIN:STANDARD
TZOFFSETFROM:+0200
TZOFFSETTO:+0100
TZNAME:CET
DTSTART:20251026T010000
END:STANDARD
BEGIN:DAYLIGHT
TZOFFSETFROM:+0100
TZOFFSETTO:+0200
TZNAME:CEST
DTSTART:20260329T010000
END:DAYLIGHT
BEGIN:STANDARD
TZOFFSETFROM:+0200
TZOFFSETTO:+0100
TZNAME:CET
DTSTART:20261025T010000
END:STANDARD
BEGIN:DAYLIGHT
TZOFFSETFROM:+0100
TZOFFSETTO:+0200
TZNAME:CEST
DTSTART:20270328T010000
END:DAYLIGHT
BEGIN:STANDARD
TZOFFSETFROM:+0200
TZOFFSETTO:+0100
TZNAME:CET
DTSTART:20271031T010000
END:STANDARD
END:VTIMEZONE
BEGIN:VEVENT
DTSTART;TZID=Europe/Berlin:20260512T190000
DTEND;TZID=Europe/Berlin:20260512T200000
DTSTAMP:20260422T102552
CREATED:20231108T070807Z
LAST-MODIFIED:20260208T162218Z
UID:10039846-1778612400-1778616000@svfehmarn.de
SUMMARY:Training Pilates
DESCRIPTION:
URL:https://svfehmarn.de/veranstaltung/pilates/2026-05-12/
LOCATION:Halle West (Grundschule Burg)\, Ohrtstraße 33\, Fehmarn\, Schleswig-Holstein\, 23769\, Deutschland
CATEGORIES:Pilates,Pilates
ORGANIZER;CN="SV Fehmarn":MAILTO:moin@svfehmarn.de
END:VEVENT
BEGIN:VEVENT
DTSTART;TZID=Europe/Berlin:20260512T193000
DTEND;TZID=Europe/Berlin:20260512T201500
DTSTAMP:20260422T102552
CREATED:20231106T160435Z
LAST-MODIFIED:20260208T162204Z
UID:10038784-1778614200-1778616900@svfehmarn.de
SUMMARY:Training Fitness Aqua Fit
DESCRIPTION:
URL:https://svfehmarn.de/veranstaltung/training-fitness-aqua-fit/2026-05-12/
LOCATION:Schwimmbad FehMare\, Zur Strandpromenade 6\, Fehmarn\, 23769
CATEGORIES:Aqua Fit,Fitness
ORGANIZER;CN="SV Fehmarn":MAILTO:moin@svfehmarn.de
END:VEVENT
BEGIN:VEVENT
DTSTART;TZID=Europe/Berlin:20260512T193000
DTEND;TZID=Europe/Berlin:20260512T210000
DTSTAMP:20260422T102552
CREATED:20240229T162008Z
LAST-MODIFIED:20260208T162149Z
UID:10048717-1778614200-1778619600@svfehmarn.de
SUMMARY:Training Fußball 1. Herren
DESCRIPTION:
URL:https://svfehmarn.de/veranstaltung/training-fussball-1-herren-grosssporthalle/2026-05-12/
LOCATION:Großsporthalle (Inselschule Fehmarn)\, Gahlendorfer Weg 25\, Fehmarn\, Schleswig-Holstein\, 23769\, Deutschland
CATEGORIES:Fußball,Fußball 1. Herren,Fußball Erwachsene
ORGANIZER;CN="SV Fehmarn":MAILTO:moin@svfehmarn.de
END:VEVENT
BEGIN:VEVENT
DTSTART;TZID=Europe/Berlin:20260512T193000
DTEND;TZID=Europe/Berlin:20260512T210000
DTSTAMP:20260422T102552
CREATED:20240229T162317Z
LAST-MODIFIED:20260208T162136Z
UID:10049500-1778614200-1778619600@svfehmarn.de
SUMMARY:Training Fußball 2. Herren
DESCRIPTION:
URL:https://svfehmarn.de/veranstaltung/training-fussball-2-herren-grosssporthalle/2026-05-12/
LOCATION:Großsporthalle (Inselschule Fehmarn)\, Gahlendorfer Weg 25\, Fehmarn\, Schleswig-Holstein\, 23769\, Deutschland
CATEGORIES:Fußball,Fußball 2. Herren,Fußball Erwachsene
ORGANIZER;CN="SV Fehmarn":MAILTO:moin@svfehmarn.de
END:VEVENT
BEGIN:VEVENT
DTSTART;TZID=Europe/Berlin:20260512T193000
DTEND;TZID=Europe/Berlin:20260512T210000
DTSTAMP:20260422T102552
CREATED:20240229T162440Z
LAST-MODIFIED:20260208T162122Z
UID:10065241-1778614200-1778619600@svfehmarn.de
SUMMARY:Training Fußball 3. Herren
DESCRIPTION:
URL:https://svfehmarn.de/veranstaltung/training-fussball-3-herren-grosssporthalle/2026-05-12/
LOCATION:Großsporthalle (Inselschule Fehmarn)\, Gahlendorfer Weg 25\, Fehmarn\, Schleswig-Holstein\, 23769\, Deutschland
CATEGORIES:Fußball,Fußball 3. Herren,Fußball Erwachsene
ORGANIZER;CN="SV Fehmarn":MAILTO:moin@svfehmarn.de
END:VEVENT
BEGIN:VEVENT
DTSTART;TZID=Europe/Berlin:20260512T200000
DTEND;TZID=Europe/Berlin:20260512T213000
DTSTAMP:20260422T102552
CREATED:20231018T124016Z
LAST-MODIFIED:20260208T162045Z
UID:10027940-1778616000-1778621400@svfehmarn.de
SUMMARY:Training Volleyball Fortgeschritten
DESCRIPTION:Techniktraining
URL:https://svfehmarn.de/veranstaltung/training-volleyball-2/2026-05-12/
LOCATION:Großsporthalle (Inselschule Fehmarn)\, Gahlendorfer Weg 25\, Fehmarn\, Schleswig-Holstein\, 23769\, Deutschland
CATEGORIES:Volleyball,Volleyball Fortgeschrittene
ORGANIZER;CN="SV Fehmarn":MAILTO:moin@svfehmarn.de
END:VEVENT
BEGIN:VEVENT
DTSTART;TZID=Europe/Berlin:20260512T200000
DTEND;TZID=Europe/Berlin:20260512T220000
DTSTAMP:20260422T102552
CREATED:20230730T130239Z
LAST-MODIFIED:20260208T162032Z
UID:10041947-1778616000-1778623200@svfehmarn.de
SUMMARY:Training Badminton Erwachsene
DESCRIPTION:
URL:https://svfehmarn.de/veranstaltung/training-badminton-erwachsene/2026-05-12/
LOCATION:Großsporthalle (Inselschule Fehmarn)\, Gahlendorfer Weg 25\, Fehmarn\, Schleswig-Holstein\, 23769\, Deutschland
CATEGORIES:Badminton,Badminton Erwachsene
ORGANIZER;CN="SV Fehmarn":MAILTO:moin@svfehmarn.de
END:VEVENT
BEGIN:VEVENT
DTSTART;TZID=Europe/Berlin:20260513T150000
DTEND;TZID=Europe/Berlin:20260513T160000
DTSTAMP:20260422T102552
CREATED:20230730T174508Z
LAST-MODIFIED:20260208T162019Z
UID:10026112-1778684400-1778688000@svfehmarn.de
SUMMARY:Training Turnen Eltern-Kind-Turnen
DESCRIPTION:
URL:https://svfehmarn.de/veranstaltung/training-turnen-eltern-kind-turnen/2026-05-13/
LOCATION:Großsporthalle (Inselschule Fehmarn)\, Gahlendorfer Weg 25\, Fehmarn\, Schleswig-Holstein\, 23769\, Deutschland
CATEGORIES:Eltern-Kind-Turnen,Turnen
ORGANIZER;CN="SV Fehmarn":MAILTO:moin@svfehmarn.de
END:VEVENT
BEGIN:VEVENT
DTSTART;TZID=Europe/Berlin:20260513T160000
DTEND;TZID=Europe/Berlin:20260513T170000
DTSTAMP:20260422T102552
CREATED:20240117T165344Z
LAST-MODIFIED:20260208T162005Z
UID:10030292-1778688000-1778691600@svfehmarn.de
SUMMARY:Training Turnen Eltern-Kind-Turnen II
DESCRIPTION:
URL:https://svfehmarn.de/veranstaltung/training-turnen-eltern-kind-turnen-ii-2-2-2/2026-05-13/
LOCATION:Großsporthalle (Inselschule Fehmarn)\, Gahlendorfer Weg 25\, Fehmarn\, Schleswig-Holstein\, 23769\, Deutschland
CATEGORIES:Eltern-Kind-Turnen,Turnen
ORGANIZER;CN="SV Fehmarn":MAILTO:moin@svfehmarn.de
END:VEVENT
BEGIN:VEVENT
DTSTART;TZID=Europe/Berlin:20260513T170000
DTEND;TZID=Europe/Berlin:20260513T180000
DTSTAMP:20260422T102552
CREATED:20230730T132406Z
LAST-MODIFIED:20260208T161945Z
UID:10042221-1778691600-1778695200@svfehmarn.de
SUMMARY:Training Badminton Jugend
DESCRIPTION:
URL:https://svfehmarn.de/veranstaltung/training-badminton-jugend/2026-05-13/
LOCATION:Großsporthalle (Inselschule Fehmarn)\, Gahlendorfer Weg 25\, Fehmarn\, Schleswig-Holstein\, 23769\, Deutschland
CATEGORIES:Badminton,Badminton Jugend
ORGANIZER;CN="SV Fehmarn":MAILTO:moin@svfehmarn.de
END:VEVENT
BEGIN:VEVENT
DTSTART;TZID=Europe/Berlin:20260513T170000
DTEND;TZID=Europe/Berlin:20260513T180000
DTSTAMP:20260422T102552
CREATED:20230730T172344Z
LAST-MODIFIED:20260208T161914Z
UID:10063908-1778691600-1778695200@svfehmarn.de
SUMMARY:Training Sportschützen
DESCRIPTION:
URL:https://svfehmarn.de/veranstaltung/training-sportschuetzen/2026-05-13/
LOCATION:Schießstand Burgstaaken\, Menzelweg 1003\, Fehmarn\, 23769\, Deutschland
CATEGORIES:Sportschützen
ORGANIZER;CN="SV Fehmarn":MAILTO:moin@svfehmarn.de
END:VEVENT
BEGIN:VEVENT
DTSTART;TZID=Europe/Berlin:20260513T170000
DTEND;TZID=Europe/Berlin:20260513T180000
DTSTAMP:20260422T102552
CREATED:20260107T170104Z
LAST-MODIFIED:20260208T160638Z
UID:10012796-1778691600-1778695200@svfehmarn.de
SUMMARY:Training Reha-Sport COPD-Gruppe
DESCRIPTION:
URL:https://svfehmarn.de/veranstaltung/training-reha-gruppe-copd-gruppe-2/2026-05-13/
LOCATION:Großsporthalle (Inselschule Fehmarn)\, Gahlendorfer Weg 25\, Fehmarn\, Schleswig-Holstein\, 23769\, Deutschland
CATEGORIES:COPD - Lungensportgruppe,Reha-Gruppe
ORGANIZER;CN="SV Fehmarn":MAILTO:moin@svfehmarn.de
END:VEVENT
BEGIN:VEVENT
DTSTART;TZID=Europe/Berlin:20260513T170000
DTEND;TZID=Europe/Berlin:20260513T200000
DTSTAMP:20260422T102552
CREATED:20260107T163753Z
LAST-MODIFIED:20260208T160745Z
UID:10020892-1778691600-1778702400@svfehmarn.de
SUMMARY:Training Inliner-Hockey Jugend
DESCRIPTION:
URL:https://svfehmarn.de/veranstaltung/training-inliner-hockey-jugend-2/2026-05-13/
LOCATION:Halle West (Grundschule Burg)\, Ohrtstraße 33\, Fehmarn\, Schleswig-Holstein\, 23769\, Deutschland
CATEGORIES:Inliner-Hockey Jugend
ORGANIZER;CN="SV Fehmarn":MAILTO:moin@svfehmarn.de
END:VEVENT
BEGIN:VEVENT
DTSTART;TZID=Europe/Berlin:20260513T180000
DTEND;TZID=Europe/Berlin:20260513T190000
DTSTAMP:20260422T102552
CREATED:20231227T075005Z
LAST-MODIFIED:20260208T161838Z
UID:10028723-1778695200-1778698800@svfehmarn.de
SUMMARY:Training Dynamic Yoga
DESCRIPTION:
URL:https://svfehmarn.de/veranstaltung/training-dynamic-yoga-3/2026-05-13/
LOCATION:Großsporthalle (Inselschule Fehmarn)\, Gahlendorfer Weg 25\, Fehmarn\, Schleswig-Holstein\, 23769\, Deutschland
CATEGORIES:Dynamic Yoga,Yoga
ORGANIZER;CN="SV Fehmarn":MAILTO:moin@svfehmarn.de
END:VEVENT
BEGIN:VEVENT
DTSTART;TZID=Europe/Berlin:20260513T180000
DTEND;TZID=Europe/Berlin:20260513T190000
DTSTAMP:20260422T102552
CREATED:20241022T084528Z
LAST-MODIFIED:20260208T161821Z
UID:10043312-1778695200-1778698800@svfehmarn.de
SUMMARY:Training Fitness Hot Iron
DESCRIPTION:
URL:https://svfehmarn.de/veranstaltung/training-fitness-hot-iron-2-2/2026-05-13/
LOCATION:Halle West (Grundschule Burg)\, Ohrtstraße 33\, Fehmarn\, Schleswig-Holstein\, 23769\, Deutschland
CATEGORIES:Fitness,Hot Iron
ORGANIZER;CN="SV Fehmarn":MAILTO:moin@svfehmarn.de
END:VEVENT
BEGIN:VEVENT
DTSTART;TZID=Europe/Berlin:20260513T183000
DTEND;TZID=Europe/Berlin:20260513T193000
DTSTAMP:20260422T102552
CREATED:20240504T100056Z
LAST-MODIFIED:20260208T161808Z
UID:10052748-1778697000-1778700600@svfehmarn.de
SUMMARY:Training Fitness Zumba
DESCRIPTION:
URL:https://svfehmarn.de/veranstaltung/training-fitness-zumba-3/2026-05-13/
LOCATION:Sporthalle Landkirchen\, Am Sportplatz\, Fehmarn\, 23769
CATEGORIES:Fitness,Zumba
ORGANIZER;CN="SV Fehmarn":MAILTO:moin@svfehmarn.de
END:VEVENT
BEGIN:VEVENT
DTSTART;TZID=Europe/Berlin:20260513T183000
DTEND;TZID=Europe/Berlin:20260513T200000
DTSTAMP:20260422T102552
CREATED:20230730T161135Z
LAST-MODIFIED:20260208T161755Z
UID:10022719-1778697000-1778702400@svfehmarn.de
SUMMARY:Training Prellball Damen
DESCRIPTION:
URL:https://svfehmarn.de/veranstaltung/training-prellball-damen/2026-05-13/
LOCATION:Großsporthalle (Inselschule Fehmarn)\, Gahlendorfer Weg 25\, Fehmarn\, Schleswig-Holstein\, 23769\, Deutschland
CATEGORIES:Prellball,Prellball Damen
ORGANIZER;CN="SV Fehmarn":MAILTO:moin@svfehmarn.de
END:VEVENT
BEGIN:VEVENT
DTSTART;TZID=Europe/Berlin:20260513T183000
DTEND;TZID=Europe/Berlin:20260513T200000
DTSTAMP:20260422T102552
CREATED:20260107T165636Z
LAST-MODIFIED:20260208T160729Z
UID:10081314-1778697000-1778702400@svfehmarn.de
SUMMARY:Training Reha-Sport Herzgruppe
DESCRIPTION:
URL:https://svfehmarn.de/veranstaltung/training-reha-sport-herzgruppe-grosssporthalle-2/2026-05-13/
LOCATION:Großsporthalle (Inselschule Fehmarn)\, Gahlendorfer Weg 25\, Fehmarn\, Schleswig-Holstein\, 23769\, Deutschland
CATEGORIES:Herzgruppe,Reha-Gruppe
ORGANIZER;CN="SV Fehmarn":MAILTO:moin@svfehmarn.de
END:VEVENT
BEGIN:VEVENT
DTSTART;TZID=Europe/Berlin:20260513T190000
DTEND;TZID=Europe/Berlin:20260513T200000
DTSTAMP:20260422T102552
CREATED:20240814T152229Z
LAST-MODIFIED:20251206T150157Z
UID:10014884-1778698800-1778702400@svfehmarn.de
SUMMARY:Training Fitness Step-Aerobic
DESCRIPTION:
URL:https://svfehmarn.de/veranstaltung/training-fitness-step-aerobic-2-2/2026-05-13/
LOCATION:Halle West (Grundschule Burg)\, Ohrtstraße 33\, Fehmarn\, Schleswig-Holstein\, 23769\, Deutschland
CATEGORIES:Fitness,Step-Aerobic
ORGANIZER;CN="SV Fehmarn":MAILTO:moin@svfehmarn.de
END:VEVENT
BEGIN:VEVENT
DTSTART;TZID=Europe/Berlin:20260513T200000
DTEND;TZID=Europe/Berlin:20260513T220000
DTSTAMP:20260422T102552
CREATED:20251026T211742Z
LAST-MODIFIED:20260208T161737Z
UID:10077721-1778702400-1778709600@svfehmarn.de
SUMMARY:Training Handball Herren
DESCRIPTION:
URL:https://svfehmarn.de/veranstaltung/training-handball-herren-grosssporthalle/2026-05-13/
LOCATION:Großsporthalle (Inselschule Fehmarn)\, Gahlendorfer Weg 25\, Fehmarn\, Schleswig-Holstein\, 23769\, Deutschland
CATEGORIES:Handball,Handball Männliche A-B-Jugend
ORGANIZER;CN="SV Fehmarn":MAILTO:moin@svfehmarn.de
END:VEVENT
BEGIN:VEVENT
DTSTART;TZID=Europe/Berlin:20260513T203000
DTEND;TZID=Europe/Berlin:20260513T220000
DTSTAMP:20260422T102552
CREATED:20230730T155356Z
LAST-MODIFIED:20260208T161717Z
UID:10020370-1778704200-1778709600@svfehmarn.de
SUMMARY:Training Inliner-Hockey Herren
DESCRIPTION:
URL:https://svfehmarn.de/veranstaltung/training-inliner-hockey-herren/2026-05-13/
LOCATION:Halle West (Grundschule Burg)\, Ohrtstraße 33\, Fehmarn\, Schleswig-Holstein\, 23769\, Deutschland
CATEGORIES:Inliner-Hockey,Inliner-Hockey Herren
ORGANIZER;CN="SV Fehmarn":MAILTO:moin@svfehmarn.de
END:VEVENT
BEGIN:VEVENT
DTSTART;TZID=Europe/Berlin:20260514T150000
DTEND;TZID=Europe/Berlin:20260514T163000
DTSTAMP:20260422T102552
CREATED:20231022T125345Z
LAST-MODIFIED:20260208T161705Z
UID:10026896-1778770800-1778776200@svfehmarn.de
SUMMARY:Training Turnen Gerätturnen
DESCRIPTION:
URL:https://svfehmarn.de/veranstaltung/training-turnen-geraetturnen-2/2026-05-14/
LOCATION:Großsporthalle (Inselschule Fehmarn)\, Gahlendorfer Weg 25\, Fehmarn\, Schleswig-Holstein\, 23769\, Deutschland
CATEGORIES:Geräteturnen,Turnen
ORGANIZER;CN="SV Fehmarn":MAILTO:moin@svfehmarn.de
END:VEVENT
BEGIN:VEVENT
DTSTART;TZID=Europe/Berlin:20260514T163000
DTEND;TZID=Europe/Berlin:20260514T180000
DTSTAMP:20260422T102552
CREATED:20251031T201755Z
LAST-MODIFIED:20260208T161651Z
UID:10078499-1778776200-1778781600@svfehmarn.de
SUMMARY:Training Handball Weibliche C-Jugend
DESCRIPTION:
URL:https://svfehmarn.de/veranstaltung/training-handball-weibl-c-jugend-2-2/2026-05-14/
LOCATION:Großsporthalle (Inselschule Fehmarn)\, Gahlendorfer Weg 25\, Fehmarn\, Schleswig-Holstein\, 23769\, Deutschland
CATEGORIES:Handball,Handball Weibliche C-Jugend
ORGANIZER;CN="SV Fehmarn":MAILTO:moin@svfehmarn.de
END:VEVENT
BEGIN:VEVENT
DTSTART;TZID=Europe/Berlin:20260514T163000
DTEND;TZID=Europe/Berlin:20260514T183000
DTSTAMP:20260422T102552
CREATED:20251205T125308Z
LAST-MODIFIED:20260208T160759Z
UID:10079295-1778776200-1778783400@svfehmarn.de
SUMMARY:Training Handball Weibliche D-Jugend
DESCRIPTION:Jahrgang 2011 – 2012
URL:https://svfehmarn.de/veranstaltung/training-handball-weibliche-d-jugend-grosssporthalle-2/2026-05-14/
LOCATION:Großsporthalle (Inselschule Fehmarn)\, Gahlendorfer Weg 25\, Fehmarn\, Schleswig-Holstein\, 23769\, Deutschland
CATEGORIES:Handball,Handball Weibliche D-Jugend
ORGANIZER;CN="SV Fehmarn":MAILTO:moin@svfehmarn.de
END:VEVENT
BEGIN:VEVENT
DTSTART;TZID=Europe/Berlin:20260514T164500
DTEND;TZID=Europe/Berlin:20260514T174500
DTSTAMP:20260422T102552
CREATED:20231122T180745Z
LAST-MODIFIED:20260208T161621Z
UID:10045488-1778777100-1778780700@svfehmarn.de
SUMMARY:Dance-Kids
DESCRIPTION:
URL:https://svfehmarn.de/veranstaltung/training-tanzen-miniclipdancing-1-2-2/2026-05-14/
LOCATION:Großsporthalle (Inselschule Fehmarn)\, Gahlendorfer Weg 25\, Fehmarn\, Schleswig-Holstein\, 23769\, Deutschland
CATEGORIES:Dance-Kids,Tanzen
ORGANIZER;CN="SV Fehmarn":MAILTO:moin@svfehmarn.de
END:VEVENT
BEGIN:VEVENT
DTSTART;TZID=Europe/Berlin:20260514T170000
DTEND;TZID=Europe/Berlin:20260514T183000
DTSTAMP:20260422T102552
CREATED:20230730T143215Z
LAST-MODIFIED:20260208T161603Z
UID:10019063-1778778000-1778783400@svfehmarn.de
SUMMARY:Training Handball Männliche E-Jugend
DESCRIPTION:
URL:https://svfehmarn.de/veranstaltung/training-handball-maennliche-e-jugend-2/2026-05-14/
LOCATION:Halle West (Grundschule Burg)\, Ohrtstraße 33\, Fehmarn\, Schleswig-Holstein\, 23769\, Deutschland
CATEGORIES:Handball,Handball Männliche E-Jugend
ORGANIZER;CN="SV Fehmarn":MAILTO:moin@svfehmarn.de
END:VEVENT
BEGIN:VEVENT
DTSTART;TZID=Europe/Berlin:20260514T170000
DTEND;TZID=Europe/Berlin:20260514T183000
DTSTAMP:20260422T102552
CREATED:20231106T152859Z
LAST-MODIFIED:20260208T161547Z
UID:10080569-1778778000-1778783400@svfehmarn.de
SUMMARY:Training Handball Weibliche C-Jugend
DESCRIPTION:
URL:https://svfehmarn.de/veranstaltung/training-handball-weibl-c-jugend-2/2026-05-14/
LOCATION:Halle West (Grundschule Burg)\, Ohrtstraße 33\, Fehmarn\, Schleswig-Holstein\, 23769\, Deutschland
CATEGORIES:Handball,Handball Weibliche C-Jugend
ORGANIZER;CN="SV Fehmarn":MAILTO:moin@svfehmarn.de
END:VEVENT
BEGIN:VEVENT
DTSTART;TZID=Europe/Berlin:20260514T170000
DTEND;TZID=Europe/Berlin:20260514T183000
DTSTAMP:20260422T102552
CREATED:20231116T163822Z
LAST-MODIFIED:20260208T161534Z
UID:10044653-1778778000-1778783400@svfehmarn.de
SUMMARY:Training Handball Männliche  D-Jugend
DESCRIPTION:Jahrgang 2009 – 2012
URL:https://svfehmarn.de/veranstaltung/training-handball-maennliche-c-d-jugend-4-2/2026-05-14/
LOCATION:Halle West (Grundschule Burg)\, Ohrtstraße 33\, Fehmarn\, Schleswig-Holstein\, 23769\, Deutschland
CATEGORIES:Handball,Handball Männliche C-D-Jugend
ORGANIZER;CN="SV Fehmarn":MAILTO:moin@svfehmarn.de
END:VEVENT
BEGIN:VEVENT
DTSTART;TZID=Europe/Berlin:20260514T170000
DTEND;TZID=Europe/Berlin:20260514T183000
DTSTAMP:20260422T102552
CREATED:20251031T205127Z
LAST-MODIFIED:20260208T161520Z
UID:10080448-1778778000-1778783400@svfehmarn.de
SUMMARY:Training Handball Weibliche E-Jugend
DESCRIPTION:Jahrgang 2013 – 2014
URL:https://svfehmarn.de/veranstaltung/training-handball-weibliche-e-jugend-3/2026-05-14/
LOCATION:Halle West (Grundschule Burg)\, Ohrtstraße 33\, Fehmarn\, Schleswig-Holstein\, 23769\, Deutschland
CATEGORIES:Handball,Handball Weibliche E-Jugend
ORGANIZER;CN="SV Fehmarn":MAILTO:moin@svfehmarn.de
END:VEVENT
BEGIN:VEVENT
DTSTART;TZID=Europe/Berlin:20260514T170000
DTEND;TZID=Europe/Berlin:20260514T183000
DTSTAMP:20260422T102552
CREATED:20251205T124935Z
LAST-MODIFIED:20260208T160814Z
UID:10080078-1778778000-1778783400@svfehmarn.de
SUMMARY:Training Handball Weibliche E-Jugend
DESCRIPTION:Jahrgang 2013 – 2014
URL:https://svfehmarn.de/veranstaltung/training-handball-weibliche-e-jugend-3-2/2026-05-14/
LOCATION:Halle West (Grundschule Burg)\, Ohrtstraße 33\, Fehmarn\, Schleswig-Holstein\, 23769\, Deutschland
CATEGORIES:Handball,Handball Weibliche E-Jugend
ORGANIZER;CN="SV Fehmarn":MAILTO:moin@svfehmarn.de
END:VEVENT
END:VCALENDAR