BEGIN:VCALENDAR
VERSION:2.0
PRODID:-//SV Fehmarn - ECPv6.15.18//NONSGML v1.0//EN
CALSCALE:GREGORIAN
METHOD:PUBLISH
X-ORIGINAL-URL:https://svfehmarn.de
X-WR-CALDESC:Veranstaltungen für SV Fehmarn
REFRESH-INTERVAL;VALUE=DURATION:PT1H
X-Robots-Tag:noindex
X-PUBLISHED-TTL:PT1H
BEGIN:VTIMEZONE
TZID:Europe/Berlin
BEGIN:DAYLIGHT
TZOFFSETFROM:+0100
TZOFFSETTO:+0200
TZNAME:CEST
DTSTART:20250330T010000
END:DAYLIGHT
BEGIN:STANDARD
TZOFFSETFROM:+0200
TZOFFSETTO:+0100
TZNAME:CET
DTSTART:20251026T010000
END:STANDARD
BEGIN:DAYLIGHT
TZOFFSETFROM:+0100
TZOFFSETTO:+0200
TZNAME:CEST
DTSTART:20260329T010000
END:DAYLIGHT
BEGIN:STANDARD
TZOFFSETFROM:+0200
TZOFFSETTO:+0100
TZNAME:CET
DTSTART:20261025T010000
END:STANDARD
BEGIN:DAYLIGHT
TZOFFSETFROM:+0100
TZOFFSETTO:+0200
TZNAME:CEST
DTSTART:20270328T010000
END:DAYLIGHT
BEGIN:STANDARD
TZOFFSETFROM:+0200
TZOFFSETTO:+0100
TZNAME:CET
DTSTART:20271031T010000
END:STANDARD
END:VTIMEZONE
BEGIN:VEVENT
DTSTART;TZID=Europe/Berlin:20260318T170000
DTEND;TZID=Europe/Berlin:20260318T200000
DTSTAMP:20260420T102329
CREATED:20260107T163753Z
LAST-MODIFIED:20260208T160745Z
UID:10020884-1773853200-1773864000@svfehmarn.de
SUMMARY:Training Inliner-Hockey Jugend
DESCRIPTION:
URL:https://svfehmarn.de/veranstaltung/training-inliner-hockey-jugend-2/2026-03-18/
LOCATION:Halle West (Grundschule Burg)\, Ohrtstraße 33\, Fehmarn\, Schleswig-Holstein\, 23769\, Deutschland
CATEGORIES:Inliner-Hockey Jugend
ORGANIZER;CN="SV Fehmarn":MAILTO:moin@svfehmarn.de
END:VEVENT
BEGIN:VEVENT
DTSTART;TZID=Europe/Berlin:20260318T170000
DTEND;TZID=Europe/Berlin:20260318T180000
DTSTAMP:20260420T102329
CREATED:20260107T170104Z
LAST-MODIFIED:20260208T160638Z
UID:10012788-1773853200-1773856800@svfehmarn.de
SUMMARY:Training Reha-Sport COPD-Gruppe
DESCRIPTION:
URL:https://svfehmarn.de/veranstaltung/training-reha-gruppe-copd-gruppe-2/2026-03-18/
LOCATION:Großsporthalle (Inselschule Fehmarn)\, Gahlendorfer Weg 25\, Fehmarn\, Schleswig-Holstein\, 23769\, Deutschland
CATEGORIES:COPD - Lungensportgruppe,Reha-Gruppe
ORGANIZER;CN="SV Fehmarn":MAILTO:moin@svfehmarn.de
END:VEVENT
BEGIN:VEVENT
DTSTART;TZID=Europe/Berlin:20260318T170000
DTEND;TZID=Europe/Berlin:20260318T180000
DTSTAMP:20260420T102329
CREATED:20230730T172344Z
LAST-MODIFIED:20260208T161914Z
UID:10063850-1773853200-1773856800@svfehmarn.de
SUMMARY:Training Sportschützen
DESCRIPTION:
URL:https://svfehmarn.de/veranstaltung/training-sportschuetzen/2026-03-18/
LOCATION:Schießstand Burgstaaken\, Menzelweg 1003\, Fehmarn\, 23769\, Deutschland
CATEGORIES:Sportschützen
ORGANIZER;CN="SV Fehmarn":MAILTO:moin@svfehmarn.de
END:VEVENT
BEGIN:VEVENT
DTSTART;TZID=Europe/Berlin:20260318T170000
DTEND;TZID=Europe/Berlin:20260318T180000
DTSTAMP:20260420T102329
CREATED:20230730T132406Z
LAST-MODIFIED:20260208T161945Z
UID:10042213-1773853200-1773856800@svfehmarn.de
SUMMARY:Training Badminton Jugend
DESCRIPTION:
URL:https://svfehmarn.de/veranstaltung/training-badminton-jugend/2026-03-18/
LOCATION:Großsporthalle (Inselschule Fehmarn)\, Gahlendorfer Weg 25\, Fehmarn\, Schleswig-Holstein\, 23769\, Deutschland
CATEGORIES:Badminton,Badminton Jugend
ORGANIZER;CN="SV Fehmarn":MAILTO:moin@svfehmarn.de
END:VEVENT
BEGIN:VEVENT
DTSTART;TZID=Europe/Berlin:20260318T160000
DTEND;TZID=Europe/Berlin:20260318T170000
DTSTAMP:20260420T102329
CREATED:20240117T165344Z
LAST-MODIFIED:20260208T162005Z
UID:10030284-1773849600-1773853200@svfehmarn.de
SUMMARY:Training Turnen Eltern-Kind-Turnen II
DESCRIPTION:
URL:https://svfehmarn.de/veranstaltung/training-turnen-eltern-kind-turnen-ii-2-2-2/2026-03-18/
LOCATION:Großsporthalle (Inselschule Fehmarn)\, Gahlendorfer Weg 25\, Fehmarn\, Schleswig-Holstein\, 23769\, Deutschland
CATEGORIES:Eltern-Kind-Turnen,Turnen
ORGANIZER;CN="SV Fehmarn":MAILTO:moin@svfehmarn.de
END:VEVENT
BEGIN:VEVENT
DTSTART;TZID=Europe/Berlin:20260318T150000
DTEND;TZID=Europe/Berlin:20260318T160000
DTSTAMP:20260420T102329
CREATED:20230730T174508Z
LAST-MODIFIED:20260208T162019Z
UID:10026104-1773846000-1773849600@svfehmarn.de
SUMMARY:Training Turnen Eltern-Kind-Turnen
DESCRIPTION:
URL:https://svfehmarn.de/veranstaltung/training-turnen-eltern-kind-turnen/2026-03-18/
LOCATION:Großsporthalle (Inselschule Fehmarn)\, Gahlendorfer Weg 25\, Fehmarn\, Schleswig-Holstein\, 23769\, Deutschland
CATEGORIES:Eltern-Kind-Turnen,Turnen
ORGANIZER;CN="SV Fehmarn":MAILTO:moin@svfehmarn.de
END:VEVENT
BEGIN:VEVENT
DTSTART;TZID=Europe/Berlin:20260317T200000
DTEND;TZID=Europe/Berlin:20260317T220000
DTSTAMP:20260420T102329
CREATED:20230730T130239Z
LAST-MODIFIED:20260208T162032Z
UID:10041939-1773777600-1773784800@svfehmarn.de
SUMMARY:Training Badminton Erwachsene
DESCRIPTION:
URL:https://svfehmarn.de/veranstaltung/training-badminton-erwachsene/2026-03-17/
LOCATION:Großsporthalle (Inselschule Fehmarn)\, Gahlendorfer Weg 25\, Fehmarn\, Schleswig-Holstein\, 23769\, Deutschland
CATEGORIES:Badminton,Badminton Erwachsene
ORGANIZER;CN="SV Fehmarn":MAILTO:moin@svfehmarn.de
END:VEVENT
BEGIN:VEVENT
DTSTART;TZID=Europe/Berlin:20260317T200000
DTEND;TZID=Europe/Berlin:20260317T213000
DTSTAMP:20260420T102329
CREATED:20231018T124016Z
LAST-MODIFIED:20260208T162045Z
UID:10027932-1773777600-1773783000@svfehmarn.de
SUMMARY:Training Volleyball Fortgeschritten
DESCRIPTION:Techniktraining
URL:https://svfehmarn.de/veranstaltung/training-volleyball-2/2026-03-17/
LOCATION:Großsporthalle (Inselschule Fehmarn)\, Gahlendorfer Weg 25\, Fehmarn\, Schleswig-Holstein\, 23769\, Deutschland
CATEGORIES:Volleyball,Volleyball Fortgeschrittene
ORGANIZER;CN="SV Fehmarn":MAILTO:moin@svfehmarn.de
END:VEVENT
BEGIN:VEVENT
DTSTART;TZID=Europe/Berlin:20260317T193000
DTEND;TZID=Europe/Berlin:20260317T210000
DTSTAMP:20260420T102329
CREATED:20240229T162440Z
LAST-MODIFIED:20260208T162122Z
UID:10050275-1773775800-1773781200@svfehmarn.de
SUMMARY:Training Fußball 3. Herren
DESCRIPTION:
URL:https://svfehmarn.de/veranstaltung/training-fussball-3-herren-grosssporthalle/2026-03-17/
LOCATION:Großsporthalle (Inselschule Fehmarn)\, Gahlendorfer Weg 25\, Fehmarn\, Schleswig-Holstein\, 23769\, Deutschland
CATEGORIES:Fußball,Fußball 3. Herren,Fußball Erwachsene
ORGANIZER;CN="SV Fehmarn":MAILTO:moin@svfehmarn.de
END:VEVENT
BEGIN:VEVENT
DTSTART;TZID=Europe/Berlin:20260317T193000
DTEND;TZID=Europe/Berlin:20260317T210000
DTSTAMP:20260420T102329
CREATED:20240229T162317Z
LAST-MODIFIED:20260208T162136Z
UID:10049492-1773775800-1773781200@svfehmarn.de
SUMMARY:Training Fußball 2. Herren
DESCRIPTION:
URL:https://svfehmarn.de/veranstaltung/training-fussball-2-herren-grosssporthalle/2026-03-17/
LOCATION:Großsporthalle (Inselschule Fehmarn)\, Gahlendorfer Weg 25\, Fehmarn\, Schleswig-Holstein\, 23769\, Deutschland
CATEGORIES:Fußball,Fußball 2. Herren,Fußball Erwachsene
ORGANIZER;CN="SV Fehmarn":MAILTO:moin@svfehmarn.de
END:VEVENT
BEGIN:VEVENT
DTSTART;TZID=Europe/Berlin:20260317T193000
DTEND;TZID=Europe/Berlin:20260317T210000
DTSTAMP:20260420T102329
CREATED:20240229T162008Z
LAST-MODIFIED:20260208T162149Z
UID:10048709-1773775800-1773781200@svfehmarn.de
SUMMARY:Training Fußball 1. Herren
DESCRIPTION:
URL:https://svfehmarn.de/veranstaltung/training-fussball-1-herren-grosssporthalle/2026-03-17/
LOCATION:Großsporthalle (Inselschule Fehmarn)\, Gahlendorfer Weg 25\, Fehmarn\, Schleswig-Holstein\, 23769\, Deutschland
CATEGORIES:Fußball,Fußball 1. Herren,Fußball Erwachsene
ORGANIZER;CN="SV Fehmarn":MAILTO:moin@svfehmarn.de
END:VEVENT
BEGIN:VEVENT
DTSTART;TZID=Europe/Berlin:20260317T193000
DTEND;TZID=Europe/Berlin:20260317T201500
DTSTAMP:20260420T102329
CREATED:20231106T160435Z
LAST-MODIFIED:20260208T162204Z
UID:10038776-1773775800-1773778500@svfehmarn.de
SUMMARY:Training Fitness Aqua Fit
DESCRIPTION:
URL:https://svfehmarn.de/veranstaltung/training-fitness-aqua-fit/2026-03-17/
LOCATION:Schwimmbad FehMare\, Zur Strandpromenade 6\, Fehmarn\, 23769
CATEGORIES:Aqua Fit,Fitness
ORGANIZER;CN="SV Fehmarn":MAILTO:moin@svfehmarn.de
END:VEVENT
BEGIN:VEVENT
DTSTART;TZID=Europe/Berlin:20260317T190000
DTEND;TZID=Europe/Berlin:20260317T200000
DTSTAMP:20260420T102329
CREATED:20231108T070807Z
LAST-MODIFIED:20260208T162218Z
UID:10039838-1773774000-1773777600@svfehmarn.de
SUMMARY:Training Pilates
DESCRIPTION:
URL:https://svfehmarn.de/veranstaltung/pilates/2026-03-17/
LOCATION:Halle West (Grundschule Burg)\, Ohrtstraße 33\, Fehmarn\, Schleswig-Holstein\, 23769\, Deutschland
CATEGORIES:Pilates,Pilates
ORGANIZER;CN="SV Fehmarn":MAILTO:moin@svfehmarn.de
END:VEVENT
BEGIN:VEVENT
DTSTART;TZID=Europe/Berlin:20260317T190000
DTEND;TZID=Europe/Berlin:20260317T200000
DTSTAMP:20260420T102329
CREATED:20230730T155147Z
LAST-MODIFIED:20260208T162232Z
UID:10019840-1773774000-1773777600@svfehmarn.de
SUMMARY:Training Inliner-Hockey Damen
DESCRIPTION:
URL:https://svfehmarn.de/veranstaltung/training-inliner-hockey-damen/2026-03-17/
LOCATION:Sporthalle Puttgarden\, Marienleuchter Weg 4\, Fehmarn\, Schleswig-Holstein\, 23769\, Deutschland
CATEGORIES:Inliner-Hockey,Inliner-Hockey Damen
ORGANIZER;CN="SV Fehmarn":MAILTO:moin@svfehmarn.de
END:VEVENT
BEGIN:VEVENT
DTSTART;TZID=Europe/Berlin:20260317T183000
DTEND;TZID=Europe/Berlin:20260317T213000
DTSTAMP:20260420T102329
CREATED:20260208T122859Z
LAST-MODIFIED:20260208T124918Z
UID:10081376-1773772200-1773783000@svfehmarn.de
SUMMARY:Training Darts Erwachsene
DESCRIPTION:Bitte vorher telefonisch nachfragen\, ob das Trainibg stattfindet.
URL:https://svfehmarn.de/veranstaltung/training-darts-erwachsene-2-2/2026-03-17/
LOCATION:Teestube\, Gahlendorfer Weg 25\, Fehmarn\, Schleswig-Holstein\, 23769\, Deutschland
CATEGORIES:Darts,Darts Erwachsene
ORGANIZER;CN="SV Fehmarn":MAILTO:moin@svfehmarn.de
END:VEVENT
BEGIN:VEVENT
DTSTART;TZID=Europe/Berlin:20260317T183000
DTEND;TZID=Europe/Berlin:20260317T200000
DTSTAMP:20260420T102329
CREATED:20251026T204614Z
LAST-MODIFIED:20260208T162252Z
UID:10076656-1773772200-1773777600@svfehmarn.de
SUMMARY:Training Handball Weibliche A-Jugend / Damen
DESCRIPTION:
URL:https://svfehmarn.de/veranstaltung/training-handball-weibliche-a-jugend-damen-2/2026-03-17/
LOCATION:Großsporthalle (Inselschule Fehmarn)\, Gahlendorfer Weg 25\, Fehmarn\, Schleswig-Holstein\, 23769\, Deutschland
CATEGORIES:Handball,Handball Weibliche A-Jugend / Damen
ORGANIZER;CN="SV Fehmarn":MAILTO:moin@svfehmarn.de
END:VEVENT
BEGIN:VEVENT
DTSTART;TZID=Europe/Berlin:20260317T180000
DTEND;TZID=Europe/Berlin:20260317T200000
DTSTAMP:20260420T102329
CREATED:20250122T153330Z
LAST-MODIFIED:20260208T162308Z
UID:10058118-1773770400-1773777600@svfehmarn.de
SUMMARY:Training Schwimmen
DESCRIPTION:
URL:https://svfehmarn.de/veranstaltung/training-schwimmen-2-3/2026-03-17/
LOCATION:Schwimmbad FehMare\, Zur Strandpromenade 6\, Fehmarn\, 23769
CATEGORIES:Schwimmen
ORGANIZER;CN="SV Fehmarn":MAILTO:moin@svfehmarn.de
END:VEVENT
BEGIN:VEVENT
DTSTART;TZID=Europe/Berlin:20260317T180000
DTEND;TZID=Europe/Berlin:20260317T193000
DTSTAMP:20260420T102329
CREATED:20231106T151259Z
LAST-MODIFIED:20260208T162337Z
UID:10080623-1773770400-1773775800@svfehmarn.de
SUMMARY:Training Handball Weibliche B-Jugend
DESCRIPTION:
URL:https://svfehmarn.de/veranstaltung/training-handball-weibliche-b-jugend-3/2026-03-17/
LOCATION:Großsporthalle (Inselschule Fehmarn)\, Gahlendorfer Weg 25\, Fehmarn\, Schleswig-Holstein\, 23769\, Deutschland
CATEGORIES:Handball Weibliche B-Jugend
ORGANIZER;CN="SV Fehmarn":MAILTO:moin@svfehmarn.de
END:VEVENT
BEGIN:VEVENT
DTSTART;TZID=Europe/Berlin:20260317T174500
DTEND;TZID=Europe/Berlin:20260317T184500
DTSTAMP:20260420T102329
CREATED:20260208T140519Z
LAST-MODIFIED:20260208T140610Z
UID:10081712-1773769500-1773773100@svfehmarn.de
SUMMARY:Videoclip Dancing
DESCRIPTION:
URL:https://svfehmarn.de/veranstaltung/videoclip-dancing/2026-03-17/
LOCATION:Großsporthalle (Inselschule Fehmarn)\, Gahlendorfer Weg 25\, Fehmarn\, Schleswig-Holstein\, 23769\, Deutschland
CATEGORIES:Tanzen,Videoclip Dancing
ORGANIZER;CN="SV Fehmarn":MAILTO:moin@svfehmarn.de
END:VEVENT
BEGIN:VEVENT
DTSTART;TZID=Europe/Berlin:20260317T173000
DTEND;TZID=Europe/Berlin:20260317T190000
DTSTAMP:20260420T102329
CREATED:20251027T203747Z
LAST-MODIFIED:20260208T162350Z
UID:10077973-1773768600-1773774000@svfehmarn.de
SUMMARY:Training Handball Weibliche B-Jugend
DESCRIPTION:
URL:https://svfehmarn.de/veranstaltung/training-handball-weibliche-b-jugend-3-2/2026-03-17/
LOCATION:Großsporthalle (Inselschule Fehmarn)\, Gahlendorfer Weg 25\, Fehmarn\, Schleswig-Holstein\, 23769\, Deutschland
CATEGORIES:Handball Weibliche B-Jugend
ORGANIZER;CN="SV Fehmarn":MAILTO:moin@svfehmarn.de
END:VEVENT
BEGIN:VEVENT
DTSTART;TZID=Europe/Berlin:20260317T170000
DTEND;TZID=Europe/Berlin:20260317T183000
DTSTAMP:20260420T102329
CREATED:20231106T152738Z
LAST-MODIFIED:20260208T162404Z
UID:10080684-1773766800-1773772200@svfehmarn.de
SUMMARY:Training Handball weibl. C-Jugend
DESCRIPTION:
URL:https://svfehmarn.de/veranstaltung/training-handball-weibl-c-jugend/2026-03-17/
LOCATION:Großsporthalle (Inselschule Fehmarn)\, Gahlendorfer Weg 25\, Fehmarn\, Schleswig-Holstein\, 23769\, Deutschland
CATEGORIES:Handball,Handball Weibliche C-Jugend
ORGANIZER;CN="SV Fehmarn":MAILTO:moin@svfehmarn.de
END:VEVENT
BEGIN:VEVENT
DTSTART;TZID=Europe/Berlin:20260317T160000
DTEND;TZID=Europe/Berlin:20260317T170000
DTSTAMP:20260420T102329
CREATED:20251013T212318Z
LAST-MODIFIED:20260208T140109Z
UID:10074838-1773763200-1773766800@svfehmarn.de
SUMMARY:Dance4Kids
DESCRIPTION:
URL:https://svfehmarn.de/veranstaltung/dance4kids-grosssporthalle-gymnastikraum/2026-03-17/
LOCATION:Großsporthalle (Inselschule Fehmarn)\, Gahlendorfer Weg 25\, Fehmarn\, Schleswig-Holstein\, 23769\, Deutschland
CATEGORIES:Dance4Kids,Tanzen
ORGANIZER;CN="SV Fehmarn":MAILTO:moin@svfehmarn.de
END:VEVENT
BEGIN:VEVENT
DTSTART;TZID=Europe/Berlin:20260317T150000
DTEND;TZID=Europe/Berlin:20260317T163000
DTSTAMP:20260420T102329
CREATED:20230730T154313Z
LAST-MODIFIED:20260208T162419Z
UID:10019577-1773759600-1773765000@svfehmarn.de
SUMMARY:Training Handball Weibliche E-Jugend
DESCRIPTION:Jahrgang 2013 – 2014
URL:https://svfehmarn.de/veranstaltung/training-handball-weibliche-e-jugend/2026-03-17/
LOCATION:Großsporthalle (Inselschule Fehmarn)\, Gahlendorfer Weg 25\, Fehmarn\, Schleswig-Holstein\, 23769\, Deutschland
CATEGORIES:Handball,Handball Weibliche E-Jugend
ORGANIZER;CN="SV Fehmarn":MAILTO:moin@svfehmarn.de
END:VEVENT
BEGIN:VEVENT
DTSTART;TZID=Europe/Berlin:20260317T150000
DTEND;TZID=Europe/Berlin:20260317T155000
DTSTAMP:20260420T102329
CREATED:20251013T220845Z
LAST-MODIFIED:20260208T162436Z
UID:10075612-1773759600-1773762600@svfehmarn.de
SUMMARY:Kindertanzen
DESCRIPTION:
URL:https://svfehmarn.de/veranstaltung/kindertanzengrosssporthalle-gymnastikraum/2026-03-17/
LOCATION:Großsporthalle (Inselschule Fehmarn)\, Gahlendorfer Weg 25\, Fehmarn\, Schleswig-Holstein\, 23769\, Deutschland
CATEGORIES:Kindertanzen,Tanzen
ORGANIZER;CN="SV Fehmarn":MAILTO:moin@svfehmarn.de
END:VEVENT
BEGIN:VEVENT
DTSTART;TZID=Europe/Berlin:20260316T200000
DTEND;TZID=Europe/Berlin:20260316T220000
DTSTAMP:20260420T102329
CREATED:20260107T165056Z
LAST-MODIFIED:20260208T160654Z
UID:10081138-1773691200-1773698400@svfehmarn.de
SUMMARY:Training Prellball Herren
DESCRIPTION:
URL:https://svfehmarn.de/veranstaltung/training-prellball-herren-2/2026-03-16/
LOCATION:Großsporthalle (Inselschule Fehmarn)\, Gahlendorfer Weg 25\, Fehmarn\, Schleswig-Holstein\, 23769\, Deutschland
CATEGORIES:Prellball,Prellball Herren
ORGANIZER;CN="SV Fehmarn":MAILTO:moin@svfehmarn.de
END:VEVENT
BEGIN:VEVENT
DTSTART;TZID=Europe/Berlin:20260316T200000
DTEND;TZID=Europe/Berlin:20260316T220000
DTSTAMP:20260420T102329
CREATED:20231110T143606Z
LAST-MODIFIED:20260208T162512Z
UID:10047859-1773691200-1773698400@svfehmarn.de
SUMMARY:Training Tischtennis Erwachsene
DESCRIPTION:
URL:https://svfehmarn.de/veranstaltung/training-tischtennis-erwachsene-grosssporthalle/2026-03-16/
LOCATION:Großsporthalle (Inselschule Fehmarn)\, Gahlendorfer Weg 25\, Fehmarn\, Schleswig-Holstein\, 23769\, Deutschland
CATEGORIES:Tischtennis,Tischtennis Erwachsene
ORGANIZER;CN="SV Fehmarn":MAILTO:moin@svfehmarn.de
END:VEVENT
BEGIN:VEVENT
DTSTART;TZID=Europe/Berlin:20260316T200000
DTEND;TZID=Europe/Berlin:20260316T220000
DTSTAMP:20260420T102329
CREATED:20230730T175105Z
LAST-MODIFIED:20260208T162526Z
UID:10027671-1773691200-1773698400@svfehmarn.de
SUMMARY:Training Turnen Altherrenturnen
DESCRIPTION:
URL:https://svfehmarn.de/veranstaltung/training-turnen-altherrenturnen/2026-03-16/
LOCATION:Großsporthalle (Inselschule Fehmarn)\, Gahlendorfer Weg 25\, Fehmarn\, Schleswig-Holstein\, 23769\, Deutschland
CATEGORIES:Altherrenturnen,Turnen
ORGANIZER;CN="SV Fehmarn":MAILTO:moin@svfehmarn.de
END:VEVENT
BEGIN:VEVENT
DTSTART;TZID=Europe/Berlin:20260316T193000
DTEND;TZID=Europe/Berlin:20260316T203000
DTSTAMP:20260420T102329
CREATED:20231110T155734Z
LAST-MODIFIED:20260208T162546Z
UID:10043565-1773689400-1773693000@svfehmarn.de
SUMMARY:Ladies-Workout
DESCRIPTION:
URL:https://svfehmarn.de/veranstaltung/ladies-workout-halle-west/2026-03-16/
LOCATION:Halle West (Grundschule Burg)\, Ohrtstraße 33\, Fehmarn\, Schleswig-Holstein\, 23769\, Deutschland
CATEGORIES:Fitness,Ladies-Workout
ORGANIZER;CN="SV Fehmarn":MAILTO:moin@svfehmarn.de
END:VEVENT
BEGIN:VEVENT
DTSTART;TZID=Europe/Berlin:20260316T193000
DTEND;TZID=Europe/Berlin:20260316T203000
DTSTAMP:20260420T102329
CREATED:20230730T133634Z
LAST-MODIFIED:20260208T162558Z
UID:10014354-1773689400-1773693000@svfehmarn.de
SUMMARY:Training Fitness Bauch-Beine-Po
DESCRIPTION:
URL:https://svfehmarn.de/veranstaltung/training-fitness-bauch-beine-po/2026-03-16/
LOCATION:Halle West (Grundschule Burg)\, Ohrtstraße 33\, Fehmarn\, Schleswig-Holstein\, 23769\, Deutschland
CATEGORIES:Bauch-Beine-Po,Fitness
ORGANIZER;CN="SV Fehmarn":MAILTO:moin@svfehmarn.de
END:VEVENT
BEGIN:VEVENT
DTSTART;TZID=Europe/Berlin:20260316T190000
DTEND;TZID=Europe/Berlin:20260316T223000
DTSTAMP:20260420T102329
CREATED:20250209T110344Z
LAST-MODIFIED:20260208T162610Z
UID:10058939-1773687600-1773700200@svfehmarn.de
SUMMARY:Training Tischtennis Erwachsene
DESCRIPTION:
URL:https://svfehmarn.de/veranstaltung/training-tischtennis-erwachsene-2-2/2026-03-16/
LOCATION:Großsporthalle (Inselschule Fehmarn)\, Gahlendorfer Weg 25\, Fehmarn\, Schleswig-Holstein\, 23769\, Deutschland
CATEGORIES:Tischtennis,Tischtennis Erwachsene
ORGANIZER;CN="SV Fehmarn":MAILTO:moin@svfehmarn.de
END:VEVENT
END:VCALENDAR