BEGIN:VCALENDAR
VERSION:2.0
PRODID:-//SV Fehmarn - ECPv6.15.18//NONSGML v1.0//EN
CALSCALE:GREGORIAN
METHOD:PUBLISH
X-WR-CALNAME:SV Fehmarn
X-ORIGINAL-URL:https://svfehmarn.de
X-WR-CALDESC:Veranstaltungen für SV Fehmarn
REFRESH-INTERVAL;VALUE=DURATION:PT1H
X-Robots-Tag:noindex
X-PUBLISHED-TTL:PT1H
BEGIN:VTIMEZONE
TZID:Europe/Berlin
BEGIN:DAYLIGHT
TZOFFSETFROM:+0100
TZOFFSETTO:+0200
TZNAME:CEST
DTSTART:20250330T010000
END:DAYLIGHT
BEGIN:STANDARD
TZOFFSETFROM:+0200
TZOFFSETTO:+0100
TZNAME:CET
DTSTART:20251026T010000
END:STANDARD
BEGIN:DAYLIGHT
TZOFFSETFROM:+0100
TZOFFSETTO:+0200
TZNAME:CEST
DTSTART:20260329T010000
END:DAYLIGHT
BEGIN:STANDARD
TZOFFSETFROM:+0200
TZOFFSETTO:+0100
TZNAME:CET
DTSTART:20261025T010000
END:STANDARD
BEGIN:DAYLIGHT
TZOFFSETFROM:+0100
TZOFFSETTO:+0200
TZNAME:CEST
DTSTART:20270328T010000
END:DAYLIGHT
BEGIN:STANDARD
TZOFFSETFROM:+0200
TZOFFSETTO:+0100
TZNAME:CET
DTSTART:20271031T010000
END:STANDARD
END:VTIMEZONE
BEGIN:VEVENT
DTSTART;TZID=Europe/Berlin:20260423T190000
DTEND;TZID=Europe/Berlin:20260423T204500
DTSTAMP:20260423T131050
CREATED:20240229T163108Z
LAST-MODIFIED:20260208T161340Z
UID:10051848-1776970800-1776977100@svfehmarn.de
SUMMARY:Training Fußball Frauen
DESCRIPTION:
URL:https://svfehmarn.de/veranstaltung/training-fussball-frauenmannschaft-grosssporthalle-2/2026-04-23/
LOCATION:Großsporthalle (Inselschule Fehmarn)\, Gahlendorfer Weg 25\, Fehmarn\, Schleswig-Holstein\, 23769\, Deutschland
CATEGORIES:Fußball,Fußball Erwachsene,Fußball Frauenmannschaft
ORGANIZER;CN="SV Fehmarn":MAILTO:moin@svfehmarn.de
END:VEVENT
BEGIN:VEVENT
DTSTART;TZID=Europe/Berlin:20260427T190000
DTEND;TZID=Europe/Berlin:20260427T204500
DTSTAMP:20260423T131050
CREATED:20240229T163038Z
LAST-MODIFIED:20260208T162643Z
UID:10051326-1777316400-1777322700@svfehmarn.de
SUMMARY:Training Fußball Frauenmannschaft
DESCRIPTION:
URL:https://svfehmarn.de/veranstaltung/training-fussball-frauenmannschaft-grosssporthalle/2026-04-27/
LOCATION:Großsporthalle (Inselschule Fehmarn)\, Gahlendorfer Weg 25\, Fehmarn\, Schleswig-Holstein\, 23769\, Deutschland
CATEGORIES:Fußball,Fußball Erwachsene,Fußball Frauenmannschaft
ORGANIZER;CN="SV Fehmarn":MAILTO:moin@svfehmarn.de
END:VEVENT
BEGIN:VEVENT
DTSTART;TZID=Europe/Berlin:20260430T190000
DTEND;TZID=Europe/Berlin:20260430T204500
DTSTAMP:20260423T131050
CREATED:20240229T163108Z
LAST-MODIFIED:20260208T161340Z
UID:10051849-1777575600-1777581900@svfehmarn.de
SUMMARY:Training Fußball Frauen
DESCRIPTION:
URL:https://svfehmarn.de/veranstaltung/training-fussball-frauenmannschaft-grosssporthalle-2/2026-04-30/
LOCATION:Großsporthalle (Inselschule Fehmarn)\, Gahlendorfer Weg 25\, Fehmarn\, Schleswig-Holstein\, 23769\, Deutschland
CATEGORIES:Fußball,Fußball Erwachsene,Fußball Frauenmannschaft
ORGANIZER;CN="SV Fehmarn":MAILTO:moin@svfehmarn.de
END:VEVENT
BEGIN:VEVENT
DTSTART;TZID=Europe/Berlin:20260504T190000
DTEND;TZID=Europe/Berlin:20260504T204500
DTSTAMP:20260423T131050
CREATED:20240229T163038Z
LAST-MODIFIED:20260208T162643Z
UID:10051327-1777921200-1777927500@svfehmarn.de
SUMMARY:Training Fußball Frauenmannschaft
DESCRIPTION:
URL:https://svfehmarn.de/veranstaltung/training-fussball-frauenmannschaft-grosssporthalle/2026-05-04/
LOCATION:Großsporthalle (Inselschule Fehmarn)\, Gahlendorfer Weg 25\, Fehmarn\, Schleswig-Holstein\, 23769\, Deutschland
CATEGORIES:Fußball,Fußball Erwachsene,Fußball Frauenmannschaft
ORGANIZER;CN="SV Fehmarn":MAILTO:moin@svfehmarn.de
END:VEVENT
BEGIN:VEVENT
DTSTART;TZID=Europe/Berlin:20260507T190000
DTEND;TZID=Europe/Berlin:20260507T204500
DTSTAMP:20260423T131050
CREATED:20240229T163108Z
LAST-MODIFIED:20260208T161340Z
UID:10051850-1778180400-1778186700@svfehmarn.de
SUMMARY:Training Fußball Frauen
DESCRIPTION:
URL:https://svfehmarn.de/veranstaltung/training-fussball-frauenmannschaft-grosssporthalle-2/2026-05-07/
LOCATION:Großsporthalle (Inselschule Fehmarn)\, Gahlendorfer Weg 25\, Fehmarn\, Schleswig-Holstein\, 23769\, Deutschland
CATEGORIES:Fußball,Fußball Erwachsene,Fußball Frauenmannschaft
ORGANIZER;CN="SV Fehmarn":MAILTO:moin@svfehmarn.de
END:VEVENT
BEGIN:VEVENT
DTSTART;TZID=Europe/Berlin:20260511T190000
DTEND;TZID=Europe/Berlin:20260511T204500
DTSTAMP:20260423T131050
CREATED:20240229T163038Z
LAST-MODIFIED:20260208T162643Z
UID:10051328-1778526000-1778532300@svfehmarn.de
SUMMARY:Training Fußball Frauenmannschaft
DESCRIPTION:
URL:https://svfehmarn.de/veranstaltung/training-fussball-frauenmannschaft-grosssporthalle/2026-05-11/
LOCATION:Großsporthalle (Inselschule Fehmarn)\, Gahlendorfer Weg 25\, Fehmarn\, Schleswig-Holstein\, 23769\, Deutschland
CATEGORIES:Fußball,Fußball Erwachsene,Fußball Frauenmannschaft
ORGANIZER;CN="SV Fehmarn":MAILTO:moin@svfehmarn.de
END:VEVENT
BEGIN:VEVENT
DTSTART;TZID=Europe/Berlin:20260514T190000
DTEND;TZID=Europe/Berlin:20260514T204500
DTSTAMP:20260423T131050
CREATED:20240229T163108Z
LAST-MODIFIED:20260208T161340Z
UID:10051851-1778785200-1778791500@svfehmarn.de
SUMMARY:Training Fußball Frauen
DESCRIPTION:
URL:https://svfehmarn.de/veranstaltung/training-fussball-frauenmannschaft-grosssporthalle-2/2026-05-14/
LOCATION:Großsporthalle (Inselschule Fehmarn)\, Gahlendorfer Weg 25\, Fehmarn\, Schleswig-Holstein\, 23769\, Deutschland
CATEGORIES:Fußball,Fußball Erwachsene,Fußball Frauenmannschaft
ORGANIZER;CN="SV Fehmarn":MAILTO:moin@svfehmarn.de
END:VEVENT
BEGIN:VEVENT
DTSTART;TZID=Europe/Berlin:20260518T190000
DTEND;TZID=Europe/Berlin:20260518T204500
DTSTAMP:20260423T131050
CREATED:20240229T163038Z
LAST-MODIFIED:20260208T162643Z
UID:10051329-1779130800-1779137100@svfehmarn.de
SUMMARY:Training Fußball Frauenmannschaft
DESCRIPTION:
URL:https://svfehmarn.de/veranstaltung/training-fussball-frauenmannschaft-grosssporthalle/2026-05-18/
LOCATION:Großsporthalle (Inselschule Fehmarn)\, Gahlendorfer Weg 25\, Fehmarn\, Schleswig-Holstein\, 23769\, Deutschland
CATEGORIES:Fußball,Fußball Erwachsene,Fußball Frauenmannschaft
ORGANIZER;CN="SV Fehmarn":MAILTO:moin@svfehmarn.de
END:VEVENT
BEGIN:VEVENT
DTSTART;TZID=Europe/Berlin:20260521T190000
DTEND;TZID=Europe/Berlin:20260521T204500
DTSTAMP:20260423T131050
CREATED:20240229T163108Z
LAST-MODIFIED:20260208T161340Z
UID:10051852-1779390000-1779396300@svfehmarn.de
SUMMARY:Training Fußball Frauen
DESCRIPTION:
URL:https://svfehmarn.de/veranstaltung/training-fussball-frauenmannschaft-grosssporthalle-2/2026-05-21/
LOCATION:Großsporthalle (Inselschule Fehmarn)\, Gahlendorfer Weg 25\, Fehmarn\, Schleswig-Holstein\, 23769\, Deutschland
CATEGORIES:Fußball,Fußball Erwachsene,Fußball Frauenmannschaft
ORGANIZER;CN="SV Fehmarn":MAILTO:moin@svfehmarn.de
END:VEVENT
BEGIN:VEVENT
DTSTART;TZID=Europe/Berlin:20260525T190000
DTEND;TZID=Europe/Berlin:20260525T204500
DTSTAMP:20260423T131050
CREATED:20240229T163038Z
LAST-MODIFIED:20260208T162643Z
UID:10051330-1779735600-1779741900@svfehmarn.de
SUMMARY:Training Fußball Frauenmannschaft
DESCRIPTION:
URL:https://svfehmarn.de/veranstaltung/training-fussball-frauenmannschaft-grosssporthalle/2026-05-25/
LOCATION:Großsporthalle (Inselschule Fehmarn)\, Gahlendorfer Weg 25\, Fehmarn\, Schleswig-Holstein\, 23769\, Deutschland
CATEGORIES:Fußball,Fußball Erwachsene,Fußball Frauenmannschaft
ORGANIZER;CN="SV Fehmarn":MAILTO:moin@svfehmarn.de
END:VEVENT
BEGIN:VEVENT
DTSTART;TZID=Europe/Berlin:20260528T190000
DTEND;TZID=Europe/Berlin:20260528T204500
DTSTAMP:20260423T131050
CREATED:20240229T163108Z
LAST-MODIFIED:20260208T161340Z
UID:10051853-1779994800-1780001100@svfehmarn.de
SUMMARY:Training Fußball Frauen
DESCRIPTION:
URL:https://svfehmarn.de/veranstaltung/training-fussball-frauenmannschaft-grosssporthalle-2/2026-05-28/
LOCATION:Großsporthalle (Inselschule Fehmarn)\, Gahlendorfer Weg 25\, Fehmarn\, Schleswig-Holstein\, 23769\, Deutschland
CATEGORIES:Fußball,Fußball Erwachsene,Fußball Frauenmannschaft
ORGANIZER;CN="SV Fehmarn":MAILTO:moin@svfehmarn.de
END:VEVENT
BEGIN:VEVENT
DTSTART;TZID=Europe/Berlin:20260601T190000
DTEND;TZID=Europe/Berlin:20260601T204500
DTSTAMP:20260423T131050
CREATED:20240229T163038Z
LAST-MODIFIED:20260208T162643Z
UID:10051331-1780340400-1780346700@svfehmarn.de
SUMMARY:Training Fußball Frauenmannschaft
DESCRIPTION:
URL:https://svfehmarn.de/veranstaltung/training-fussball-frauenmannschaft-grosssporthalle/2026-06-01/
LOCATION:Großsporthalle (Inselschule Fehmarn)\, Gahlendorfer Weg 25\, Fehmarn\, Schleswig-Holstein\, 23769\, Deutschland
CATEGORIES:Fußball,Fußball Erwachsene,Fußball Frauenmannschaft
ORGANIZER;CN="SV Fehmarn":MAILTO:moin@svfehmarn.de
END:VEVENT
BEGIN:VEVENT
DTSTART;TZID=Europe/Berlin:20260604T190000
DTEND;TZID=Europe/Berlin:20260604T204500
DTSTAMP:20260423T131050
CREATED:20240229T163108Z
LAST-MODIFIED:20260208T161340Z
UID:10051854-1780599600-1780605900@svfehmarn.de
SUMMARY:Training Fußball Frauen
DESCRIPTION:
URL:https://svfehmarn.de/veranstaltung/training-fussball-frauenmannschaft-grosssporthalle-2/2026-06-04/
LOCATION:Großsporthalle (Inselschule Fehmarn)\, Gahlendorfer Weg 25\, Fehmarn\, Schleswig-Holstein\, 23769\, Deutschland
CATEGORIES:Fußball,Fußball Erwachsene,Fußball Frauenmannschaft
ORGANIZER;CN="SV Fehmarn":MAILTO:moin@svfehmarn.de
END:VEVENT
BEGIN:VEVENT
DTSTART;TZID=Europe/Berlin:20260608T190000
DTEND;TZID=Europe/Berlin:20260608T204500
DTSTAMP:20260423T131050
CREATED:20240229T163038Z
LAST-MODIFIED:20260208T162643Z
UID:10051332-1780945200-1780951500@svfehmarn.de
SUMMARY:Training Fußball Frauenmannschaft
DESCRIPTION:
URL:https://svfehmarn.de/veranstaltung/training-fussball-frauenmannschaft-grosssporthalle/2026-06-08/
LOCATION:Großsporthalle (Inselschule Fehmarn)\, Gahlendorfer Weg 25\, Fehmarn\, Schleswig-Holstein\, 23769\, Deutschland
CATEGORIES:Fußball,Fußball Erwachsene,Fußball Frauenmannschaft
ORGANIZER;CN="SV Fehmarn":MAILTO:moin@svfehmarn.de
END:VEVENT
BEGIN:VEVENT
DTSTART;TZID=Europe/Berlin:20260611T190000
DTEND;TZID=Europe/Berlin:20260611T204500
DTSTAMP:20260423T131050
CREATED:20240229T163108Z
LAST-MODIFIED:20260208T161340Z
UID:10051855-1781204400-1781210700@svfehmarn.de
SUMMARY:Training Fußball Frauen
DESCRIPTION:
URL:https://svfehmarn.de/veranstaltung/training-fussball-frauenmannschaft-grosssporthalle-2/2026-06-11/
LOCATION:Großsporthalle (Inselschule Fehmarn)\, Gahlendorfer Weg 25\, Fehmarn\, Schleswig-Holstein\, 23769\, Deutschland
CATEGORIES:Fußball,Fußball Erwachsene,Fußball Frauenmannschaft
ORGANIZER;CN="SV Fehmarn":MAILTO:moin@svfehmarn.de
END:VEVENT
BEGIN:VEVENT
DTSTART;TZID=Europe/Berlin:20260615T190000
DTEND;TZID=Europe/Berlin:20260615T204500
DTSTAMP:20260423T131050
CREATED:20240229T163038Z
LAST-MODIFIED:20260208T162643Z
UID:10051333-1781550000-1781556300@svfehmarn.de
SUMMARY:Training Fußball Frauenmannschaft
DESCRIPTION:
URL:https://svfehmarn.de/veranstaltung/training-fussball-frauenmannschaft-grosssporthalle/2026-06-15/
LOCATION:Großsporthalle (Inselschule Fehmarn)\, Gahlendorfer Weg 25\, Fehmarn\, Schleswig-Holstein\, 23769\, Deutschland
CATEGORIES:Fußball,Fußball Erwachsene,Fußball Frauenmannschaft
ORGANIZER;CN="SV Fehmarn":MAILTO:moin@svfehmarn.de
END:VEVENT
BEGIN:VEVENT
DTSTART;TZID=Europe/Berlin:20260618T190000
DTEND;TZID=Europe/Berlin:20260618T204500
DTSTAMP:20260423T131050
CREATED:20240229T163108Z
LAST-MODIFIED:20260208T161340Z
UID:10051856-1781809200-1781815500@svfehmarn.de
SUMMARY:Training Fußball Frauen
DESCRIPTION:
URL:https://svfehmarn.de/veranstaltung/training-fussball-frauenmannschaft-grosssporthalle-2/2026-06-18/
LOCATION:Großsporthalle (Inselschule Fehmarn)\, Gahlendorfer Weg 25\, Fehmarn\, Schleswig-Holstein\, 23769\, Deutschland
CATEGORIES:Fußball,Fußball Erwachsene,Fußball Frauenmannschaft
ORGANIZER;CN="SV Fehmarn":MAILTO:moin@svfehmarn.de
END:VEVENT
BEGIN:VEVENT
DTSTART;TZID=Europe/Berlin:20260622T190000
DTEND;TZID=Europe/Berlin:20260622T204500
DTSTAMP:20260423T131050
CREATED:20240229T163038Z
LAST-MODIFIED:20260208T162643Z
UID:10051334-1782154800-1782161100@svfehmarn.de
SUMMARY:Training Fußball Frauenmannschaft
DESCRIPTION:
URL:https://svfehmarn.de/veranstaltung/training-fussball-frauenmannschaft-grosssporthalle/2026-06-22/
LOCATION:Großsporthalle (Inselschule Fehmarn)\, Gahlendorfer Weg 25\, Fehmarn\, Schleswig-Holstein\, 23769\, Deutschland
CATEGORIES:Fußball,Fußball Erwachsene,Fußball Frauenmannschaft
ORGANIZER;CN="SV Fehmarn":MAILTO:moin@svfehmarn.de
END:VEVENT
BEGIN:VEVENT
DTSTART;TZID=Europe/Berlin:20260625T190000
DTEND;TZID=Europe/Berlin:20260625T204500
DTSTAMP:20260423T131050
CREATED:20240229T163108Z
LAST-MODIFIED:20260208T161340Z
UID:10051857-1782414000-1782420300@svfehmarn.de
SUMMARY:Training Fußball Frauen
DESCRIPTION:
URL:https://svfehmarn.de/veranstaltung/training-fussball-frauenmannschaft-grosssporthalle-2/2026-06-25/
LOCATION:Großsporthalle (Inselschule Fehmarn)\, Gahlendorfer Weg 25\, Fehmarn\, Schleswig-Holstein\, 23769\, Deutschland
CATEGORIES:Fußball,Fußball Erwachsene,Fußball Frauenmannschaft
ORGANIZER;CN="SV Fehmarn":MAILTO:moin@svfehmarn.de
END:VEVENT
BEGIN:VEVENT
DTSTART;TZID=Europe/Berlin:20260629T190000
DTEND;TZID=Europe/Berlin:20260629T204500
DTSTAMP:20260423T131050
CREATED:20240229T163038Z
LAST-MODIFIED:20260208T162643Z
UID:10051335-1782759600-1782765900@svfehmarn.de
SUMMARY:Training Fußball Frauenmannschaft
DESCRIPTION:
URL:https://svfehmarn.de/veranstaltung/training-fussball-frauenmannschaft-grosssporthalle/2026-06-29/
LOCATION:Großsporthalle (Inselschule Fehmarn)\, Gahlendorfer Weg 25\, Fehmarn\, Schleswig-Holstein\, 23769\, Deutschland
CATEGORIES:Fußball,Fußball Erwachsene,Fußball Frauenmannschaft
ORGANIZER;CN="SV Fehmarn":MAILTO:moin@svfehmarn.de
END:VEVENT
BEGIN:VEVENT
DTSTART;TZID=Europe/Berlin:20260702T190000
DTEND;TZID=Europe/Berlin:20260702T204500
DTSTAMP:20260423T131050
CREATED:20240229T163108Z
LAST-MODIFIED:20260208T161340Z
UID:10051858-1783018800-1783025100@svfehmarn.de
SUMMARY:Training Fußball Frauen
DESCRIPTION:
URL:https://svfehmarn.de/veranstaltung/training-fussball-frauenmannschaft-grosssporthalle-2/2026-07-02/
LOCATION:Großsporthalle (Inselschule Fehmarn)\, Gahlendorfer Weg 25\, Fehmarn\, Schleswig-Holstein\, 23769\, Deutschland
CATEGORIES:Fußball,Fußball Erwachsene,Fußball Frauenmannschaft
ORGANIZER;CN="SV Fehmarn":MAILTO:moin@svfehmarn.de
END:VEVENT
BEGIN:VEVENT
DTSTART;TZID=Europe/Berlin:20260706T190000
DTEND;TZID=Europe/Berlin:20260706T204500
DTSTAMP:20260423T131050
CREATED:20240229T163038Z
LAST-MODIFIED:20260208T162643Z
UID:10051336-1783364400-1783370700@svfehmarn.de
SUMMARY:Training Fußball Frauenmannschaft
DESCRIPTION:
URL:https://svfehmarn.de/veranstaltung/training-fussball-frauenmannschaft-grosssporthalle/2026-07-06/
LOCATION:Großsporthalle (Inselschule Fehmarn)\, Gahlendorfer Weg 25\, Fehmarn\, Schleswig-Holstein\, 23769\, Deutschland
CATEGORIES:Fußball,Fußball Erwachsene,Fußball Frauenmannschaft
ORGANIZER;CN="SV Fehmarn":MAILTO:moin@svfehmarn.de
END:VEVENT
BEGIN:VEVENT
DTSTART;TZID=Europe/Berlin:20260709T190000
DTEND;TZID=Europe/Berlin:20260709T204500
DTSTAMP:20260423T131050
CREATED:20240229T163108Z
LAST-MODIFIED:20260208T161340Z
UID:10051859-1783623600-1783629900@svfehmarn.de
SUMMARY:Training Fußball Frauen
DESCRIPTION:
URL:https://svfehmarn.de/veranstaltung/training-fussball-frauenmannschaft-grosssporthalle-2/2026-07-09/
LOCATION:Großsporthalle (Inselschule Fehmarn)\, Gahlendorfer Weg 25\, Fehmarn\, Schleswig-Holstein\, 23769\, Deutschland
CATEGORIES:Fußball,Fußball Erwachsene,Fußball Frauenmannschaft
ORGANIZER;CN="SV Fehmarn":MAILTO:moin@svfehmarn.de
END:VEVENT
BEGIN:VEVENT
DTSTART;TZID=Europe/Berlin:20260713T190000
DTEND;TZID=Europe/Berlin:20260713T204500
DTSTAMP:20260423T131050
CREATED:20240229T163038Z
LAST-MODIFIED:20260208T162643Z
UID:10051337-1783969200-1783975500@svfehmarn.de
SUMMARY:Training Fußball Frauenmannschaft
DESCRIPTION:
URL:https://svfehmarn.de/veranstaltung/training-fussball-frauenmannschaft-grosssporthalle/2026-07-13/
LOCATION:Großsporthalle (Inselschule Fehmarn)\, Gahlendorfer Weg 25\, Fehmarn\, Schleswig-Holstein\, 23769\, Deutschland
CATEGORIES:Fußball,Fußball Erwachsene,Fußball Frauenmannschaft
ORGANIZER;CN="SV Fehmarn":MAILTO:moin@svfehmarn.de
END:VEVENT
BEGIN:VEVENT
DTSTART;TZID=Europe/Berlin:20260716T190000
DTEND;TZID=Europe/Berlin:20260716T204500
DTSTAMP:20260423T131050
CREATED:20240229T163108Z
LAST-MODIFIED:20260208T161340Z
UID:10051860-1784228400-1784234700@svfehmarn.de
SUMMARY:Training Fußball Frauen
DESCRIPTION:
URL:https://svfehmarn.de/veranstaltung/training-fussball-frauenmannschaft-grosssporthalle-2/2026-07-16/
LOCATION:Großsporthalle (Inselschule Fehmarn)\, Gahlendorfer Weg 25\, Fehmarn\, Schleswig-Holstein\, 23769\, Deutschland
CATEGORIES:Fußball,Fußball Erwachsene,Fußball Frauenmannschaft
ORGANIZER;CN="SV Fehmarn":MAILTO:moin@svfehmarn.de
END:VEVENT
BEGIN:VEVENT
DTSTART;TZID=Europe/Berlin:20260720T190000
DTEND;TZID=Europe/Berlin:20260720T204500
DTSTAMP:20260423T131050
CREATED:20240229T163038Z
LAST-MODIFIED:20260208T162643Z
UID:10051338-1784574000-1784580300@svfehmarn.de
SUMMARY:Training Fußball Frauenmannschaft
DESCRIPTION:
URL:https://svfehmarn.de/veranstaltung/training-fussball-frauenmannschaft-grosssporthalle/2026-07-20/
LOCATION:Großsporthalle (Inselschule Fehmarn)\, Gahlendorfer Weg 25\, Fehmarn\, Schleswig-Holstein\, 23769\, Deutschland
CATEGORIES:Fußball,Fußball Erwachsene,Fußball Frauenmannschaft
ORGANIZER;CN="SV Fehmarn":MAILTO:moin@svfehmarn.de
END:VEVENT
BEGIN:VEVENT
DTSTART;TZID=Europe/Berlin:20260723T190000
DTEND;TZID=Europe/Berlin:20260723T204500
DTSTAMP:20260423T131050
CREATED:20240229T163108Z
LAST-MODIFIED:20260208T161340Z
UID:10051861-1784833200-1784839500@svfehmarn.de
SUMMARY:Training Fußball Frauen
DESCRIPTION:
URL:https://svfehmarn.de/veranstaltung/training-fussball-frauenmannschaft-grosssporthalle-2/2026-07-23/
LOCATION:Großsporthalle (Inselschule Fehmarn)\, Gahlendorfer Weg 25\, Fehmarn\, Schleswig-Holstein\, 23769\, Deutschland
CATEGORIES:Fußball,Fußball Erwachsene,Fußball Frauenmannschaft
ORGANIZER;CN="SV Fehmarn":MAILTO:moin@svfehmarn.de
END:VEVENT
BEGIN:VEVENT
DTSTART;TZID=Europe/Berlin:20260727T190000
DTEND;TZID=Europe/Berlin:20260727T204500
DTSTAMP:20260423T131050
CREATED:20240229T163038Z
LAST-MODIFIED:20260208T162643Z
UID:10051339-1785178800-1785185100@svfehmarn.de
SUMMARY:Training Fußball Frauenmannschaft
DESCRIPTION:
URL:https://svfehmarn.de/veranstaltung/training-fussball-frauenmannschaft-grosssporthalle/2026-07-27/
LOCATION:Großsporthalle (Inselschule Fehmarn)\, Gahlendorfer Weg 25\, Fehmarn\, Schleswig-Holstein\, 23769\, Deutschland
CATEGORIES:Fußball,Fußball Erwachsene,Fußball Frauenmannschaft
ORGANIZER;CN="SV Fehmarn":MAILTO:moin@svfehmarn.de
END:VEVENT
BEGIN:VEVENT
DTSTART;TZID=Europe/Berlin:20260730T190000
DTEND;TZID=Europe/Berlin:20260730T204500
DTSTAMP:20260423T131050
CREATED:20240229T163108Z
LAST-MODIFIED:20260208T161340Z
UID:10051862-1785438000-1785444300@svfehmarn.de
SUMMARY:Training Fußball Frauen
DESCRIPTION:
URL:https://svfehmarn.de/veranstaltung/training-fussball-frauenmannschaft-grosssporthalle-2/2026-07-30/
LOCATION:Großsporthalle (Inselschule Fehmarn)\, Gahlendorfer Weg 25\, Fehmarn\, Schleswig-Holstein\, 23769\, Deutschland
CATEGORIES:Fußball,Fußball Erwachsene,Fußball Frauenmannschaft
ORGANIZER;CN="SV Fehmarn":MAILTO:moin@svfehmarn.de
END:VEVENT
BEGIN:VEVENT
DTSTART;TZID=Europe/Berlin:20260803T190000
DTEND;TZID=Europe/Berlin:20260803T204500
DTSTAMP:20260423T131050
CREATED:20240229T163038Z
LAST-MODIFIED:20260208T162643Z
UID:10051340-1785783600-1785789900@svfehmarn.de
SUMMARY:Training Fußball Frauenmannschaft
DESCRIPTION:
URL:https://svfehmarn.de/veranstaltung/training-fussball-frauenmannschaft-grosssporthalle/2026-08-03/
LOCATION:Großsporthalle (Inselschule Fehmarn)\, Gahlendorfer Weg 25\, Fehmarn\, Schleswig-Holstein\, 23769\, Deutschland
CATEGORIES:Fußball,Fußball Erwachsene,Fußball Frauenmannschaft
ORGANIZER;CN="SV Fehmarn":MAILTO:moin@svfehmarn.de
END:VEVENT
END:VCALENDAR