BEGIN:VCALENDAR
VERSION:2.0
PRODID:-//SV Fehmarn - ECPv6.15.18//NONSGML v1.0//EN
CALSCALE:GREGORIAN
METHOD:PUBLISH
X-WR-CALNAME:SV Fehmarn
X-ORIGINAL-URL:https://svfehmarn.de
X-WR-CALDESC:Veranstaltungen für SV Fehmarn
REFRESH-INTERVAL;VALUE=DURATION:PT1H
X-Robots-Tag:noindex
X-PUBLISHED-TTL:PT1H
BEGIN:VTIMEZONE
TZID:Europe/Berlin
BEGIN:DAYLIGHT
TZOFFSETFROM:+0100
TZOFFSETTO:+0200
TZNAME:CEST
DTSTART:20250330T010000
END:DAYLIGHT
BEGIN:STANDARD
TZOFFSETFROM:+0200
TZOFFSETTO:+0100
TZNAME:CET
DTSTART:20251026T010000
END:STANDARD
BEGIN:DAYLIGHT
TZOFFSETFROM:+0100
TZOFFSETTO:+0200
TZNAME:CEST
DTSTART:20260329T010000
END:DAYLIGHT
BEGIN:STANDARD
TZOFFSETFROM:+0200
TZOFFSETTO:+0100
TZNAME:CET
DTSTART:20261025T010000
END:STANDARD
BEGIN:DAYLIGHT
TZOFFSETFROM:+0100
TZOFFSETTO:+0200
TZNAME:CEST
DTSTART:20270328T010000
END:DAYLIGHT
BEGIN:STANDARD
TZOFFSETFROM:+0200
TZOFFSETTO:+0100
TZNAME:CET
DTSTART:20271031T010000
END:STANDARD
END:VTIMEZONE
BEGIN:VEVENT
DTSTART;TZID=Europe/Berlin:20260425T090000
DTEND;TZID=Europe/Berlin:20260425T100000
DTSTAMP:20260422T120755
CREATED:20251025T154700Z
LAST-MODIFIED:20260208T160852Z
UID:10061472-1777107600-1777111200@svfehmarn.de
SUMMARY:Training Langhantel-Workout
DESCRIPTION:
URL:https://svfehmarn.de/veranstaltung/training-langhantel-workout-grosssporthalle-2/2026-04-25/
LOCATION:Halle West (Grundschule Burg)\, Ohrtstraße 33\, Fehmarn\, Schleswig-Holstein\, 23769\, Deutschland
CATEGORIES:Langhantel-Workout
ORGANIZER;CN="SV Fehmarn":MAILTO:moin@svfehmarn.de
END:VEVENT
BEGIN:VEVENT
DTSTART;TZID=Europe/Berlin:20260502T090000
DTEND;TZID=Europe/Berlin:20260502T100000
DTSTAMP:20260422T120755
CREATED:20251025T154700Z
LAST-MODIFIED:20260208T160852Z
UID:10061473-1777712400-1777716000@svfehmarn.de
SUMMARY:Training Langhantel-Workout
DESCRIPTION:
URL:https://svfehmarn.de/veranstaltung/training-langhantel-workout-grosssporthalle-2/2026-05-02/
LOCATION:Halle West (Grundschule Burg)\, Ohrtstraße 33\, Fehmarn\, Schleswig-Holstein\, 23769\, Deutschland
CATEGORIES:Langhantel-Workout
ORGANIZER;CN="SV Fehmarn":MAILTO:moin@svfehmarn.de
END:VEVENT
BEGIN:VEVENT
DTSTART;TZID=Europe/Berlin:20260509T090000
DTEND;TZID=Europe/Berlin:20260509T100000
DTSTAMP:20260422T120755
CREATED:20251025T154700Z
LAST-MODIFIED:20260208T160852Z
UID:10061474-1778317200-1778320800@svfehmarn.de
SUMMARY:Training Langhantel-Workout
DESCRIPTION:
URL:https://svfehmarn.de/veranstaltung/training-langhantel-workout-grosssporthalle-2/2026-05-09/
LOCATION:Halle West (Grundschule Burg)\, Ohrtstraße 33\, Fehmarn\, Schleswig-Holstein\, 23769\, Deutschland
CATEGORIES:Langhantel-Workout
ORGANIZER;CN="SV Fehmarn":MAILTO:moin@svfehmarn.de
END:VEVENT
BEGIN:VEVENT
DTSTART;TZID=Europe/Berlin:20260516T090000
DTEND;TZID=Europe/Berlin:20260516T100000
DTSTAMP:20260422T120755
CREATED:20251025T154700Z
LAST-MODIFIED:20260208T160852Z
UID:10061475-1778922000-1778925600@svfehmarn.de
SUMMARY:Training Langhantel-Workout
DESCRIPTION:
URL:https://svfehmarn.de/veranstaltung/training-langhantel-workout-grosssporthalle-2/2026-05-16/
LOCATION:Halle West (Grundschule Burg)\, Ohrtstraße 33\, Fehmarn\, Schleswig-Holstein\, 23769\, Deutschland
CATEGORIES:Langhantel-Workout
ORGANIZER;CN="SV Fehmarn":MAILTO:moin@svfehmarn.de
END:VEVENT
BEGIN:VEVENT
DTSTART;TZID=Europe/Berlin:20260523T090000
DTEND;TZID=Europe/Berlin:20260523T100000
DTSTAMP:20260422T120755
CREATED:20251025T154700Z
LAST-MODIFIED:20260208T160852Z
UID:10061476-1779526800-1779530400@svfehmarn.de
SUMMARY:Training Langhantel-Workout
DESCRIPTION:
URL:https://svfehmarn.de/veranstaltung/training-langhantel-workout-grosssporthalle-2/2026-05-23/
LOCATION:Halle West (Grundschule Burg)\, Ohrtstraße 33\, Fehmarn\, Schleswig-Holstein\, 23769\, Deutschland
CATEGORIES:Langhantel-Workout
ORGANIZER;CN="SV Fehmarn":MAILTO:moin@svfehmarn.de
END:VEVENT
BEGIN:VEVENT
DTSTART;TZID=Europe/Berlin:20260530T090000
DTEND;TZID=Europe/Berlin:20260530T100000
DTSTAMP:20260422T120755
CREATED:20251025T154700Z
LAST-MODIFIED:20260208T160852Z
UID:10061477-1780131600-1780135200@svfehmarn.de
SUMMARY:Training Langhantel-Workout
DESCRIPTION:
URL:https://svfehmarn.de/veranstaltung/training-langhantel-workout-grosssporthalle-2/2026-05-30/
LOCATION:Halle West (Grundschule Burg)\, Ohrtstraße 33\, Fehmarn\, Schleswig-Holstein\, 23769\, Deutschland
CATEGORIES:Langhantel-Workout
ORGANIZER;CN="SV Fehmarn":MAILTO:moin@svfehmarn.de
END:VEVENT
BEGIN:VEVENT
DTSTART;TZID=Europe/Berlin:20260606T090000
DTEND;TZID=Europe/Berlin:20260606T100000
DTSTAMP:20260422T120755
CREATED:20251025T154700Z
LAST-MODIFIED:20260208T160852Z
UID:10061478-1780736400-1780740000@svfehmarn.de
SUMMARY:Training Langhantel-Workout
DESCRIPTION:
URL:https://svfehmarn.de/veranstaltung/training-langhantel-workout-grosssporthalle-2/2026-06-06/
LOCATION:Halle West (Grundschule Burg)\, Ohrtstraße 33\, Fehmarn\, Schleswig-Holstein\, 23769\, Deutschland
CATEGORIES:Langhantel-Workout
ORGANIZER;CN="SV Fehmarn":MAILTO:moin@svfehmarn.de
END:VEVENT
BEGIN:VEVENT
DTSTART;TZID=Europe/Berlin:20260613T090000
DTEND;TZID=Europe/Berlin:20260613T100000
DTSTAMP:20260422T120755
CREATED:20251025T154700Z
LAST-MODIFIED:20260208T160852Z
UID:10061479-1781341200-1781344800@svfehmarn.de
SUMMARY:Training Langhantel-Workout
DESCRIPTION:
URL:https://svfehmarn.de/veranstaltung/training-langhantel-workout-grosssporthalle-2/2026-06-13/
LOCATION:Halle West (Grundschule Burg)\, Ohrtstraße 33\, Fehmarn\, Schleswig-Holstein\, 23769\, Deutschland
CATEGORIES:Langhantel-Workout
ORGANIZER;CN="SV Fehmarn":MAILTO:moin@svfehmarn.de
END:VEVENT
BEGIN:VEVENT
DTSTART;TZID=Europe/Berlin:20260620T090000
DTEND;TZID=Europe/Berlin:20260620T100000
DTSTAMP:20260422T120755
CREATED:20251025T154700Z
LAST-MODIFIED:20260208T160852Z
UID:10061480-1781946000-1781949600@svfehmarn.de
SUMMARY:Training Langhantel-Workout
DESCRIPTION:
URL:https://svfehmarn.de/veranstaltung/training-langhantel-workout-grosssporthalle-2/2026-06-20/
LOCATION:Halle West (Grundschule Burg)\, Ohrtstraße 33\, Fehmarn\, Schleswig-Holstein\, 23769\, Deutschland
CATEGORIES:Langhantel-Workout
ORGANIZER;CN="SV Fehmarn":MAILTO:moin@svfehmarn.de
END:VEVENT
BEGIN:VEVENT
DTSTART;TZID=Europe/Berlin:20260627T090000
DTEND;TZID=Europe/Berlin:20260627T100000
DTSTAMP:20260422T120755
CREATED:20251025T154700Z
LAST-MODIFIED:20260208T160852Z
UID:10061481-1782550800-1782554400@svfehmarn.de
SUMMARY:Training Langhantel-Workout
DESCRIPTION:
URL:https://svfehmarn.de/veranstaltung/training-langhantel-workout-grosssporthalle-2/2026-06-27/
LOCATION:Halle West (Grundschule Burg)\, Ohrtstraße 33\, Fehmarn\, Schleswig-Holstein\, 23769\, Deutschland
CATEGORIES:Langhantel-Workout
ORGANIZER;CN="SV Fehmarn":MAILTO:moin@svfehmarn.de
END:VEVENT
BEGIN:VEVENT
DTSTART;TZID=Europe/Berlin:20260704T090000
DTEND;TZID=Europe/Berlin:20260704T100000
DTSTAMP:20260422T120755
CREATED:20251025T154700Z
LAST-MODIFIED:20260208T160852Z
UID:10061482-1783155600-1783159200@svfehmarn.de
SUMMARY:Training Langhantel-Workout
DESCRIPTION:
URL:https://svfehmarn.de/veranstaltung/training-langhantel-workout-grosssporthalle-2/2026-07-04/
LOCATION:Halle West (Grundschule Burg)\, Ohrtstraße 33\, Fehmarn\, Schleswig-Holstein\, 23769\, Deutschland
CATEGORIES:Langhantel-Workout
ORGANIZER;CN="SV Fehmarn":MAILTO:moin@svfehmarn.de
END:VEVENT
BEGIN:VEVENT
DTSTART;TZID=Europe/Berlin:20260711T090000
DTEND;TZID=Europe/Berlin:20260711T100000
DTSTAMP:20260422T120755
CREATED:20251025T154700Z
LAST-MODIFIED:20260208T160852Z
UID:10061483-1783760400-1783764000@svfehmarn.de
SUMMARY:Training Langhantel-Workout
DESCRIPTION:
URL:https://svfehmarn.de/veranstaltung/training-langhantel-workout-grosssporthalle-2/2026-07-11/
LOCATION:Halle West (Grundschule Burg)\, Ohrtstraße 33\, Fehmarn\, Schleswig-Holstein\, 23769\, Deutschland
CATEGORIES:Langhantel-Workout
ORGANIZER;CN="SV Fehmarn":MAILTO:moin@svfehmarn.de
END:VEVENT
BEGIN:VEVENT
DTSTART;TZID=Europe/Berlin:20260718T090000
DTEND;TZID=Europe/Berlin:20260718T100000
DTSTAMP:20260422T120755
CREATED:20251025T154700Z
LAST-MODIFIED:20260208T160852Z
UID:10061484-1784365200-1784368800@svfehmarn.de
SUMMARY:Training Langhantel-Workout
DESCRIPTION:
URL:https://svfehmarn.de/veranstaltung/training-langhantel-workout-grosssporthalle-2/2026-07-18/
LOCATION:Halle West (Grundschule Burg)\, Ohrtstraße 33\, Fehmarn\, Schleswig-Holstein\, 23769\, Deutschland
CATEGORIES:Langhantel-Workout
ORGANIZER;CN="SV Fehmarn":MAILTO:moin@svfehmarn.de
END:VEVENT
BEGIN:VEVENT
DTSTART;TZID=Europe/Berlin:20260725T090000
DTEND;TZID=Europe/Berlin:20260725T100000
DTSTAMP:20260422T120755
CREATED:20251025T154700Z
LAST-MODIFIED:20260208T160852Z
UID:10061485-1784970000-1784973600@svfehmarn.de
SUMMARY:Training Langhantel-Workout
DESCRIPTION:
URL:https://svfehmarn.de/veranstaltung/training-langhantel-workout-grosssporthalle-2/2026-07-25/
LOCATION:Halle West (Grundschule Burg)\, Ohrtstraße 33\, Fehmarn\, Schleswig-Holstein\, 23769\, Deutschland
CATEGORIES:Langhantel-Workout
ORGANIZER;CN="SV Fehmarn":MAILTO:moin@svfehmarn.de
END:VEVENT
BEGIN:VEVENT
DTSTART;TZID=Europe/Berlin:20260801T090000
DTEND;TZID=Europe/Berlin:20260801T100000
DTSTAMP:20260422T120755
CREATED:20251025T154700Z
LAST-MODIFIED:20260208T160852Z
UID:10061486-1785574800-1785578400@svfehmarn.de
SUMMARY:Training Langhantel-Workout
DESCRIPTION:
URL:https://svfehmarn.de/veranstaltung/training-langhantel-workout-grosssporthalle-2/2026-08-01/
LOCATION:Halle West (Grundschule Burg)\, Ohrtstraße 33\, Fehmarn\, Schleswig-Holstein\, 23769\, Deutschland
CATEGORIES:Langhantel-Workout
ORGANIZER;CN="SV Fehmarn":MAILTO:moin@svfehmarn.de
END:VEVENT
BEGIN:VEVENT
DTSTART;TZID=Europe/Berlin:20260808T090000
DTEND;TZID=Europe/Berlin:20260808T100000
DTSTAMP:20260422T120755
CREATED:20251025T154700Z
LAST-MODIFIED:20260208T160852Z
UID:10061487-1786179600-1786183200@svfehmarn.de
SUMMARY:Training Langhantel-Workout
DESCRIPTION:
URL:https://svfehmarn.de/veranstaltung/training-langhantel-workout-grosssporthalle-2/2026-08-08/
LOCATION:Halle West (Grundschule Burg)\, Ohrtstraße 33\, Fehmarn\, Schleswig-Holstein\, 23769\, Deutschland
CATEGORIES:Langhantel-Workout
ORGANIZER;CN="SV Fehmarn":MAILTO:moin@svfehmarn.de
END:VEVENT
BEGIN:VEVENT
DTSTART;TZID=Europe/Berlin:20260815T090000
DTEND;TZID=Europe/Berlin:20260815T100000
DTSTAMP:20260422T120755
CREATED:20251025T154700Z
LAST-MODIFIED:20260208T160852Z
UID:10061488-1786784400-1786788000@svfehmarn.de
SUMMARY:Training Langhantel-Workout
DESCRIPTION:
URL:https://svfehmarn.de/veranstaltung/training-langhantel-workout-grosssporthalle-2/2026-08-15/
LOCATION:Halle West (Grundschule Burg)\, Ohrtstraße 33\, Fehmarn\, Schleswig-Holstein\, 23769\, Deutschland
CATEGORIES:Langhantel-Workout
ORGANIZER;CN="SV Fehmarn":MAILTO:moin@svfehmarn.de
END:VEVENT
BEGIN:VEVENT
DTSTART;TZID=Europe/Berlin:20260822T090000
DTEND;TZID=Europe/Berlin:20260822T100000
DTSTAMP:20260422T120755
CREATED:20251025T154700Z
LAST-MODIFIED:20260208T160852Z
UID:10061489-1787389200-1787392800@svfehmarn.de
SUMMARY:Training Langhantel-Workout
DESCRIPTION:
URL:https://svfehmarn.de/veranstaltung/training-langhantel-workout-grosssporthalle-2/2026-08-22/
LOCATION:Halle West (Grundschule Burg)\, Ohrtstraße 33\, Fehmarn\, Schleswig-Holstein\, 23769\, Deutschland
CATEGORIES:Langhantel-Workout
ORGANIZER;CN="SV Fehmarn":MAILTO:moin@svfehmarn.de
END:VEVENT
BEGIN:VEVENT
DTSTART;TZID=Europe/Berlin:20260829T090000
DTEND;TZID=Europe/Berlin:20260829T100000
DTSTAMP:20260422T120755
CREATED:20251025T154700Z
LAST-MODIFIED:20260208T160852Z
UID:10061490-1787994000-1787997600@svfehmarn.de
SUMMARY:Training Langhantel-Workout
DESCRIPTION:
URL:https://svfehmarn.de/veranstaltung/training-langhantel-workout-grosssporthalle-2/2026-08-29/
LOCATION:Halle West (Grundschule Burg)\, Ohrtstraße 33\, Fehmarn\, Schleswig-Holstein\, 23769\, Deutschland
CATEGORIES:Langhantel-Workout
ORGANIZER;CN="SV Fehmarn":MAILTO:moin@svfehmarn.de
END:VEVENT
BEGIN:VEVENT
DTSTART;TZID=Europe/Berlin:20260905T090000
DTEND;TZID=Europe/Berlin:20260905T100000
DTSTAMP:20260422T120755
CREATED:20251025T154700Z
LAST-MODIFIED:20260208T160852Z
UID:10061491-1788598800-1788602400@svfehmarn.de
SUMMARY:Training Langhantel-Workout
DESCRIPTION:
URL:https://svfehmarn.de/veranstaltung/training-langhantel-workout-grosssporthalle-2/2026-09-05/
LOCATION:Halle West (Grundschule Burg)\, Ohrtstraße 33\, Fehmarn\, Schleswig-Holstein\, 23769\, Deutschland
CATEGORIES:Langhantel-Workout
ORGANIZER;CN="SV Fehmarn":MAILTO:moin@svfehmarn.de
END:VEVENT
BEGIN:VEVENT
DTSTART;TZID=Europe/Berlin:20260912T090000
DTEND;TZID=Europe/Berlin:20260912T100000
DTSTAMP:20260422T120755
CREATED:20251025T154700Z
LAST-MODIFIED:20260208T160852Z
UID:10061492-1789203600-1789207200@svfehmarn.de
SUMMARY:Training Langhantel-Workout
DESCRIPTION:
URL:https://svfehmarn.de/veranstaltung/training-langhantel-workout-grosssporthalle-2/2026-09-12/
LOCATION:Halle West (Grundschule Burg)\, Ohrtstraße 33\, Fehmarn\, Schleswig-Holstein\, 23769\, Deutschland
CATEGORIES:Langhantel-Workout
ORGANIZER;CN="SV Fehmarn":MAILTO:moin@svfehmarn.de
END:VEVENT
BEGIN:VEVENT
DTSTART;TZID=Europe/Berlin:20260919T090000
DTEND;TZID=Europe/Berlin:20260919T100000
DTSTAMP:20260422T120755
CREATED:20251025T154700Z
LAST-MODIFIED:20260208T160852Z
UID:10061493-1789808400-1789812000@svfehmarn.de
SUMMARY:Training Langhantel-Workout
DESCRIPTION:
URL:https://svfehmarn.de/veranstaltung/training-langhantel-workout-grosssporthalle-2/2026-09-19/
LOCATION:Halle West (Grundschule Burg)\, Ohrtstraße 33\, Fehmarn\, Schleswig-Holstein\, 23769\, Deutschland
CATEGORIES:Langhantel-Workout
ORGANIZER;CN="SV Fehmarn":MAILTO:moin@svfehmarn.de
END:VEVENT
BEGIN:VEVENT
DTSTART;TZID=Europe/Berlin:20260926T090000
DTEND;TZID=Europe/Berlin:20260926T100000
DTSTAMP:20260422T120755
CREATED:20251025T154700Z
LAST-MODIFIED:20260208T160852Z
UID:10061494-1790413200-1790416800@svfehmarn.de
SUMMARY:Training Langhantel-Workout
DESCRIPTION:
URL:https://svfehmarn.de/veranstaltung/training-langhantel-workout-grosssporthalle-2/2026-09-26/
LOCATION:Halle West (Grundschule Burg)\, Ohrtstraße 33\, Fehmarn\, Schleswig-Holstein\, 23769\, Deutschland
CATEGORIES:Langhantel-Workout
ORGANIZER;CN="SV Fehmarn":MAILTO:moin@svfehmarn.de
END:VEVENT
BEGIN:VEVENT
DTSTART;TZID=Europe/Berlin:20261003T090000
DTEND;TZID=Europe/Berlin:20261003T100000
DTSTAMP:20260422T120755
CREATED:20251025T154700Z
LAST-MODIFIED:20260208T160852Z
UID:10061495-1791018000-1791021600@svfehmarn.de
SUMMARY:Training Langhantel-Workout
DESCRIPTION:
URL:https://svfehmarn.de/veranstaltung/training-langhantel-workout-grosssporthalle-2/2026-10-03/
LOCATION:Halle West (Grundschule Burg)\, Ohrtstraße 33\, Fehmarn\, Schleswig-Holstein\, 23769\, Deutschland
CATEGORIES:Langhantel-Workout
ORGANIZER;CN="SV Fehmarn":MAILTO:moin@svfehmarn.de
END:VEVENT
BEGIN:VEVENT
DTSTART;TZID=Europe/Berlin:20261010T090000
DTEND;TZID=Europe/Berlin:20261010T100000
DTSTAMP:20260422T120755
CREATED:20251025T154700Z
LAST-MODIFIED:20260208T160852Z
UID:10061496-1791622800-1791626400@svfehmarn.de
SUMMARY:Training Langhantel-Workout
DESCRIPTION:
URL:https://svfehmarn.de/veranstaltung/training-langhantel-workout-grosssporthalle-2/2026-10-10/
LOCATION:Halle West (Grundschule Burg)\, Ohrtstraße 33\, Fehmarn\, Schleswig-Holstein\, 23769\, Deutschland
CATEGORIES:Langhantel-Workout
ORGANIZER;CN="SV Fehmarn":MAILTO:moin@svfehmarn.de
END:VEVENT
BEGIN:VEVENT
DTSTART;TZID=Europe/Berlin:20261017T090000
DTEND;TZID=Europe/Berlin:20261017T100000
DTSTAMP:20260422T120755
CREATED:20251025T154700Z
LAST-MODIFIED:20260208T160852Z
UID:10061497-1792227600-1792231200@svfehmarn.de
SUMMARY:Training Langhantel-Workout
DESCRIPTION:
URL:https://svfehmarn.de/veranstaltung/training-langhantel-workout-grosssporthalle-2/2026-10-17/
LOCATION:Halle West (Grundschule Burg)\, Ohrtstraße 33\, Fehmarn\, Schleswig-Holstein\, 23769\, Deutschland
CATEGORIES:Langhantel-Workout
ORGANIZER;CN="SV Fehmarn":MAILTO:moin@svfehmarn.de
END:VEVENT
BEGIN:VEVENT
DTSTART;TZID=Europe/Berlin:20261024T090000
DTEND;TZID=Europe/Berlin:20261024T100000
DTSTAMP:20260422T120755
CREATED:20251025T154700Z
LAST-MODIFIED:20260208T160852Z
UID:10061498-1792832400-1792836000@svfehmarn.de
SUMMARY:Training Langhantel-Workout
DESCRIPTION:
URL:https://svfehmarn.de/veranstaltung/training-langhantel-workout-grosssporthalle-2/2026-10-24/
LOCATION:Halle West (Grundschule Burg)\, Ohrtstraße 33\, Fehmarn\, Schleswig-Holstein\, 23769\, Deutschland
CATEGORIES:Langhantel-Workout
ORGANIZER;CN="SV Fehmarn":MAILTO:moin@svfehmarn.de
END:VEVENT
BEGIN:VEVENT
DTSTART;TZID=Europe/Berlin:20261031T090000
DTEND;TZID=Europe/Berlin:20261031T100000
DTSTAMP:20260422T120755
CREATED:20251025T154700Z
LAST-MODIFIED:20260208T160852Z
UID:10061499-1793437200-1793440800@svfehmarn.de
SUMMARY:Training Langhantel-Workout
DESCRIPTION:
URL:https://svfehmarn.de/veranstaltung/training-langhantel-workout-grosssporthalle-2/2026-10-31/
LOCATION:Halle West (Grundschule Burg)\, Ohrtstraße 33\, Fehmarn\, Schleswig-Holstein\, 23769\, Deutschland
CATEGORIES:Langhantel-Workout
ORGANIZER;CN="SV Fehmarn":MAILTO:moin@svfehmarn.de
END:VEVENT
BEGIN:VEVENT
DTSTART;TZID=Europe/Berlin:20261107T090000
DTEND;TZID=Europe/Berlin:20261107T100000
DTSTAMP:20260422T120755
CREATED:20251025T154700Z
LAST-MODIFIED:20260208T160852Z
UID:10061500-1794042000-1794045600@svfehmarn.de
SUMMARY:Training Langhantel-Workout
DESCRIPTION:
URL:https://svfehmarn.de/veranstaltung/training-langhantel-workout-grosssporthalle-2/2026-11-07/
LOCATION:Halle West (Grundschule Burg)\, Ohrtstraße 33\, Fehmarn\, Schleswig-Holstein\, 23769\, Deutschland
CATEGORIES:Langhantel-Workout
ORGANIZER;CN="SV Fehmarn":MAILTO:moin@svfehmarn.de
END:VEVENT
BEGIN:VEVENT
DTSTART;TZID=Europe/Berlin:20261114T090000
DTEND;TZID=Europe/Berlin:20261114T100000
DTSTAMP:20260422T120755
CREATED:20251025T154700Z
LAST-MODIFIED:20260208T160852Z
UID:10061501-1794646800-1794650400@svfehmarn.de
SUMMARY:Training Langhantel-Workout
DESCRIPTION:
URL:https://svfehmarn.de/veranstaltung/training-langhantel-workout-grosssporthalle-2/2026-11-14/
LOCATION:Halle West (Grundschule Burg)\, Ohrtstraße 33\, Fehmarn\, Schleswig-Holstein\, 23769\, Deutschland
CATEGORIES:Langhantel-Workout
ORGANIZER;CN="SV Fehmarn":MAILTO:moin@svfehmarn.de
END:VEVENT
END:VCALENDAR