BEGIN:VCALENDAR
VERSION:2.0
PRODID:-//SV Fehmarn - ECPv6.15.18//NONSGML v1.0//EN
CALSCALE:GREGORIAN
METHOD:PUBLISH
X-WR-CALNAME:SV Fehmarn
X-ORIGINAL-URL:https://svfehmarn.de
X-WR-CALDESC:Veranstaltungen für SV Fehmarn
REFRESH-INTERVAL;VALUE=DURATION:PT1H
X-Robots-Tag:noindex
X-PUBLISHED-TTL:PT1H
BEGIN:VTIMEZONE
TZID:Europe/Berlin
BEGIN:DAYLIGHT
TZOFFSETFROM:+0100
TZOFFSETTO:+0200
TZNAME:CEST
DTSTART:20250330T010000
END:DAYLIGHT
BEGIN:STANDARD
TZOFFSETFROM:+0200
TZOFFSETTO:+0100
TZNAME:CET
DTSTART:20251026T010000
END:STANDARD
BEGIN:DAYLIGHT
TZOFFSETFROM:+0100
TZOFFSETTO:+0200
TZNAME:CEST
DTSTART:20260329T010000
END:DAYLIGHT
BEGIN:STANDARD
TZOFFSETFROM:+0200
TZOFFSETTO:+0100
TZNAME:CET
DTSTART:20261025T010000
END:STANDARD
BEGIN:DAYLIGHT
TZOFFSETFROM:+0100
TZOFFSETTO:+0200
TZNAME:CEST
DTSTART:20270328T010000
END:DAYLIGHT
BEGIN:STANDARD
TZOFFSETFROM:+0200
TZOFFSETTO:+0100
TZNAME:CET
DTSTART:20271031T010000
END:STANDARD
END:VTIMEZONE
BEGIN:VEVENT
DTSTART;TZID=Europe/Berlin:20260427T190000
DTEND;TZID=Europe/Berlin:20260427T210000
DTSTAMP:20260421T163157
CREATED:20251026T210501Z
LAST-MODIFIED:20260208T162628Z
UID:10076922-1777316400-1777323600@svfehmarn.de
SUMMARY:Training Handball Herren
DESCRIPTION:Jahrgang 2008 & älter
URL:https://svfehmarn.de/veranstaltung/training-handball-maennliche-a-b-jugend-herren-3-2/2026-04-27/
LOCATION:Halle West (Grundschule Burg)\, Ohrtstraße 33\, Fehmarn\, Schleswig-Holstein\, 23769\, Deutschland
CATEGORIES:Handball,Handball Männliche A-B-Jugend
ORGANIZER;CN="SV Fehmarn":MAILTO:moin@svfehmarn.de
END:VEVENT
BEGIN:VEVENT
DTSTART;TZID=Europe/Berlin:20260504T190000
DTEND;TZID=Europe/Berlin:20260504T210000
DTSTAMP:20260421T163157
CREATED:20251026T210501Z
LAST-MODIFIED:20260208T162628Z
UID:10076923-1777921200-1777928400@svfehmarn.de
SUMMARY:Training Handball Herren
DESCRIPTION:Jahrgang 2008 & älter
URL:https://svfehmarn.de/veranstaltung/training-handball-maennliche-a-b-jugend-herren-3-2/2026-05-04/
LOCATION:Halle West (Grundschule Burg)\, Ohrtstraße 33\, Fehmarn\, Schleswig-Holstein\, 23769\, Deutschland
CATEGORIES:Handball,Handball Männliche A-B-Jugend
ORGANIZER;CN="SV Fehmarn":MAILTO:moin@svfehmarn.de
END:VEVENT
BEGIN:VEVENT
DTSTART;TZID=Europe/Berlin:20260511T190000
DTEND;TZID=Europe/Berlin:20260511T210000
DTSTAMP:20260421T163157
CREATED:20251026T210501Z
LAST-MODIFIED:20260208T162628Z
UID:10076924-1778526000-1778533200@svfehmarn.de
SUMMARY:Training Handball Herren
DESCRIPTION:Jahrgang 2008 & älter
URL:https://svfehmarn.de/veranstaltung/training-handball-maennliche-a-b-jugend-herren-3-2/2026-05-11/
LOCATION:Halle West (Grundschule Burg)\, Ohrtstraße 33\, Fehmarn\, Schleswig-Holstein\, 23769\, Deutschland
CATEGORIES:Handball,Handball Männliche A-B-Jugend
ORGANIZER;CN="SV Fehmarn":MAILTO:moin@svfehmarn.de
END:VEVENT
BEGIN:VEVENT
DTSTART;TZID=Europe/Berlin:20260518T190000
DTEND;TZID=Europe/Berlin:20260518T210000
DTSTAMP:20260421T163157
CREATED:20251026T210501Z
LAST-MODIFIED:20260208T162628Z
UID:10076925-1779130800-1779138000@svfehmarn.de
SUMMARY:Training Handball Herren
DESCRIPTION:Jahrgang 2008 & älter
URL:https://svfehmarn.de/veranstaltung/training-handball-maennliche-a-b-jugend-herren-3-2/2026-05-18/
LOCATION:Halle West (Grundschule Burg)\, Ohrtstraße 33\, Fehmarn\, Schleswig-Holstein\, 23769\, Deutschland
CATEGORIES:Handball,Handball Männliche A-B-Jugend
ORGANIZER;CN="SV Fehmarn":MAILTO:moin@svfehmarn.de
END:VEVENT
BEGIN:VEVENT
DTSTART;TZID=Europe/Berlin:20260525T190000
DTEND;TZID=Europe/Berlin:20260525T210000
DTSTAMP:20260421T163157
CREATED:20251026T210501Z
LAST-MODIFIED:20260208T162628Z
UID:10076926-1779735600-1779742800@svfehmarn.de
SUMMARY:Training Handball Herren
DESCRIPTION:Jahrgang 2008 & älter
URL:https://svfehmarn.de/veranstaltung/training-handball-maennliche-a-b-jugend-herren-3-2/2026-05-25/
LOCATION:Halle West (Grundschule Burg)\, Ohrtstraße 33\, Fehmarn\, Schleswig-Holstein\, 23769\, Deutschland
CATEGORIES:Handball,Handball Männliche A-B-Jugend
ORGANIZER;CN="SV Fehmarn":MAILTO:moin@svfehmarn.de
END:VEVENT
BEGIN:VEVENT
DTSTART;TZID=Europe/Berlin:20260601T190000
DTEND;TZID=Europe/Berlin:20260601T210000
DTSTAMP:20260421T163157
CREATED:20251026T210501Z
LAST-MODIFIED:20260208T162628Z
UID:10076927-1780340400-1780347600@svfehmarn.de
SUMMARY:Training Handball Herren
DESCRIPTION:Jahrgang 2008 & älter
URL:https://svfehmarn.de/veranstaltung/training-handball-maennliche-a-b-jugend-herren-3-2/2026-06-01/
LOCATION:Halle West (Grundschule Burg)\, Ohrtstraße 33\, Fehmarn\, Schleswig-Holstein\, 23769\, Deutschland
CATEGORIES:Handball,Handball Männliche A-B-Jugend
ORGANIZER;CN="SV Fehmarn":MAILTO:moin@svfehmarn.de
END:VEVENT
BEGIN:VEVENT
DTSTART;TZID=Europe/Berlin:20260608T190000
DTEND;TZID=Europe/Berlin:20260608T210000
DTSTAMP:20260421T163157
CREATED:20251026T210501Z
LAST-MODIFIED:20260208T162628Z
UID:10076928-1780945200-1780952400@svfehmarn.de
SUMMARY:Training Handball Herren
DESCRIPTION:Jahrgang 2008 & älter
URL:https://svfehmarn.de/veranstaltung/training-handball-maennliche-a-b-jugend-herren-3-2/2026-06-08/
LOCATION:Halle West (Grundschule Burg)\, Ohrtstraße 33\, Fehmarn\, Schleswig-Holstein\, 23769\, Deutschland
CATEGORIES:Handball,Handball Männliche A-B-Jugend
ORGANIZER;CN="SV Fehmarn":MAILTO:moin@svfehmarn.de
END:VEVENT
BEGIN:VEVENT
DTSTART;TZID=Europe/Berlin:20260615T190000
DTEND;TZID=Europe/Berlin:20260615T210000
DTSTAMP:20260421T163157
CREATED:20251026T210501Z
LAST-MODIFIED:20260208T162628Z
UID:10076929-1781550000-1781557200@svfehmarn.de
SUMMARY:Training Handball Herren
DESCRIPTION:Jahrgang 2008 & älter
URL:https://svfehmarn.de/veranstaltung/training-handball-maennliche-a-b-jugend-herren-3-2/2026-06-15/
LOCATION:Halle West (Grundschule Burg)\, Ohrtstraße 33\, Fehmarn\, Schleswig-Holstein\, 23769\, Deutschland
CATEGORIES:Handball,Handball Männliche A-B-Jugend
ORGANIZER;CN="SV Fehmarn":MAILTO:moin@svfehmarn.de
END:VEVENT
BEGIN:VEVENT
DTSTART;TZID=Europe/Berlin:20260622T190000
DTEND;TZID=Europe/Berlin:20260622T210000
DTSTAMP:20260421T163157
CREATED:20251026T210501Z
LAST-MODIFIED:20260208T162628Z
UID:10076930-1782154800-1782162000@svfehmarn.de
SUMMARY:Training Handball Herren
DESCRIPTION:Jahrgang 2008 & älter
URL:https://svfehmarn.de/veranstaltung/training-handball-maennliche-a-b-jugend-herren-3-2/2026-06-22/
LOCATION:Halle West (Grundschule Burg)\, Ohrtstraße 33\, Fehmarn\, Schleswig-Holstein\, 23769\, Deutschland
CATEGORIES:Handball,Handball Männliche A-B-Jugend
ORGANIZER;CN="SV Fehmarn":MAILTO:moin@svfehmarn.de
END:VEVENT
BEGIN:VEVENT
DTSTART;TZID=Europe/Berlin:20260629T190000
DTEND;TZID=Europe/Berlin:20260629T210000
DTSTAMP:20260421T163157
CREATED:20251026T210501Z
LAST-MODIFIED:20260208T162628Z
UID:10076931-1782759600-1782766800@svfehmarn.de
SUMMARY:Training Handball Herren
DESCRIPTION:Jahrgang 2008 & älter
URL:https://svfehmarn.de/veranstaltung/training-handball-maennliche-a-b-jugend-herren-3-2/2026-06-29/
LOCATION:Halle West (Grundschule Burg)\, Ohrtstraße 33\, Fehmarn\, Schleswig-Holstein\, 23769\, Deutschland
CATEGORIES:Handball,Handball Männliche A-B-Jugend
ORGANIZER;CN="SV Fehmarn":MAILTO:moin@svfehmarn.de
END:VEVENT
BEGIN:VEVENT
DTSTART;TZID=Europe/Berlin:20260706T190000
DTEND;TZID=Europe/Berlin:20260706T210000
DTSTAMP:20260421T163157
CREATED:20251026T210501Z
LAST-MODIFIED:20260208T162628Z
UID:10076932-1783364400-1783371600@svfehmarn.de
SUMMARY:Training Handball Herren
DESCRIPTION:Jahrgang 2008 & älter
URL:https://svfehmarn.de/veranstaltung/training-handball-maennliche-a-b-jugend-herren-3-2/2026-07-06/
LOCATION:Halle West (Grundschule Burg)\, Ohrtstraße 33\, Fehmarn\, Schleswig-Holstein\, 23769\, Deutschland
CATEGORIES:Handball,Handball Männliche A-B-Jugend
ORGANIZER;CN="SV Fehmarn":MAILTO:moin@svfehmarn.de
END:VEVENT
BEGIN:VEVENT
DTSTART;TZID=Europe/Berlin:20260713T190000
DTEND;TZID=Europe/Berlin:20260713T210000
DTSTAMP:20260421T163157
CREATED:20251026T210501Z
LAST-MODIFIED:20260208T162628Z
UID:10076933-1783969200-1783976400@svfehmarn.de
SUMMARY:Training Handball Herren
DESCRIPTION:Jahrgang 2008 & älter
URL:https://svfehmarn.de/veranstaltung/training-handball-maennliche-a-b-jugend-herren-3-2/2026-07-13/
LOCATION:Halle West (Grundschule Burg)\, Ohrtstraße 33\, Fehmarn\, Schleswig-Holstein\, 23769\, Deutschland
CATEGORIES:Handball,Handball Männliche A-B-Jugend
ORGANIZER;CN="SV Fehmarn":MAILTO:moin@svfehmarn.de
END:VEVENT
BEGIN:VEVENT
DTSTART;TZID=Europe/Berlin:20260720T190000
DTEND;TZID=Europe/Berlin:20260720T210000
DTSTAMP:20260421T163157
CREATED:20251026T210501Z
LAST-MODIFIED:20260208T162628Z
UID:10076934-1784574000-1784581200@svfehmarn.de
SUMMARY:Training Handball Herren
DESCRIPTION:Jahrgang 2008 & älter
URL:https://svfehmarn.de/veranstaltung/training-handball-maennliche-a-b-jugend-herren-3-2/2026-07-20/
LOCATION:Halle West (Grundschule Burg)\, Ohrtstraße 33\, Fehmarn\, Schleswig-Holstein\, 23769\, Deutschland
CATEGORIES:Handball,Handball Männliche A-B-Jugend
ORGANIZER;CN="SV Fehmarn":MAILTO:moin@svfehmarn.de
END:VEVENT
BEGIN:VEVENT
DTSTART;TZID=Europe/Berlin:20260727T190000
DTEND;TZID=Europe/Berlin:20260727T210000
DTSTAMP:20260421T163157
CREATED:20251026T210501Z
LAST-MODIFIED:20260208T162628Z
UID:10076935-1785178800-1785186000@svfehmarn.de
SUMMARY:Training Handball Herren
DESCRIPTION:Jahrgang 2008 & älter
URL:https://svfehmarn.de/veranstaltung/training-handball-maennliche-a-b-jugend-herren-3-2/2026-07-27/
LOCATION:Halle West (Grundschule Burg)\, Ohrtstraße 33\, Fehmarn\, Schleswig-Holstein\, 23769\, Deutschland
CATEGORIES:Handball,Handball Männliche A-B-Jugend
ORGANIZER;CN="SV Fehmarn":MAILTO:moin@svfehmarn.de
END:VEVENT
BEGIN:VEVENT
DTSTART;TZID=Europe/Berlin:20260803T190000
DTEND;TZID=Europe/Berlin:20260803T210000
DTSTAMP:20260421T163157
CREATED:20251026T210501Z
LAST-MODIFIED:20260208T162628Z
UID:10076936-1785783600-1785790800@svfehmarn.de
SUMMARY:Training Handball Herren
DESCRIPTION:Jahrgang 2008 & älter
URL:https://svfehmarn.de/veranstaltung/training-handball-maennliche-a-b-jugend-herren-3-2/2026-08-03/
LOCATION:Halle West (Grundschule Burg)\, Ohrtstraße 33\, Fehmarn\, Schleswig-Holstein\, 23769\, Deutschland
CATEGORIES:Handball,Handball Männliche A-B-Jugend
ORGANIZER;CN="SV Fehmarn":MAILTO:moin@svfehmarn.de
END:VEVENT
BEGIN:VEVENT
DTSTART;TZID=Europe/Berlin:20260810T190000
DTEND;TZID=Europe/Berlin:20260810T210000
DTSTAMP:20260421T163158
CREATED:20251026T210501Z
LAST-MODIFIED:20260208T162628Z
UID:10076937-1786388400-1786395600@svfehmarn.de
SUMMARY:Training Handball Herren
DESCRIPTION:Jahrgang 2008 & älter
URL:https://svfehmarn.de/veranstaltung/training-handball-maennliche-a-b-jugend-herren-3-2/2026-08-10/
LOCATION:Halle West (Grundschule Burg)\, Ohrtstraße 33\, Fehmarn\, Schleswig-Holstein\, 23769\, Deutschland
CATEGORIES:Handball,Handball Männliche A-B-Jugend
ORGANIZER;CN="SV Fehmarn":MAILTO:moin@svfehmarn.de
END:VEVENT
BEGIN:VEVENT
DTSTART;TZID=Europe/Berlin:20260817T190000
DTEND;TZID=Europe/Berlin:20260817T210000
DTSTAMP:20260421T163158
CREATED:20251026T210501Z
LAST-MODIFIED:20260208T162628Z
UID:10076938-1786993200-1787000400@svfehmarn.de
SUMMARY:Training Handball Herren
DESCRIPTION:Jahrgang 2008 & älter
URL:https://svfehmarn.de/veranstaltung/training-handball-maennliche-a-b-jugend-herren-3-2/2026-08-17/
LOCATION:Halle West (Grundschule Burg)\, Ohrtstraße 33\, Fehmarn\, Schleswig-Holstein\, 23769\, Deutschland
CATEGORIES:Handball,Handball Männliche A-B-Jugend
ORGANIZER;CN="SV Fehmarn":MAILTO:moin@svfehmarn.de
END:VEVENT
BEGIN:VEVENT
DTSTART;TZID=Europe/Berlin:20260824T190000
DTEND;TZID=Europe/Berlin:20260824T210000
DTSTAMP:20260421T163158
CREATED:20251026T210501Z
LAST-MODIFIED:20260208T162628Z
UID:10076939-1787598000-1787605200@svfehmarn.de
SUMMARY:Training Handball Herren
DESCRIPTION:Jahrgang 2008 & älter
URL:https://svfehmarn.de/veranstaltung/training-handball-maennliche-a-b-jugend-herren-3-2/2026-08-24/
LOCATION:Halle West (Grundschule Burg)\, Ohrtstraße 33\, Fehmarn\, Schleswig-Holstein\, 23769\, Deutschland
CATEGORIES:Handball,Handball Männliche A-B-Jugend
ORGANIZER;CN="SV Fehmarn":MAILTO:moin@svfehmarn.de
END:VEVENT
BEGIN:VEVENT
DTSTART;TZID=Europe/Berlin:20260831T190000
DTEND;TZID=Europe/Berlin:20260831T210000
DTSTAMP:20260421T163158
CREATED:20251026T210501Z
LAST-MODIFIED:20260208T162628Z
UID:10076940-1788202800-1788210000@svfehmarn.de
SUMMARY:Training Handball Herren
DESCRIPTION:Jahrgang 2008 & älter
URL:https://svfehmarn.de/veranstaltung/training-handball-maennliche-a-b-jugend-herren-3-2/2026-08-31/
LOCATION:Halle West (Grundschule Burg)\, Ohrtstraße 33\, Fehmarn\, Schleswig-Holstein\, 23769\, Deutschland
CATEGORIES:Handball,Handball Männliche A-B-Jugend
ORGANIZER;CN="SV Fehmarn":MAILTO:moin@svfehmarn.de
END:VEVENT
BEGIN:VEVENT
DTSTART;TZID=Europe/Berlin:20260907T190000
DTEND;TZID=Europe/Berlin:20260907T210000
DTSTAMP:20260421T163158
CREATED:20251026T210501Z
LAST-MODIFIED:20260208T162628Z
UID:10076941-1788807600-1788814800@svfehmarn.de
SUMMARY:Training Handball Herren
DESCRIPTION:Jahrgang 2008 & älter
URL:https://svfehmarn.de/veranstaltung/training-handball-maennliche-a-b-jugend-herren-3-2/2026-09-07/
LOCATION:Halle West (Grundschule Burg)\, Ohrtstraße 33\, Fehmarn\, Schleswig-Holstein\, 23769\, Deutschland
CATEGORIES:Handball,Handball Männliche A-B-Jugend
ORGANIZER;CN="SV Fehmarn":MAILTO:moin@svfehmarn.de
END:VEVENT
BEGIN:VEVENT
DTSTART;TZID=Europe/Berlin:20260914T190000
DTEND;TZID=Europe/Berlin:20260914T210000
DTSTAMP:20260421T163158
CREATED:20251026T210501Z
LAST-MODIFIED:20260208T162628Z
UID:10076942-1789412400-1789419600@svfehmarn.de
SUMMARY:Training Handball Herren
DESCRIPTION:Jahrgang 2008 & älter
URL:https://svfehmarn.de/veranstaltung/training-handball-maennliche-a-b-jugend-herren-3-2/2026-09-14/
LOCATION:Halle West (Grundschule Burg)\, Ohrtstraße 33\, Fehmarn\, Schleswig-Holstein\, 23769\, Deutschland
CATEGORIES:Handball,Handball Männliche A-B-Jugend
ORGANIZER;CN="SV Fehmarn":MAILTO:moin@svfehmarn.de
END:VEVENT
BEGIN:VEVENT
DTSTART;TZID=Europe/Berlin:20260921T190000
DTEND;TZID=Europe/Berlin:20260921T210000
DTSTAMP:20260421T163158
CREATED:20251026T210501Z
LAST-MODIFIED:20260208T162628Z
UID:10076943-1790017200-1790024400@svfehmarn.de
SUMMARY:Training Handball Herren
DESCRIPTION:Jahrgang 2008 & älter
URL:https://svfehmarn.de/veranstaltung/training-handball-maennliche-a-b-jugend-herren-3-2/2026-09-21/
LOCATION:Halle West (Grundschule Burg)\, Ohrtstraße 33\, Fehmarn\, Schleswig-Holstein\, 23769\, Deutschland
CATEGORIES:Handball,Handball Männliche A-B-Jugend
ORGANIZER;CN="SV Fehmarn":MAILTO:moin@svfehmarn.de
END:VEVENT
BEGIN:VEVENT
DTSTART;TZID=Europe/Berlin:20260928T190000
DTEND;TZID=Europe/Berlin:20260928T210000
DTSTAMP:20260421T163158
CREATED:20251026T210501Z
LAST-MODIFIED:20260208T162628Z
UID:10076944-1790622000-1790629200@svfehmarn.de
SUMMARY:Training Handball Herren
DESCRIPTION:Jahrgang 2008 & älter
URL:https://svfehmarn.de/veranstaltung/training-handball-maennliche-a-b-jugend-herren-3-2/2026-09-28/
LOCATION:Halle West (Grundschule Burg)\, Ohrtstraße 33\, Fehmarn\, Schleswig-Holstein\, 23769\, Deutschland
CATEGORIES:Handball,Handball Männliche A-B-Jugend
ORGANIZER;CN="SV Fehmarn":MAILTO:moin@svfehmarn.de
END:VEVENT
BEGIN:VEVENT
DTSTART;TZID=Europe/Berlin:20261005T190000
DTEND;TZID=Europe/Berlin:20261005T210000
DTSTAMP:20260421T163158
CREATED:20251026T210501Z
LAST-MODIFIED:20260208T162628Z
UID:10076945-1791226800-1791234000@svfehmarn.de
SUMMARY:Training Handball Herren
DESCRIPTION:Jahrgang 2008 & älter
URL:https://svfehmarn.de/veranstaltung/training-handball-maennliche-a-b-jugend-herren-3-2/2026-10-05/
LOCATION:Halle West (Grundschule Burg)\, Ohrtstraße 33\, Fehmarn\, Schleswig-Holstein\, 23769\, Deutschland
CATEGORIES:Handball,Handball Männliche A-B-Jugend
ORGANIZER;CN="SV Fehmarn":MAILTO:moin@svfehmarn.de
END:VEVENT
BEGIN:VEVENT
DTSTART;TZID=Europe/Berlin:20261012T190000
DTEND;TZID=Europe/Berlin:20261012T210000
DTSTAMP:20260421T163158
CREATED:20251026T210501Z
LAST-MODIFIED:20260208T162628Z
UID:10076946-1791831600-1791838800@svfehmarn.de
SUMMARY:Training Handball Herren
DESCRIPTION:Jahrgang 2008 & älter
URL:https://svfehmarn.de/veranstaltung/training-handball-maennliche-a-b-jugend-herren-3-2/2026-10-12/
LOCATION:Halle West (Grundschule Burg)\, Ohrtstraße 33\, Fehmarn\, Schleswig-Holstein\, 23769\, Deutschland
CATEGORIES:Handball,Handball Männliche A-B-Jugend
ORGANIZER;CN="SV Fehmarn":MAILTO:moin@svfehmarn.de
END:VEVENT
BEGIN:VEVENT
DTSTART;TZID=Europe/Berlin:20261019T190000
DTEND;TZID=Europe/Berlin:20261019T210000
DTSTAMP:20260421T163158
CREATED:20251026T210501Z
LAST-MODIFIED:20260208T162628Z
UID:10076947-1792436400-1792443600@svfehmarn.de
SUMMARY:Training Handball Herren
DESCRIPTION:Jahrgang 2008 & älter
URL:https://svfehmarn.de/veranstaltung/training-handball-maennliche-a-b-jugend-herren-3-2/2026-10-19/
LOCATION:Halle West (Grundschule Burg)\, Ohrtstraße 33\, Fehmarn\, Schleswig-Holstein\, 23769\, Deutschland
CATEGORIES:Handball,Handball Männliche A-B-Jugend
ORGANIZER;CN="SV Fehmarn":MAILTO:moin@svfehmarn.de
END:VEVENT
BEGIN:VEVENT
DTSTART;TZID=Europe/Berlin:20261026T190000
DTEND;TZID=Europe/Berlin:20261026T210000
DTSTAMP:20260421T163158
CREATED:20251026T210501Z
LAST-MODIFIED:20260208T162628Z
UID:10076948-1793041200-1793048400@svfehmarn.de
SUMMARY:Training Handball Herren
DESCRIPTION:Jahrgang 2008 & älter
URL:https://svfehmarn.de/veranstaltung/training-handball-maennliche-a-b-jugend-herren-3-2/2026-10-26/
LOCATION:Halle West (Grundschule Burg)\, Ohrtstraße 33\, Fehmarn\, Schleswig-Holstein\, 23769\, Deutschland
CATEGORIES:Handball,Handball Männliche A-B-Jugend
ORGANIZER;CN="SV Fehmarn":MAILTO:moin@svfehmarn.de
END:VEVENT
BEGIN:VEVENT
DTSTART;TZID=Europe/Berlin:20261102T190000
DTEND;TZID=Europe/Berlin:20261102T210000
DTSTAMP:20260421T163158
CREATED:20251026T210501Z
LAST-MODIFIED:20260208T162628Z
UID:10076949-1793646000-1793653200@svfehmarn.de
SUMMARY:Training Handball Herren
DESCRIPTION:Jahrgang 2008 & älter
URL:https://svfehmarn.de/veranstaltung/training-handball-maennliche-a-b-jugend-herren-3-2/2026-11-02/
LOCATION:Halle West (Grundschule Burg)\, Ohrtstraße 33\, Fehmarn\, Schleswig-Holstein\, 23769\, Deutschland
CATEGORIES:Handball,Handball Männliche A-B-Jugend
ORGANIZER;CN="SV Fehmarn":MAILTO:moin@svfehmarn.de
END:VEVENT
BEGIN:VEVENT
DTSTART;TZID=Europe/Berlin:20261109T190000
DTEND;TZID=Europe/Berlin:20261109T210000
DTSTAMP:20260421T163158
CREATED:20251026T210501Z
LAST-MODIFIED:20260208T162628Z
UID:10076950-1794250800-1794258000@svfehmarn.de
SUMMARY:Training Handball Herren
DESCRIPTION:Jahrgang 2008 & älter
URL:https://svfehmarn.de/veranstaltung/training-handball-maennliche-a-b-jugend-herren-3-2/2026-11-09/
LOCATION:Halle West (Grundschule Burg)\, Ohrtstraße 33\, Fehmarn\, Schleswig-Holstein\, 23769\, Deutschland
CATEGORIES:Handball,Handball Männliche A-B-Jugend
ORGANIZER;CN="SV Fehmarn":MAILTO:moin@svfehmarn.de
END:VEVENT
BEGIN:VEVENT
DTSTART;TZID=Europe/Berlin:20261116T190000
DTEND;TZID=Europe/Berlin:20261116T210000
DTSTAMP:20260421T163158
CREATED:20251026T210501Z
LAST-MODIFIED:20260208T162628Z
UID:10076951-1794855600-1794862800@svfehmarn.de
SUMMARY:Training Handball Herren
DESCRIPTION:Jahrgang 2008 & älter
URL:https://svfehmarn.de/veranstaltung/training-handball-maennliche-a-b-jugend-herren-3-2/2026-11-16/
LOCATION:Halle West (Grundschule Burg)\, Ohrtstraße 33\, Fehmarn\, Schleswig-Holstein\, 23769\, Deutschland
CATEGORIES:Handball,Handball Männliche A-B-Jugend
ORGANIZER;CN="SV Fehmarn":MAILTO:moin@svfehmarn.de
END:VEVENT
END:VCALENDAR