BEGIN:VCALENDAR
VERSION:2.0
PRODID:-//SV Fehmarn - ECPv6.15.18//NONSGML v1.0//EN
CALSCALE:GREGORIAN
METHOD:PUBLISH
X-WR-CALNAME:SV Fehmarn
X-ORIGINAL-URL:https://svfehmarn.de
X-WR-CALDESC:Veranstaltungen für SV Fehmarn
REFRESH-INTERVAL;VALUE=DURATION:PT1H
X-Robots-Tag:noindex
X-PUBLISHED-TTL:PT1H
BEGIN:VTIMEZONE
TZID:Europe/Berlin
BEGIN:DAYLIGHT
TZOFFSETFROM:+0100
TZOFFSETTO:+0200
TZNAME:CEST
DTSTART:20250330T010000
END:DAYLIGHT
BEGIN:STANDARD
TZOFFSETFROM:+0200
TZOFFSETTO:+0100
TZNAME:CET
DTSTART:20251026T010000
END:STANDARD
BEGIN:DAYLIGHT
TZOFFSETFROM:+0100
TZOFFSETTO:+0200
TZNAME:CEST
DTSTART:20260329T010000
END:DAYLIGHT
BEGIN:STANDARD
TZOFFSETFROM:+0200
TZOFFSETTO:+0100
TZNAME:CET
DTSTART:20261025T010000
END:STANDARD
BEGIN:DAYLIGHT
TZOFFSETFROM:+0100
TZOFFSETTO:+0200
TZNAME:CEST
DTSTART:20270328T010000
END:DAYLIGHT
BEGIN:STANDARD
TZOFFSETFROM:+0200
TZOFFSETTO:+0100
TZNAME:CET
DTSTART:20271031T010000
END:STANDARD
END:VTIMEZONE
BEGIN:VEVENT
DTSTART;TZID=Europe/Berlin:20260427T170000
DTEND;TZID=Europe/Berlin:20260427T183000
DTSTAMP:20260421T104501
CREATED:20251031T202748Z
LAST-MODIFIED:20260208T162838Z
UID:10078757-1777309200-1777314600@svfehmarn.de
SUMMARY:Training Handball weibliche C-Jugend
DESCRIPTION:
URL:https://svfehmarn.de/veranstaltung/training-handball-weibl-c-jugend-3/2026-04-27/
LOCATION:Halle West (Grundschule Burg)\, Ohrtstraße 33\, Fehmarn\, Schleswig-Holstein\, 23769\, Deutschland
CATEGORIES:Handball,Handball Weibliche C-Jugend
ORGANIZER;CN="SV Fehmarn":MAILTO:moin@svfehmarn.de
END:VEVENT
BEGIN:VEVENT
DTSTART;TZID=Europe/Berlin:20260504T170000
DTEND;TZID=Europe/Berlin:20260504T183000
DTSTAMP:20260421T104501
CREATED:20251031T202748Z
LAST-MODIFIED:20260208T162838Z
UID:10078758-1777914000-1777919400@svfehmarn.de
SUMMARY:Training Handball weibliche C-Jugend
DESCRIPTION:
URL:https://svfehmarn.de/veranstaltung/training-handball-weibl-c-jugend-3/2026-05-04/
LOCATION:Halle West (Grundschule Burg)\, Ohrtstraße 33\, Fehmarn\, Schleswig-Holstein\, 23769\, Deutschland
CATEGORIES:Handball,Handball Weibliche C-Jugend
ORGANIZER;CN="SV Fehmarn":MAILTO:moin@svfehmarn.de
END:VEVENT
BEGIN:VEVENT
DTSTART;TZID=Europe/Berlin:20260511T170000
DTEND;TZID=Europe/Berlin:20260511T183000
DTSTAMP:20260421T104501
CREATED:20251031T202748Z
LAST-MODIFIED:20260208T162838Z
UID:10078759-1778518800-1778524200@svfehmarn.de
SUMMARY:Training Handball weibliche C-Jugend
DESCRIPTION:
URL:https://svfehmarn.de/veranstaltung/training-handball-weibl-c-jugend-3/2026-05-11/
LOCATION:Halle West (Grundschule Burg)\, Ohrtstraße 33\, Fehmarn\, Schleswig-Holstein\, 23769\, Deutschland
CATEGORIES:Handball,Handball Weibliche C-Jugend
ORGANIZER;CN="SV Fehmarn":MAILTO:moin@svfehmarn.de
END:VEVENT
BEGIN:VEVENT
DTSTART;TZID=Europe/Berlin:20260518T170000
DTEND;TZID=Europe/Berlin:20260518T183000
DTSTAMP:20260421T104501
CREATED:20251031T202748Z
LAST-MODIFIED:20260208T162838Z
UID:10078760-1779123600-1779129000@svfehmarn.de
SUMMARY:Training Handball weibliche C-Jugend
DESCRIPTION:
URL:https://svfehmarn.de/veranstaltung/training-handball-weibl-c-jugend-3/2026-05-18/
LOCATION:Halle West (Grundschule Burg)\, Ohrtstraße 33\, Fehmarn\, Schleswig-Holstein\, 23769\, Deutschland
CATEGORIES:Handball,Handball Weibliche C-Jugend
ORGANIZER;CN="SV Fehmarn":MAILTO:moin@svfehmarn.de
END:VEVENT
BEGIN:VEVENT
DTSTART;TZID=Europe/Berlin:20260525T170000
DTEND;TZID=Europe/Berlin:20260525T183000
DTSTAMP:20260421T104501
CREATED:20251031T202748Z
LAST-MODIFIED:20260208T162838Z
UID:10078761-1779728400-1779733800@svfehmarn.de
SUMMARY:Training Handball weibliche C-Jugend
DESCRIPTION:
URL:https://svfehmarn.de/veranstaltung/training-handball-weibl-c-jugend-3/2026-05-25/
LOCATION:Halle West (Grundschule Burg)\, Ohrtstraße 33\, Fehmarn\, Schleswig-Holstein\, 23769\, Deutschland
CATEGORIES:Handball,Handball Weibliche C-Jugend
ORGANIZER;CN="SV Fehmarn":MAILTO:moin@svfehmarn.de
END:VEVENT
BEGIN:VEVENT
DTSTART;TZID=Europe/Berlin:20260601T170000
DTEND;TZID=Europe/Berlin:20260601T183000
DTSTAMP:20260421T104501
CREATED:20251031T202748Z
LAST-MODIFIED:20260208T162838Z
UID:10078762-1780333200-1780338600@svfehmarn.de
SUMMARY:Training Handball weibliche C-Jugend
DESCRIPTION:
URL:https://svfehmarn.de/veranstaltung/training-handball-weibl-c-jugend-3/2026-06-01/
LOCATION:Halle West (Grundschule Burg)\, Ohrtstraße 33\, Fehmarn\, Schleswig-Holstein\, 23769\, Deutschland
CATEGORIES:Handball,Handball Weibliche C-Jugend
ORGANIZER;CN="SV Fehmarn":MAILTO:moin@svfehmarn.de
END:VEVENT
BEGIN:VEVENT
DTSTART;TZID=Europe/Berlin:20260608T170000
DTEND;TZID=Europe/Berlin:20260608T183000
DTSTAMP:20260421T104501
CREATED:20251031T202748Z
LAST-MODIFIED:20260208T162838Z
UID:10078763-1780938000-1780943400@svfehmarn.de
SUMMARY:Training Handball weibliche C-Jugend
DESCRIPTION:
URL:https://svfehmarn.de/veranstaltung/training-handball-weibl-c-jugend-3/2026-06-08/
LOCATION:Halle West (Grundschule Burg)\, Ohrtstraße 33\, Fehmarn\, Schleswig-Holstein\, 23769\, Deutschland
CATEGORIES:Handball,Handball Weibliche C-Jugend
ORGANIZER;CN="SV Fehmarn":MAILTO:moin@svfehmarn.de
END:VEVENT
BEGIN:VEVENT
DTSTART;TZID=Europe/Berlin:20260615T170000
DTEND;TZID=Europe/Berlin:20260615T183000
DTSTAMP:20260421T104501
CREATED:20251031T202748Z
LAST-MODIFIED:20260208T162838Z
UID:10078764-1781542800-1781548200@svfehmarn.de
SUMMARY:Training Handball weibliche C-Jugend
DESCRIPTION:
URL:https://svfehmarn.de/veranstaltung/training-handball-weibl-c-jugend-3/2026-06-15/
LOCATION:Halle West (Grundschule Burg)\, Ohrtstraße 33\, Fehmarn\, Schleswig-Holstein\, 23769\, Deutschland
CATEGORIES:Handball,Handball Weibliche C-Jugend
ORGANIZER;CN="SV Fehmarn":MAILTO:moin@svfehmarn.de
END:VEVENT
BEGIN:VEVENT
DTSTART;TZID=Europe/Berlin:20260622T170000
DTEND;TZID=Europe/Berlin:20260622T183000
DTSTAMP:20260421T104501
CREATED:20251031T202748Z
LAST-MODIFIED:20260208T162838Z
UID:10078765-1782147600-1782153000@svfehmarn.de
SUMMARY:Training Handball weibliche C-Jugend
DESCRIPTION:
URL:https://svfehmarn.de/veranstaltung/training-handball-weibl-c-jugend-3/2026-06-22/
LOCATION:Halle West (Grundschule Burg)\, Ohrtstraße 33\, Fehmarn\, Schleswig-Holstein\, 23769\, Deutschland
CATEGORIES:Handball,Handball Weibliche C-Jugend
ORGANIZER;CN="SV Fehmarn":MAILTO:moin@svfehmarn.de
END:VEVENT
BEGIN:VEVENT
DTSTART;TZID=Europe/Berlin:20260629T170000
DTEND;TZID=Europe/Berlin:20260629T183000
DTSTAMP:20260421T104501
CREATED:20251031T202748Z
LAST-MODIFIED:20260208T162838Z
UID:10078766-1782752400-1782757800@svfehmarn.de
SUMMARY:Training Handball weibliche C-Jugend
DESCRIPTION:
URL:https://svfehmarn.de/veranstaltung/training-handball-weibl-c-jugend-3/2026-06-29/
LOCATION:Halle West (Grundschule Burg)\, Ohrtstraße 33\, Fehmarn\, Schleswig-Holstein\, 23769\, Deutschland
CATEGORIES:Handball,Handball Weibliche C-Jugend
ORGANIZER;CN="SV Fehmarn":MAILTO:moin@svfehmarn.de
END:VEVENT
BEGIN:VEVENT
DTSTART;TZID=Europe/Berlin:20260706T170000
DTEND;TZID=Europe/Berlin:20260706T183000
DTSTAMP:20260421T104501
CREATED:20251031T202748Z
LAST-MODIFIED:20260208T162838Z
UID:10078767-1783357200-1783362600@svfehmarn.de
SUMMARY:Training Handball weibliche C-Jugend
DESCRIPTION:
URL:https://svfehmarn.de/veranstaltung/training-handball-weibl-c-jugend-3/2026-07-06/
LOCATION:Halle West (Grundschule Burg)\, Ohrtstraße 33\, Fehmarn\, Schleswig-Holstein\, 23769\, Deutschland
CATEGORIES:Handball,Handball Weibliche C-Jugend
ORGANIZER;CN="SV Fehmarn":MAILTO:moin@svfehmarn.de
END:VEVENT
BEGIN:VEVENT
DTSTART;TZID=Europe/Berlin:20260713T170000
DTEND;TZID=Europe/Berlin:20260713T183000
DTSTAMP:20260421T104501
CREATED:20251031T202748Z
LAST-MODIFIED:20260208T162838Z
UID:10078768-1783962000-1783967400@svfehmarn.de
SUMMARY:Training Handball weibliche C-Jugend
DESCRIPTION:
URL:https://svfehmarn.de/veranstaltung/training-handball-weibl-c-jugend-3/2026-07-13/
LOCATION:Halle West (Grundschule Burg)\, Ohrtstraße 33\, Fehmarn\, Schleswig-Holstein\, 23769\, Deutschland
CATEGORIES:Handball,Handball Weibliche C-Jugend
ORGANIZER;CN="SV Fehmarn":MAILTO:moin@svfehmarn.de
END:VEVENT
BEGIN:VEVENT
DTSTART;TZID=Europe/Berlin:20260720T170000
DTEND;TZID=Europe/Berlin:20260720T183000
DTSTAMP:20260421T104501
CREATED:20251031T202748Z
LAST-MODIFIED:20260208T162838Z
UID:10078769-1784566800-1784572200@svfehmarn.de
SUMMARY:Training Handball weibliche C-Jugend
DESCRIPTION:
URL:https://svfehmarn.de/veranstaltung/training-handball-weibl-c-jugend-3/2026-07-20/
LOCATION:Halle West (Grundschule Burg)\, Ohrtstraße 33\, Fehmarn\, Schleswig-Holstein\, 23769\, Deutschland
CATEGORIES:Handball,Handball Weibliche C-Jugend
ORGANIZER;CN="SV Fehmarn":MAILTO:moin@svfehmarn.de
END:VEVENT
BEGIN:VEVENT
DTSTART;TZID=Europe/Berlin:20260727T170000
DTEND;TZID=Europe/Berlin:20260727T183000
DTSTAMP:20260421T104502
CREATED:20251031T202748Z
LAST-MODIFIED:20260208T162838Z
UID:10078770-1785171600-1785177000@svfehmarn.de
SUMMARY:Training Handball weibliche C-Jugend
DESCRIPTION:
URL:https://svfehmarn.de/veranstaltung/training-handball-weibl-c-jugend-3/2026-07-27/
LOCATION:Halle West (Grundschule Burg)\, Ohrtstraße 33\, Fehmarn\, Schleswig-Holstein\, 23769\, Deutschland
CATEGORIES:Handball,Handball Weibliche C-Jugend
ORGANIZER;CN="SV Fehmarn":MAILTO:moin@svfehmarn.de
END:VEVENT
BEGIN:VEVENT
DTSTART;TZID=Europe/Berlin:20260803T170000
DTEND;TZID=Europe/Berlin:20260803T183000
DTSTAMP:20260421T104502
CREATED:20251031T202748Z
LAST-MODIFIED:20260208T162838Z
UID:10078771-1785776400-1785781800@svfehmarn.de
SUMMARY:Training Handball weibliche C-Jugend
DESCRIPTION:
URL:https://svfehmarn.de/veranstaltung/training-handball-weibl-c-jugend-3/2026-08-03/
LOCATION:Halle West (Grundschule Burg)\, Ohrtstraße 33\, Fehmarn\, Schleswig-Holstein\, 23769\, Deutschland
CATEGORIES:Handball,Handball Weibliche C-Jugend
ORGANIZER;CN="SV Fehmarn":MAILTO:moin@svfehmarn.de
END:VEVENT
BEGIN:VEVENT
DTSTART;TZID=Europe/Berlin:20260810T170000
DTEND;TZID=Europe/Berlin:20260810T183000
DTSTAMP:20260421T104502
CREATED:20251031T202748Z
LAST-MODIFIED:20260208T162838Z
UID:10078772-1786381200-1786386600@svfehmarn.de
SUMMARY:Training Handball weibliche C-Jugend
DESCRIPTION:
URL:https://svfehmarn.de/veranstaltung/training-handball-weibl-c-jugend-3/2026-08-10/
LOCATION:Halle West (Grundschule Burg)\, Ohrtstraße 33\, Fehmarn\, Schleswig-Holstein\, 23769\, Deutschland
CATEGORIES:Handball,Handball Weibliche C-Jugend
ORGANIZER;CN="SV Fehmarn":MAILTO:moin@svfehmarn.de
END:VEVENT
BEGIN:VEVENT
DTSTART;TZID=Europe/Berlin:20260817T170000
DTEND;TZID=Europe/Berlin:20260817T183000
DTSTAMP:20260421T104502
CREATED:20251031T202748Z
LAST-MODIFIED:20260208T162838Z
UID:10078773-1786986000-1786991400@svfehmarn.de
SUMMARY:Training Handball weibliche C-Jugend
DESCRIPTION:
URL:https://svfehmarn.de/veranstaltung/training-handball-weibl-c-jugend-3/2026-08-17/
LOCATION:Halle West (Grundschule Burg)\, Ohrtstraße 33\, Fehmarn\, Schleswig-Holstein\, 23769\, Deutschland
CATEGORIES:Handball,Handball Weibliche C-Jugend
ORGANIZER;CN="SV Fehmarn":MAILTO:moin@svfehmarn.de
END:VEVENT
BEGIN:VEVENT
DTSTART;TZID=Europe/Berlin:20260824T170000
DTEND;TZID=Europe/Berlin:20260824T183000
DTSTAMP:20260421T104502
CREATED:20251031T202748Z
LAST-MODIFIED:20260208T162838Z
UID:10078774-1787590800-1787596200@svfehmarn.de
SUMMARY:Training Handball weibliche C-Jugend
DESCRIPTION:
URL:https://svfehmarn.de/veranstaltung/training-handball-weibl-c-jugend-3/2026-08-24/
LOCATION:Halle West (Grundschule Burg)\, Ohrtstraße 33\, Fehmarn\, Schleswig-Holstein\, 23769\, Deutschland
CATEGORIES:Handball,Handball Weibliche C-Jugend
ORGANIZER;CN="SV Fehmarn":MAILTO:moin@svfehmarn.de
END:VEVENT
BEGIN:VEVENT
DTSTART;TZID=Europe/Berlin:20260831T170000
DTEND;TZID=Europe/Berlin:20260831T183000
DTSTAMP:20260421T104502
CREATED:20251031T202748Z
LAST-MODIFIED:20260208T162838Z
UID:10078775-1788195600-1788201000@svfehmarn.de
SUMMARY:Training Handball weibliche C-Jugend
DESCRIPTION:
URL:https://svfehmarn.de/veranstaltung/training-handball-weibl-c-jugend-3/2026-08-31/
LOCATION:Halle West (Grundschule Burg)\, Ohrtstraße 33\, Fehmarn\, Schleswig-Holstein\, 23769\, Deutschland
CATEGORIES:Handball,Handball Weibliche C-Jugend
ORGANIZER;CN="SV Fehmarn":MAILTO:moin@svfehmarn.de
END:VEVENT
BEGIN:VEVENT
DTSTART;TZID=Europe/Berlin:20260907T170000
DTEND;TZID=Europe/Berlin:20260907T183000
DTSTAMP:20260421T104502
CREATED:20251031T202748Z
LAST-MODIFIED:20260208T162838Z
UID:10078776-1788800400-1788805800@svfehmarn.de
SUMMARY:Training Handball weibliche C-Jugend
DESCRIPTION:
URL:https://svfehmarn.de/veranstaltung/training-handball-weibl-c-jugend-3/2026-09-07/
LOCATION:Halle West (Grundschule Burg)\, Ohrtstraße 33\, Fehmarn\, Schleswig-Holstein\, 23769\, Deutschland
CATEGORIES:Handball,Handball Weibliche C-Jugend
ORGANIZER;CN="SV Fehmarn":MAILTO:moin@svfehmarn.de
END:VEVENT
BEGIN:VEVENT
DTSTART;TZID=Europe/Berlin:20260914T170000
DTEND;TZID=Europe/Berlin:20260914T183000
DTSTAMP:20260421T104502
CREATED:20251031T202748Z
LAST-MODIFIED:20260208T162838Z
UID:10078777-1789405200-1789410600@svfehmarn.de
SUMMARY:Training Handball weibliche C-Jugend
DESCRIPTION:
URL:https://svfehmarn.de/veranstaltung/training-handball-weibl-c-jugend-3/2026-09-14/
LOCATION:Halle West (Grundschule Burg)\, Ohrtstraße 33\, Fehmarn\, Schleswig-Holstein\, 23769\, Deutschland
CATEGORIES:Handball,Handball Weibliche C-Jugend
ORGANIZER;CN="SV Fehmarn":MAILTO:moin@svfehmarn.de
END:VEVENT
BEGIN:VEVENT
DTSTART;TZID=Europe/Berlin:20260921T170000
DTEND;TZID=Europe/Berlin:20260921T183000
DTSTAMP:20260421T104502
CREATED:20251031T202748Z
LAST-MODIFIED:20260208T162838Z
UID:10078778-1790010000-1790015400@svfehmarn.de
SUMMARY:Training Handball weibliche C-Jugend
DESCRIPTION:
URL:https://svfehmarn.de/veranstaltung/training-handball-weibl-c-jugend-3/2026-09-21/
LOCATION:Halle West (Grundschule Burg)\, Ohrtstraße 33\, Fehmarn\, Schleswig-Holstein\, 23769\, Deutschland
CATEGORIES:Handball,Handball Weibliche C-Jugend
ORGANIZER;CN="SV Fehmarn":MAILTO:moin@svfehmarn.de
END:VEVENT
BEGIN:VEVENT
DTSTART;TZID=Europe/Berlin:20260928T170000
DTEND;TZID=Europe/Berlin:20260928T183000
DTSTAMP:20260421T104502
CREATED:20251031T202748Z
LAST-MODIFIED:20260208T162838Z
UID:10078779-1790614800-1790620200@svfehmarn.de
SUMMARY:Training Handball weibliche C-Jugend
DESCRIPTION:
URL:https://svfehmarn.de/veranstaltung/training-handball-weibl-c-jugend-3/2026-09-28/
LOCATION:Halle West (Grundschule Burg)\, Ohrtstraße 33\, Fehmarn\, Schleswig-Holstein\, 23769\, Deutschland
CATEGORIES:Handball,Handball Weibliche C-Jugend
ORGANIZER;CN="SV Fehmarn":MAILTO:moin@svfehmarn.de
END:VEVENT
BEGIN:VEVENT
DTSTART;TZID=Europe/Berlin:20261005T170000
DTEND;TZID=Europe/Berlin:20261005T183000
DTSTAMP:20260421T104502
CREATED:20251031T202748Z
LAST-MODIFIED:20260208T162838Z
UID:10078780-1791219600-1791225000@svfehmarn.de
SUMMARY:Training Handball weibliche C-Jugend
DESCRIPTION:
URL:https://svfehmarn.de/veranstaltung/training-handball-weibl-c-jugend-3/2026-10-05/
LOCATION:Halle West (Grundschule Burg)\, Ohrtstraße 33\, Fehmarn\, Schleswig-Holstein\, 23769\, Deutschland
CATEGORIES:Handball,Handball Weibliche C-Jugend
ORGANIZER;CN="SV Fehmarn":MAILTO:moin@svfehmarn.de
END:VEVENT
BEGIN:VEVENT
DTSTART;TZID=Europe/Berlin:20261012T170000
DTEND;TZID=Europe/Berlin:20261012T183000
DTSTAMP:20260421T104502
CREATED:20251031T202748Z
LAST-MODIFIED:20260208T162838Z
UID:10078781-1791824400-1791829800@svfehmarn.de
SUMMARY:Training Handball weibliche C-Jugend
DESCRIPTION:
URL:https://svfehmarn.de/veranstaltung/training-handball-weibl-c-jugend-3/2026-10-12/
LOCATION:Halle West (Grundschule Burg)\, Ohrtstraße 33\, Fehmarn\, Schleswig-Holstein\, 23769\, Deutschland
CATEGORIES:Handball,Handball Weibliche C-Jugend
ORGANIZER;CN="SV Fehmarn":MAILTO:moin@svfehmarn.de
END:VEVENT
BEGIN:VEVENT
DTSTART;TZID=Europe/Berlin:20261019T170000
DTEND;TZID=Europe/Berlin:20261019T183000
DTSTAMP:20260421T104502
CREATED:20251031T202748Z
LAST-MODIFIED:20260208T162838Z
UID:10078782-1792429200-1792434600@svfehmarn.de
SUMMARY:Training Handball weibliche C-Jugend
DESCRIPTION:
URL:https://svfehmarn.de/veranstaltung/training-handball-weibl-c-jugend-3/2026-10-19/
LOCATION:Halle West (Grundschule Burg)\, Ohrtstraße 33\, Fehmarn\, Schleswig-Holstein\, 23769\, Deutschland
CATEGORIES:Handball,Handball Weibliche C-Jugend
ORGANIZER;CN="SV Fehmarn":MAILTO:moin@svfehmarn.de
END:VEVENT
BEGIN:VEVENT
DTSTART;TZID=Europe/Berlin:20261026T170000
DTEND;TZID=Europe/Berlin:20261026T183000
DTSTAMP:20260421T104502
CREATED:20251031T202748Z
LAST-MODIFIED:20260208T162838Z
UID:10078783-1793034000-1793039400@svfehmarn.de
SUMMARY:Training Handball weibliche C-Jugend
DESCRIPTION:
URL:https://svfehmarn.de/veranstaltung/training-handball-weibl-c-jugend-3/2026-10-26/
LOCATION:Halle West (Grundschule Burg)\, Ohrtstraße 33\, Fehmarn\, Schleswig-Holstein\, 23769\, Deutschland
CATEGORIES:Handball,Handball Weibliche C-Jugend
ORGANIZER;CN="SV Fehmarn":MAILTO:moin@svfehmarn.de
END:VEVENT
BEGIN:VEVENT
DTSTART;TZID=Europe/Berlin:20261102T170000
DTEND;TZID=Europe/Berlin:20261102T183000
DTSTAMP:20260421T104502
CREATED:20251031T202748Z
LAST-MODIFIED:20260208T162838Z
UID:10078784-1793638800-1793644200@svfehmarn.de
SUMMARY:Training Handball weibliche C-Jugend
DESCRIPTION:
URL:https://svfehmarn.de/veranstaltung/training-handball-weibl-c-jugend-3/2026-11-02/
LOCATION:Halle West (Grundschule Burg)\, Ohrtstraße 33\, Fehmarn\, Schleswig-Holstein\, 23769\, Deutschland
CATEGORIES:Handball,Handball Weibliche C-Jugend
ORGANIZER;CN="SV Fehmarn":MAILTO:moin@svfehmarn.de
END:VEVENT
BEGIN:VEVENT
DTSTART;TZID=Europe/Berlin:20261109T170000
DTEND;TZID=Europe/Berlin:20261109T183000
DTSTAMP:20260421T104502
CREATED:20251031T202748Z
LAST-MODIFIED:20260208T162838Z
UID:10078785-1794243600-1794249000@svfehmarn.de
SUMMARY:Training Handball weibliche C-Jugend
DESCRIPTION:
URL:https://svfehmarn.de/veranstaltung/training-handball-weibl-c-jugend-3/2026-11-09/
LOCATION:Halle West (Grundschule Burg)\, Ohrtstraße 33\, Fehmarn\, Schleswig-Holstein\, 23769\, Deutschland
CATEGORIES:Handball,Handball Weibliche C-Jugend
ORGANIZER;CN="SV Fehmarn":MAILTO:moin@svfehmarn.de
END:VEVENT
BEGIN:VEVENT
DTSTART;TZID=Europe/Berlin:20261116T170000
DTEND;TZID=Europe/Berlin:20261116T183000
DTSTAMP:20260421T104502
CREATED:20251031T202748Z
LAST-MODIFIED:20260208T162838Z
UID:10078786-1794848400-1794853800@svfehmarn.de
SUMMARY:Training Handball weibliche C-Jugend
DESCRIPTION:
URL:https://svfehmarn.de/veranstaltung/training-handball-weibl-c-jugend-3/2026-11-16/
LOCATION:Halle West (Grundschule Burg)\, Ohrtstraße 33\, Fehmarn\, Schleswig-Holstein\, 23769\, Deutschland
CATEGORIES:Handball,Handball Weibliche C-Jugend
ORGANIZER;CN="SV Fehmarn":MAILTO:moin@svfehmarn.de
END:VEVENT
END:VCALENDAR