BEGIN:VCALENDAR
VERSION:2.0
PRODID:-//SV Fehmarn - ECPv6.15.18//NONSGML v1.0//EN
CALSCALE:GREGORIAN
METHOD:PUBLISH
X-ORIGINAL-URL:https://svfehmarn.de
X-WR-CALDESC:Veranstaltungen für SV Fehmarn
REFRESH-INTERVAL;VALUE=DURATION:PT1H
X-Robots-Tag:noindex
X-PUBLISHED-TTL:PT1H
BEGIN:VTIMEZONE
TZID:Europe/Berlin
BEGIN:DAYLIGHT
TZOFFSETFROM:+0100
TZOFFSETTO:+0200
TZNAME:CEST
DTSTART:20250330T010000
END:DAYLIGHT
BEGIN:STANDARD
TZOFFSETFROM:+0200
TZOFFSETTO:+0100
TZNAME:CET
DTSTART:20251026T010000
END:STANDARD
BEGIN:DAYLIGHT
TZOFFSETFROM:+0100
TZOFFSETTO:+0200
TZNAME:CEST
DTSTART:20260329T010000
END:DAYLIGHT
BEGIN:STANDARD
TZOFFSETFROM:+0200
TZOFFSETTO:+0100
TZNAME:CET
DTSTART:20261025T010000
END:STANDARD
BEGIN:DAYLIGHT
TZOFFSETFROM:+0100
TZOFFSETTO:+0200
TZNAME:CEST
DTSTART:20270328T010000
END:DAYLIGHT
BEGIN:STANDARD
TZOFFSETFROM:+0200
TZOFFSETTO:+0100
TZNAME:CET
DTSTART:20271031T010000
END:STANDARD
END:VTIMEZONE
BEGIN:VEVENT
DTSTART;TZID=Europe/Berlin:20260420T200000
DTEND;TZID=Europe/Berlin:20260420T220000
DTSTAMP:20260421T144811
CREATED:20260107T165056Z
LAST-MODIFIED:20260208T160654Z
UID:10081143-1776715200-1776722400@svfehmarn.de
SUMMARY:Training Prellball Herren
DESCRIPTION:
URL:https://svfehmarn.de/veranstaltung/training-prellball-herren-2/2026-04-20/
LOCATION:Großsporthalle (Inselschule Fehmarn)\, Gahlendorfer Weg 25\, Fehmarn\, Schleswig-Holstein\, 23769\, Deutschland
CATEGORIES:Prellball,Prellball Herren
ORGANIZER;CN="SV Fehmarn":MAILTO:moin@svfehmarn.de
END:VEVENT
BEGIN:VEVENT
DTSTART;TZID=Europe/Berlin:20260420T200000
DTEND;TZID=Europe/Berlin:20260420T220000
DTSTAMP:20260421T144811
CREATED:20231110T143606Z
LAST-MODIFIED:20260208T162512Z
UID:10047864-1776715200-1776722400@svfehmarn.de
SUMMARY:Training Tischtennis Erwachsene
DESCRIPTION:
URL:https://svfehmarn.de/veranstaltung/training-tischtennis-erwachsene-grosssporthalle/2026-04-20/
LOCATION:Großsporthalle (Inselschule Fehmarn)\, Gahlendorfer Weg 25\, Fehmarn\, Schleswig-Holstein\, 23769\, Deutschland
CATEGORIES:Tischtennis,Tischtennis Erwachsene
ORGANIZER;CN="SV Fehmarn":MAILTO:moin@svfehmarn.de
END:VEVENT
BEGIN:VEVENT
DTSTART;TZID=Europe/Berlin:20260420T200000
DTEND;TZID=Europe/Berlin:20260420T220000
DTSTAMP:20260421T144811
CREATED:20230730T175105Z
LAST-MODIFIED:20260208T162526Z
UID:10027676-1776715200-1776722400@svfehmarn.de
SUMMARY:Training Turnen Altherrenturnen
DESCRIPTION:
URL:https://svfehmarn.de/veranstaltung/training-turnen-altherrenturnen/2026-04-20/
LOCATION:Großsporthalle (Inselschule Fehmarn)\, Gahlendorfer Weg 25\, Fehmarn\, Schleswig-Holstein\, 23769\, Deutschland
CATEGORIES:Altherrenturnen,Turnen
ORGANIZER;CN="SV Fehmarn":MAILTO:moin@svfehmarn.de
END:VEVENT
BEGIN:VEVENT
DTSTART;TZID=Europe/Berlin:20260420T193000
DTEND;TZID=Europe/Berlin:20260420T210000
DTSTAMP:20260421T144811
CREATED:20240402T131748Z
LAST-MODIFIED:20251206T155026Z
UID:10055318-1776713400-1776718800@svfehmarn.de
SUMMARY:Training Fußball Frauenmannschaft
DESCRIPTION:
URL:https://svfehmarn.de/veranstaltung/training-fussball-frauenmannschaft-grosssporthalle-3/2026-04-20/
LOCATION:Kunstrasen Burg
END:VEVENT
BEGIN:VEVENT
DTSTART;TZID=Europe/Berlin:20260420T193000
DTEND;TZID=Europe/Berlin:20260420T203000
DTSTAMP:20260421T144811
CREATED:20231110T155734Z
LAST-MODIFIED:20260208T162546Z
UID:10043570-1776713400-1776717000@svfehmarn.de
SUMMARY:Ladies-Workout
DESCRIPTION:
URL:https://svfehmarn.de/veranstaltung/ladies-workout-halle-west/2026-04-20/
LOCATION:Halle West (Grundschule Burg)\, Ohrtstraße 33\, Fehmarn\, Schleswig-Holstein\, 23769\, Deutschland
CATEGORIES:Fitness,Ladies-Workout
ORGANIZER;CN="SV Fehmarn":MAILTO:moin@svfehmarn.de
END:VEVENT
BEGIN:VEVENT
DTSTART;TZID=Europe/Berlin:20260420T193000
DTEND;TZID=Europe/Berlin:20260420T203000
DTSTAMP:20260421T144811
CREATED:20230730T133634Z
LAST-MODIFIED:20260208T162558Z
UID:10014359-1776713400-1776717000@svfehmarn.de
SUMMARY:Training Fitness Bauch-Beine-Po
DESCRIPTION:
URL:https://svfehmarn.de/veranstaltung/training-fitness-bauch-beine-po/2026-04-20/
LOCATION:Halle West (Grundschule Burg)\, Ohrtstraße 33\, Fehmarn\, Schleswig-Holstein\, 23769\, Deutschland
CATEGORIES:Bauch-Beine-Po,Fitness
ORGANIZER;CN="SV Fehmarn":MAILTO:moin@svfehmarn.de
END:VEVENT
BEGIN:VEVENT
DTSTART;TZID=Europe/Berlin:20260420T190000
DTEND;TZID=Europe/Berlin:20260420T223000
DTSTAMP:20260421T144811
CREATED:20250209T110344Z
LAST-MODIFIED:20260208T162610Z
UID:10058944-1776711600-1776724200@svfehmarn.de
SUMMARY:Training Tischtennis Erwachsene
DESCRIPTION:
URL:https://svfehmarn.de/veranstaltung/training-tischtennis-erwachsene-2-2/2026-04-20/
LOCATION:Großsporthalle (Inselschule Fehmarn)\, Gahlendorfer Weg 25\, Fehmarn\, Schleswig-Holstein\, 23769\, Deutschland
CATEGORIES:Tischtennis,Tischtennis Erwachsene
ORGANIZER;CN="SV Fehmarn":MAILTO:moin@svfehmarn.de
END:VEVENT
BEGIN:VEVENT
DTSTART;TZID=Europe/Berlin:20260420T190000
DTEND;TZID=Europe/Berlin:20260420T210000
DTSTAMP:20260421T144811
CREATED:20251026T210501Z
LAST-MODIFIED:20260208T162628Z
UID:10076921-1776711600-1776718800@svfehmarn.de
SUMMARY:Training Handball Herren
DESCRIPTION:Jahrgang 2008 & älter
URL:https://svfehmarn.de/veranstaltung/training-handball-maennliche-a-b-jugend-herren-3-2/2026-04-20/
LOCATION:Halle West (Grundschule Burg)\, Ohrtstraße 33\, Fehmarn\, Schleswig-Holstein\, 23769\, Deutschland
CATEGORIES:Handball,Handball Männliche A-B-Jugend
ORGANIZER;CN="SV Fehmarn":MAILTO:moin@svfehmarn.de
END:VEVENT
BEGIN:VEVENT
DTSTART;TZID=Europe/Berlin:20260420T190000
DTEND;TZID=Europe/Berlin:20260420T204500
DTSTAMP:20260421T144811
CREATED:20240229T163038Z
LAST-MODIFIED:20260208T162643Z
UID:10051325-1776711600-1776717900@svfehmarn.de
SUMMARY:Training Fußball Frauenmannschaft
DESCRIPTION:
URL:https://svfehmarn.de/veranstaltung/training-fussball-frauenmannschaft-grosssporthalle/2026-04-20/
LOCATION:Großsporthalle (Inselschule Fehmarn)\, Gahlendorfer Weg 25\, Fehmarn\, Schleswig-Holstein\, 23769\, Deutschland
CATEGORIES:Fußball,Fußball Erwachsene,Fußball Frauenmannschaft
ORGANIZER;CN="SV Fehmarn":MAILTO:moin@svfehmarn.de
END:VEVENT
BEGIN:VEVENT
DTSTART;TZID=Europe/Berlin:20260420T180000
DTEND;TZID=Europe/Berlin:20260420T193000
DTSTAMP:20260421T144811
CREATED:20250209T105346Z
LAST-MODIFIED:20251206T160324Z
UID:10025587-1776708000-1776713400@svfehmarn.de
SUMMARY:Training Tischtennis Jugendliche
DESCRIPTION:Auf Grund der Renovierung der Großsporthalle findet Tischtennis erst Anfang März wieder statt!
URL:https://svfehmarn.de/veranstaltung/training-tischtennis-jugendliche-2-2/2026-04-20/
LOCATION:Großsporthalle (Inselschule Fehmarn)\, Gahlendorfer Weg 25\, Fehmarn\, Schleswig-Holstein\, 23769\, Deutschland
CATEGORIES:Tischtennis,Tischtennis Jugendliche
ORGANIZER;CN="SV Fehmarn":MAILTO:moin@svfehmarn.de
END:VEVENT
BEGIN:VEVENT
DTSTART;TZID=Europe/Berlin:20260420T180000
DTEND;TZID=Europe/Berlin:20260420T193000
DTSTAMP:20260421T144811
CREATED:20231106T144707Z
LAST-MODIFIED:20260208T162809Z
UID:10033424-1776708000-1776713400@svfehmarn.de
SUMMARY:Training Badminton Jugend
DESCRIPTION:
URL:https://svfehmarn.de/veranstaltung/training-badminton-jugend-2/2026-04-20/
LOCATION:Großsporthalle (Inselschule Fehmarn)\, Gahlendorfer Weg 25\, Fehmarn\, Schleswig-Holstein\, 23769\, Deutschland
CATEGORIES:Badminton,Badminton Jugend
ORGANIZER;CN="SV Fehmarn":MAILTO:moin@svfehmarn.de
END:VEVENT
BEGIN:VEVENT
DTSTART;TZID=Europe/Berlin:20260420T173000
DTEND;TZID=Europe/Berlin:20260420T184500
DTSTAMP:20260421T144811
CREATED:20260208T123102Z
LAST-MODIFIED:20260208T123824Z
UID:10081516-1776706200-1776710700@svfehmarn.de
SUMMARY:Training Darts Jugendliche
DESCRIPTION:Bitte vorher telefonisch nachfragen\, ob das Training stattfindet
URL:https://svfehmarn.de/veranstaltung/training-darts-jugendliche-2-2/2026-04-20/
LOCATION:Teestube\, Gahlendorfer Weg 25\, Fehmarn\, Schleswig-Holstein\, 23769\, Deutschland
CATEGORIES:Darts,Darts Jugend
ORGANIZER;CN="SV Fehmarn":MAILTO:moin@svfehmarn.de
END:VEVENT
BEGIN:VEVENT
DTSTART;TZID=Europe/Berlin:20260420T170000
DTEND;TZID=Europe/Berlin:20260420T183000
DTSTAMP:20260421T144811
CREATED:20251031T202748Z
LAST-MODIFIED:20260208T162838Z
UID:10078756-1776704400-1776709800@svfehmarn.de
SUMMARY:Training Handball weibliche C-Jugend
DESCRIPTION:
URL:https://svfehmarn.de/veranstaltung/training-handball-weibl-c-jugend-3/2026-04-20/
LOCATION:Halle West (Grundschule Burg)\, Ohrtstraße 33\, Fehmarn\, Schleswig-Holstein\, 23769\, Deutschland
CATEGORIES:Handball,Handball Weibliche C-Jugend
ORGANIZER;CN="SV Fehmarn":MAILTO:moin@svfehmarn.de
END:VEVENT
BEGIN:VEVENT
DTSTART;TZID=Europe/Berlin:20260420T163000
DTEND;TZID=Europe/Berlin:20260420T183000
DTSTAMP:20260421T144811
CREATED:20230730T143705Z
LAST-MODIFIED:20260208T162852Z
UID:10019321-1776702600-1776709800@svfehmarn.de
SUMMARY:Training Handball Weibliche D-Jugend
DESCRIPTION:Jahrgang 2011 – 2012
URL:https://svfehmarn.de/veranstaltung/training-handball-weibliche-d-jugend/2026-04-20/
LOCATION:Halle West (Grundschule Burg)\, Ohrtstraße 33\, Fehmarn\, Schleswig-Holstein\, 23769\, Deutschland
CATEGORIES:Handball,Handball Weibliche D-Jugend
ORGANIZER;CN="SV Fehmarn":MAILTO:moin@svfehmarn.de
END:VEVENT
BEGIN:VEVENT
DTSTART;TZID=Europe/Berlin:20260420T163000
DTEND;TZID=Europe/Berlin:20260420T180000
DTSTAMP:20260421T144811
CREATED:20231106T155424Z
LAST-MODIFIED:20260208T162912Z
UID:10044912-1776702600-1776708000@svfehmarn.de
SUMMARY:Training Handball Männliche  D-Jugend
DESCRIPTION:Jahrgang 2009 – 2012
URL:https://svfehmarn.de/veranstaltung/training-handball-maennliche-c-d-jugend-4/2026-04-20/
LOCATION:Großsporthalle (Inselschule Fehmarn)\, Gahlendorfer Weg 25\, Fehmarn\, Schleswig-Holstein\, 23769\, Deutschland
CATEGORIES:Handball,Handball Männliche C-D-Jugend
ORGANIZER;CN="SV Fehmarn":MAILTO:moin@svfehmarn.de
END:VEVENT
BEGIN:VEVENT
DTSTART;TZID=Europe/Berlin:20260420T163000
DTEND;TZID=Europe/Berlin:20260420T180000
DTSTAMP:20260421T144811
CREATED:20230730T143116Z
LAST-MODIFIED:20260208T162928Z
UID:10018799-1776702600-1776708000@svfehmarn.de
SUMMARY:Training Handball Männliche E-Jugend
DESCRIPTION:
URL:https://svfehmarn.de/veranstaltung/training-handball-maennliche-e-jugend/2026-04-20/
LOCATION:Großsporthalle (Inselschule Fehmarn)\, Gahlendorfer Weg 25\, Fehmarn\, Schleswig-Holstein\, 23769\, Deutschland
CATEGORIES:Handball,Handball Männliche E-Jugend
ORGANIZER;CN="SV Fehmarn":MAILTO:moin@svfehmarn.de
END:VEVENT
BEGIN:VEVENT
DTSTART;TZID=Europe/Berlin:20260420T150000
DTEND;TZID=Europe/Berlin:20260420T163000
DTSTAMP:20260421T144811
CREATED:20231106T153932Z
LAST-MODIFIED:20260208T162945Z
UID:10079553-1776697200-1776702600@svfehmarn.de
SUMMARY:Training Handball Weibliche E-Jugend
DESCRIPTION:Jahrgang 2013 – 2014
URL:https://svfehmarn.de/veranstaltung/training-handball-weibliche-e-jugend-2/2026-04-20/
LOCATION:Großsporthalle (Inselschule Fehmarn)\, Gahlendorfer Weg 25\, Fehmarn\, Schleswig-Holstein\, 23769\, Deutschland
CATEGORIES:Handball,Handball Weibliche E-Jugend
ORGANIZER;CN="SV Fehmarn":MAILTO:moin@svfehmarn.de
END:VEVENT
BEGIN:VEVENT
DTSTART;TZID=Europe/Berlin:20260420T150000
DTEND;TZID=Europe/Berlin:20260420T163000
DTSTAMP:20260421T144811
CREATED:20230730T174915Z
LAST-MODIFIED:20260208T163000Z
UID:10027154-1776697200-1776702600@svfehmarn.de
SUMMARY:Training Turnen Leistungsturnen
DESCRIPTION:
URL:https://svfehmarn.de/veranstaltung/training-turnen-leistungsturnen/2026-04-20/
LOCATION:Großsporthalle (Inselschule Fehmarn)\, Gahlendorfer Weg 25\, Fehmarn\, Schleswig-Holstein\, 23769\, Deutschland
CATEGORIES:Leistungsturnen,Turnen
ORGANIZER;CN="SV Fehmarn":MAILTO:moin@svfehmarn.de
END:VEVENT
BEGIN:VEVENT
DTSTART;TZID=Europe/Berlin:20260419T180000
DTEND;TZID=Europe/Berlin:20260419T220000
DTSTAMP:20260421T144811
CREATED:20260107T164607Z
LAST-MODIFIED:20260208T160711Z
UID:10080883-1776621600-1776636000@svfehmarn.de
SUMMARY:Training Inliner-Hockey Herren
DESCRIPTION:Anfangszeit bitte telefonisch erfragen
URL:https://svfehmarn.de/veranstaltung/training-inliner-hockey-herren-2-2/2026-04-19/
LOCATION:Halle West (Grundschule Burg)\, Ohrtstraße 33\, Fehmarn\, Schleswig-Holstein\, 23769\, Deutschland
CATEGORIES:Inliner-Hockey,Inliner-Hockey Herren
ORGANIZER;CN="SV Fehmarn":MAILTO:moin@svfehmarn.de
END:VEVENT
BEGIN:VEVENT
DTSTART;TZID=Europe/Berlin:20260418T103000
DTEND;TZID=Europe/Berlin:20260418T113000
DTSTAMP:20260421T144811
CREATED:20230730T175941Z
LAST-MODIFIED:20260208T160833Z
UID:10029502-1776508200-1776511800@svfehmarn.de
SUMMARY:Training Yoga Yoga für Jugendliche
DESCRIPTION:
URL:https://svfehmarn.de/veranstaltung/training-yoga-yoga-fuer-jugendliche/2026-04-18/
LOCATION:Halle West (Grundschule Burg)\, Ohrtstraße 33\, Fehmarn\, Schleswig-Holstein\, 23769\, Deutschland
CATEGORIES:Yoga,Yoga für Jugendliche
ORGANIZER;CN="SV Fehmarn":MAILTO:moin@svfehmarn.de
END:VEVENT
BEGIN:VEVENT
DTSTART;TZID=Europe/Berlin:20260418T103000
DTEND;TZID=Europe/Berlin:20260418T113000
DTSTAMP:20260421T144811
CREATED:20230730T175731Z
LAST-MODIFIED:20260208T163017Z
UID:10028980-1776508200-1776511800@svfehmarn.de
SUMMARY:Training Dynamic Yoga
DESCRIPTION:
URL:https://svfehmarn.de/veranstaltung/training-dynamic-yoga-2/2026-04-18/
LOCATION:Halle West (Grundschule Burg)\, Ohrtstraße 33\, Fehmarn\, Schleswig-Holstein\, 23769\, Deutschland
CATEGORIES:Dynamic Yoga,Yoga
ORGANIZER;CN="SV Fehmarn":MAILTO:moin@svfehmarn.de
END:VEVENT
BEGIN:VEVENT
DTSTART;TZID=Europe/Berlin:20260418T090000
DTEND;TZID=Europe/Berlin:20260418T100000
DTSTAMP:20260421T144811
CREATED:20251025T154700Z
LAST-MODIFIED:20260208T160852Z
UID:10061471-1776502800-1776506400@svfehmarn.de
SUMMARY:Training Langhantel-Workout
DESCRIPTION:
URL:https://svfehmarn.de/veranstaltung/training-langhantel-workout-grosssporthalle-2/2026-04-18/
LOCATION:Halle West (Grundschule Burg)\, Ohrtstraße 33\, Fehmarn\, Schleswig-Holstein\, 23769\, Deutschland
CATEGORIES:Langhantel-Workout
ORGANIZER;CN="SV Fehmarn":MAILTO:moin@svfehmarn.de
END:VEVENT
BEGIN:VEVENT
DTSTART;TZID=Europe/Berlin:20260417T200000
DTEND;TZID=Europe/Berlin:20260417T213000
DTSTAMP:20260421T144811
CREATED:20230730T175503Z
LAST-MODIFIED:20260208T160924Z
UID:10028458-1776456000-1776461400@svfehmarn.de
SUMMARY:Training Volleyball Einsteiger
DESCRIPTION:Technik-/ und Einsteigertraining
URL:https://svfehmarn.de/veranstaltung/training-volleyball-einsteiger/2026-04-17/
LOCATION:Großsporthalle (Inselschule Fehmarn)\, Gahlendorfer Weg 25\, Fehmarn\, Schleswig-Holstein\, 23769\, Deutschland
CATEGORIES:Volleyball,Volleyball Einsteiger
ORGANIZER;CN="SV Fehmarn":MAILTO:moin@svfehmarn.de
END:VEVENT
BEGIN:VEVENT
DTSTART;TZID=Europe/Berlin:20260417T193000
DTEND;TZID=Europe/Berlin:20260417T210000
DTSTAMP:20260421T144811
CREATED:20240506T013644Z
LAST-MODIFIED:20251206T152744Z
UID:10054791-1776454200-1776459600@svfehmarn.de
SUMMARY:Training Fußball 1. Herren
DESCRIPTION:
URL:https://svfehmarn.de/veranstaltung/training-fussball-1-herren-grosssporthalle-3/2026-04-17/
LOCATION:Kunstrasen Burg
END:VEVENT
BEGIN:VEVENT
DTSTART;TZID=Europe/Berlin:20260417T193000
DTEND;TZID=Europe/Berlin:20260417T210000
DTSTAMP:20260421T144811
CREATED:20240404T131858Z
LAST-MODIFIED:20251206T140708Z
UID:10062616-1776454200-1776459600@svfehmarn.de
SUMMARY:Training Fußball 3. Herren
DESCRIPTION:
URL:https://svfehmarn.de/veranstaltung/training-fussball-3-herren-grosssporthalle-3/2026-04-17/
LOCATION:Rasenplatz Dänschendorf\, Fehmarn\, 23769
END:VEVENT
BEGIN:VEVENT
DTSTART;TZID=Europe/Berlin:20260417T193000
DTEND;TZID=Europe/Berlin:20260417T210000
DTSTAMP:20260421T144811
CREATED:20240229T162648Z
LAST-MODIFIED:20260208T160944Z
UID:10050802-1776454200-1776459600@svfehmarn.de
SUMMARY:Training Fußball 3. Herren
DESCRIPTION:
URL:https://svfehmarn.de/veranstaltung/training-fussball-3-herren-grosssporthalle-2/2026-04-17/
LOCATION:Großsporthalle (Inselschule Fehmarn)\, Gahlendorfer Weg 25\, Fehmarn\, Schleswig-Holstein\, 23769\, Deutschland
CATEGORIES:Fußball,Fußball 3. Herren,Fußball Erwachsene
ORGANIZER;CN="SV Fehmarn":MAILTO:moin@svfehmarn.de
END:VEVENT
BEGIN:VEVENT
DTSTART;TZID=Europe/Berlin:20260417T193000
DTEND;TZID=Europe/Berlin:20260417T210000
DTSTAMP:20260421T144811
CREATED:20240229T162351Z
LAST-MODIFIED:20260208T161009Z
UID:10050019-1776454200-1776459600@svfehmarn.de
SUMMARY:Training Fußball 2. Herren
DESCRIPTION:
URL:https://svfehmarn.de/veranstaltung/training-fussball-2-herren-grosssporthalle-2/2026-04-17/
LOCATION:Großsporthalle (Inselschule Fehmarn)\, Gahlendorfer Weg 25\, Fehmarn\, Schleswig-Holstein\, 23769\, Deutschland
CATEGORIES:Fußball,Fußball 2. Herren,Fußball Erwachsene
ORGANIZER;CN="SV Fehmarn":MAILTO:moin@svfehmarn.de
END:VEVENT
BEGIN:VEVENT
DTSTART;TZID=Europe/Berlin:20260417T193000
DTEND;TZID=Europe/Berlin:20260417T210000
DTSTAMP:20260421T144811
CREATED:20240229T162141Z
LAST-MODIFIED:20260208T161040Z
UID:10049236-1776454200-1776459600@svfehmarn.de
SUMMARY:Training Fußball 1. Herren
DESCRIPTION:
URL:https://svfehmarn.de/veranstaltung/training-fussball-1-herren-grosssporthalle-2/2026-04-17/
LOCATION:Großsporthalle (Inselschule Fehmarn)\, Gahlendorfer Weg 25\, Fehmarn\, Schleswig-Holstein\, 23769\, Deutschland
CATEGORIES:Fußball,Fußball 1. Herren,Fußball Erwachsene
ORGANIZER;CN="SV Fehmarn":MAILTO:moin@svfehmarn.de
END:VEVENT
BEGIN:VEVENT
DTSTART;TZID=Europe/Berlin:20260417T183000
DTEND;TZID=Europe/Berlin:20260417T203000
DTSTAMP:20260421T144811
CREATED:20231110T160247Z
LAST-MODIFIED:20260208T161029Z
UID:10044093-1776450600-1776457800@svfehmarn.de
SUMMARY:Training Inliner-Hockey Damen
DESCRIPTION:
URL:https://svfehmarn.de/veranstaltung/training-inliner-hockey-damen-2-2/2026-04-17/
LOCATION:Sporthalle Puttgarden\, Marienleuchter Weg 4\, Fehmarn\, Schleswig-Holstein\, 23769\, Deutschland
CATEGORIES:Inliner-Hockey,Inliner-Hockey Damen
ORGANIZER;CN="SV Fehmarn":MAILTO:moin@svfehmarn.de
END:VEVENT
BEGIN:VEVENT
DTSTART;TZID=Europe/Berlin:20260417T183000
DTEND;TZID=Europe/Berlin:20260417T200000
DTSTAMP:20260421T144811
CREATED:20240515T151252Z
LAST-MODIFIED:20260208T161056Z
UID:10037997-1776450600-1776456000@svfehmarn.de
SUMMARY:Training Handball Männliche C-Jugend
DESCRIPTION:
URL:https://svfehmarn.de/veranstaltung/training-handball-maennliche-c-d-jugend-2-2-2/2026-04-17/
LOCATION:Großsporthalle (Inselschule Fehmarn)\, Gahlendorfer Weg 25\, Fehmarn\, Schleswig-Holstein\, 23769\, Deutschland
CATEGORIES:Handball,Handball Männliche C-D-Jugend
ORGANIZER;CN="SV Fehmarn":MAILTO:moin@svfehmarn.de
END:VEVENT
END:VCALENDAR