BEGIN:VCALENDAR
VERSION:2.0
PRODID:-//SV Fehmarn - ECPv6.15.18//NONSGML v1.0//EN
CALSCALE:GREGORIAN
METHOD:PUBLISH
X-ORIGINAL-URL:https://svfehmarn.de
X-WR-CALDESC:Veranstaltungen für SV Fehmarn
REFRESH-INTERVAL;VALUE=DURATION:PT1H
X-Robots-Tag:noindex
X-PUBLISHED-TTL:PT1H
BEGIN:VTIMEZONE
TZID:Europe/Berlin
BEGIN:DAYLIGHT
TZOFFSETFROM:+0100
TZOFFSETTO:+0200
TZNAME:CEST
DTSTART:20250330T010000
END:DAYLIGHT
BEGIN:STANDARD
TZOFFSETFROM:+0200
TZOFFSETTO:+0100
TZNAME:CET
DTSTART:20251026T010000
END:STANDARD
BEGIN:DAYLIGHT
TZOFFSETFROM:+0100
TZOFFSETTO:+0200
TZNAME:CEST
DTSTART:20260329T010000
END:DAYLIGHT
BEGIN:STANDARD
TZOFFSETFROM:+0200
TZOFFSETTO:+0100
TZNAME:CET
DTSTART:20261025T010000
END:STANDARD
BEGIN:DAYLIGHT
TZOFFSETFROM:+0100
TZOFFSETTO:+0200
TZNAME:CEST
DTSTART:20270328T010000
END:DAYLIGHT
BEGIN:STANDARD
TZOFFSETFROM:+0200
TZOFFSETTO:+0100
TZNAME:CET
DTSTART:20271031T010000
END:STANDARD
END:VTIMEZONE
BEGIN:VEVENT
DTSTART;TZID=Europe/Berlin:20260422T203000
DTEND;TZID=Europe/Berlin:20260422T220000
DTSTAMP:20260423T132039
CREATED:20230730T155356Z
LAST-MODIFIED:20260208T161717Z
UID:10020367-1776889800-1776895200@svfehmarn.de
SUMMARY:Training Inliner-Hockey Herren
DESCRIPTION:
URL:https://svfehmarn.de/veranstaltung/training-inliner-hockey-herren/2026-04-22/
LOCATION:Halle West (Grundschule Burg)\, Ohrtstraße 33\, Fehmarn\, Schleswig-Holstein\, 23769\, Deutschland
CATEGORIES:Inliner-Hockey,Inliner-Hockey Herren
ORGANIZER;CN="SV Fehmarn":MAILTO:moin@svfehmarn.de
END:VEVENT
BEGIN:VEVENT
DTSTART;TZID=Europe/Berlin:20260422T190000
DTEND;TZID=Europe/Berlin:20260422T200000
DTSTAMP:20260423T132039
CREATED:20240814T152229Z
LAST-MODIFIED:20251206T150157Z
UID:10014881-1776884400-1776888000@svfehmarn.de
SUMMARY:Training Fitness Step-Aerobic
DESCRIPTION:
URL:https://svfehmarn.de/veranstaltung/training-fitness-step-aerobic-2-2/2026-04-22/
LOCATION:Halle West (Grundschule Burg)\, Ohrtstraße 33\, Fehmarn\, Schleswig-Holstein\, 23769\, Deutschland
CATEGORIES:Fitness,Step-Aerobic
ORGANIZER;CN="SV Fehmarn":MAILTO:moin@svfehmarn.de
END:VEVENT
BEGIN:VEVENT
DTSTART;TZID=Europe/Berlin:20260422T180000
DTEND;TZID=Europe/Berlin:20260422T190000
DTSTAMP:20260423T132039
CREATED:20241022T084528Z
LAST-MODIFIED:20260208T161821Z
UID:10043309-1776880800-1776884400@svfehmarn.de
SUMMARY:Training Fitness Hot Iron
DESCRIPTION:
URL:https://svfehmarn.de/veranstaltung/training-fitness-hot-iron-2-2/2026-04-22/
LOCATION:Halle West (Grundschule Burg)\, Ohrtstraße 33\, Fehmarn\, Schleswig-Holstein\, 23769\, Deutschland
CATEGORIES:Fitness,Hot Iron
ORGANIZER;CN="SV Fehmarn":MAILTO:moin@svfehmarn.de
END:VEVENT
BEGIN:VEVENT
DTSTART;TZID=Europe/Berlin:20260422T170000
DTEND;TZID=Europe/Berlin:20260422T200000
DTSTAMP:20260423T132039
CREATED:20260107T163753Z
LAST-MODIFIED:20260208T160745Z
UID:10020889-1776877200-1776888000@svfehmarn.de
SUMMARY:Training Inliner-Hockey Jugend
DESCRIPTION:
URL:https://svfehmarn.de/veranstaltung/training-inliner-hockey-jugend-2/2026-04-22/
LOCATION:Halle West (Grundschule Burg)\, Ohrtstraße 33\, Fehmarn\, Schleswig-Holstein\, 23769\, Deutschland
CATEGORIES:Inliner-Hockey Jugend
ORGANIZER;CN="SV Fehmarn":MAILTO:moin@svfehmarn.de
END:VEVENT
BEGIN:VEVENT
DTSTART;TZID=Europe/Berlin:20260421T190000
DTEND;TZID=Europe/Berlin:20260421T200000
DTSTAMP:20260423T132039
CREATED:20231108T070807Z
LAST-MODIFIED:20260208T162218Z
UID:10039843-1776798000-1776801600@svfehmarn.de
SUMMARY:Training Pilates
DESCRIPTION:
URL:https://svfehmarn.de/veranstaltung/pilates/2026-04-21/
LOCATION:Halle West (Grundschule Burg)\, Ohrtstraße 33\, Fehmarn\, Schleswig-Holstein\, 23769\, Deutschland
CATEGORIES:Pilates,Pilates
ORGANIZER;CN="SV Fehmarn":MAILTO:moin@svfehmarn.de
END:VEVENT
BEGIN:VEVENT
DTSTART;TZID=Europe/Berlin:20260420T193000
DTEND;TZID=Europe/Berlin:20260420T203000
DTSTAMP:20260423T132039
CREATED:20231110T155734Z
LAST-MODIFIED:20260208T162546Z
UID:10043570-1776713400-1776717000@svfehmarn.de
SUMMARY:Ladies-Workout
DESCRIPTION:
URL:https://svfehmarn.de/veranstaltung/ladies-workout-halle-west/2026-04-20/
LOCATION:Halle West (Grundschule Burg)\, Ohrtstraße 33\, Fehmarn\, Schleswig-Holstein\, 23769\, Deutschland
CATEGORIES:Fitness,Ladies-Workout
ORGANIZER;CN="SV Fehmarn":MAILTO:moin@svfehmarn.de
END:VEVENT
BEGIN:VEVENT
DTSTART;TZID=Europe/Berlin:20260420T193000
DTEND;TZID=Europe/Berlin:20260420T203000
DTSTAMP:20260423T132039
CREATED:20230730T133634Z
LAST-MODIFIED:20260208T162558Z
UID:10014359-1776713400-1776717000@svfehmarn.de
SUMMARY:Training Fitness Bauch-Beine-Po
DESCRIPTION:
URL:https://svfehmarn.de/veranstaltung/training-fitness-bauch-beine-po/2026-04-20/
LOCATION:Halle West (Grundschule Burg)\, Ohrtstraße 33\, Fehmarn\, Schleswig-Holstein\, 23769\, Deutschland
CATEGORIES:Bauch-Beine-Po,Fitness
ORGANIZER;CN="SV Fehmarn":MAILTO:moin@svfehmarn.de
END:VEVENT
BEGIN:VEVENT
DTSTART;TZID=Europe/Berlin:20260420T190000
DTEND;TZID=Europe/Berlin:20260420T210000
DTSTAMP:20260423T132040
CREATED:20251026T210501Z
LAST-MODIFIED:20260208T162628Z
UID:10076921-1776711600-1776718800@svfehmarn.de
SUMMARY:Training Handball Herren
DESCRIPTION:Jahrgang 2008 & älter
URL:https://svfehmarn.de/veranstaltung/training-handball-maennliche-a-b-jugend-herren-3-2/2026-04-20/
LOCATION:Halle West (Grundschule Burg)\, Ohrtstraße 33\, Fehmarn\, Schleswig-Holstein\, 23769\, Deutschland
CATEGORIES:Handball,Handball Männliche A-B-Jugend
ORGANIZER;CN="SV Fehmarn":MAILTO:moin@svfehmarn.de
END:VEVENT
BEGIN:VEVENT
DTSTART;TZID=Europe/Berlin:20260420T170000
DTEND;TZID=Europe/Berlin:20260420T183000
DTSTAMP:20260423T132040
CREATED:20251031T202748Z
LAST-MODIFIED:20260208T162838Z
UID:10078756-1776704400-1776709800@svfehmarn.de
SUMMARY:Training Handball weibliche C-Jugend
DESCRIPTION:
URL:https://svfehmarn.de/veranstaltung/training-handball-weibl-c-jugend-3/2026-04-20/
LOCATION:Halle West (Grundschule Burg)\, Ohrtstraße 33\, Fehmarn\, Schleswig-Holstein\, 23769\, Deutschland
CATEGORIES:Handball,Handball Weibliche C-Jugend
ORGANIZER;CN="SV Fehmarn":MAILTO:moin@svfehmarn.de
END:VEVENT
BEGIN:VEVENT
DTSTART;TZID=Europe/Berlin:20260420T163000
DTEND;TZID=Europe/Berlin:20260420T183000
DTSTAMP:20260423T132040
CREATED:20230730T143705Z
LAST-MODIFIED:20260208T162852Z
UID:10019321-1776702600-1776709800@svfehmarn.de
SUMMARY:Training Handball Weibliche D-Jugend
DESCRIPTION:Jahrgang 2011 – 2012
URL:https://svfehmarn.de/veranstaltung/training-handball-weibliche-d-jugend/2026-04-20/
LOCATION:Halle West (Grundschule Burg)\, Ohrtstraße 33\, Fehmarn\, Schleswig-Holstein\, 23769\, Deutschland
CATEGORIES:Handball,Handball Weibliche D-Jugend
ORGANIZER;CN="SV Fehmarn":MAILTO:moin@svfehmarn.de
END:VEVENT
BEGIN:VEVENT
DTSTART;TZID=Europe/Berlin:20260419T180000
DTEND;TZID=Europe/Berlin:20260419T220000
DTSTAMP:20260423T132040
CREATED:20260107T164607Z
LAST-MODIFIED:20260208T160711Z
UID:10080883-1776621600-1776636000@svfehmarn.de
SUMMARY:Training Inliner-Hockey Herren
DESCRIPTION:Anfangszeit bitte telefonisch erfragen
URL:https://svfehmarn.de/veranstaltung/training-inliner-hockey-herren-2-2/2026-04-19/
LOCATION:Halle West (Grundschule Burg)\, Ohrtstraße 33\, Fehmarn\, Schleswig-Holstein\, 23769\, Deutschland
CATEGORIES:Inliner-Hockey,Inliner-Hockey Herren
ORGANIZER;CN="SV Fehmarn":MAILTO:moin@svfehmarn.de
END:VEVENT
BEGIN:VEVENT
DTSTART;TZID=Europe/Berlin:20260418T103000
DTEND;TZID=Europe/Berlin:20260418T113000
DTSTAMP:20260423T132040
CREATED:20230730T175941Z
LAST-MODIFIED:20260208T160833Z
UID:10029502-1776508200-1776511800@svfehmarn.de
SUMMARY:Training Yoga Yoga für Jugendliche
DESCRIPTION:
URL:https://svfehmarn.de/veranstaltung/training-yoga-yoga-fuer-jugendliche/2026-04-18/
LOCATION:Halle West (Grundschule Burg)\, Ohrtstraße 33\, Fehmarn\, Schleswig-Holstein\, 23769\, Deutschland
CATEGORIES:Yoga,Yoga für Jugendliche
ORGANIZER;CN="SV Fehmarn":MAILTO:moin@svfehmarn.de
END:VEVENT
BEGIN:VEVENT
DTSTART;TZID=Europe/Berlin:20260418T103000
DTEND;TZID=Europe/Berlin:20260418T113000
DTSTAMP:20260423T132040
CREATED:20230730T175731Z
LAST-MODIFIED:20260208T163017Z
UID:10028980-1776508200-1776511800@svfehmarn.de
SUMMARY:Training Dynamic Yoga
DESCRIPTION:
URL:https://svfehmarn.de/veranstaltung/training-dynamic-yoga-2/2026-04-18/
LOCATION:Halle West (Grundschule Burg)\, Ohrtstraße 33\, Fehmarn\, Schleswig-Holstein\, 23769\, Deutschland
CATEGORIES:Dynamic Yoga,Yoga
ORGANIZER;CN="SV Fehmarn":MAILTO:moin@svfehmarn.de
END:VEVENT
BEGIN:VEVENT
DTSTART;TZID=Europe/Berlin:20260418T090000
DTEND;TZID=Europe/Berlin:20260418T100000
DTSTAMP:20260423T132040
CREATED:20251025T154700Z
LAST-MODIFIED:20260208T160852Z
UID:10061471-1776502800-1776506400@svfehmarn.de
SUMMARY:Training Langhantel-Workout
DESCRIPTION:
URL:https://svfehmarn.de/veranstaltung/training-langhantel-workout-grosssporthalle-2/2026-04-18/
LOCATION:Halle West (Grundschule Burg)\, Ohrtstraße 33\, Fehmarn\, Schleswig-Holstein\, 23769\, Deutschland
CATEGORIES:Langhantel-Workout
ORGANIZER;CN="SV Fehmarn":MAILTO:moin@svfehmarn.de
END:VEVENT
BEGIN:VEVENT
DTSTART;TZID=Europe/Berlin:20260417T180000
DTEND;TZID=Europe/Berlin:20260417T200000
DTSTAMP:20260423T132040
CREATED:20240115T235103Z
LAST-MODIFIED:20260208T161115Z
UID:10076140-1776448800-1776456000@svfehmarn.de
SUMMARY:Training Handball Weibliche A-Jugend / Damen
DESCRIPTION:
URL:https://svfehmarn.de/veranstaltung/training-handball-weibliche-a-jugend-damen-halle-west-2/2026-04-17/
LOCATION:Halle West (Grundschule Burg)\, Ohrtstraße 33\, Fehmarn\, Schleswig-Holstein\, 23769\, Deutschland
CATEGORIES:Handball,Handball Weibliche A-Jugend / Damen
ORGANIZER;CN="SV Fehmarn":MAILTO:moin@svfehmarn.de
END:VEVENT
BEGIN:VEVENT
DTSTART;TZID=Europe/Berlin:20260417T170000
DTEND;TZID=Europe/Berlin:20260417T183000
DTSTAMP:20260423T132040
CREATED:20231106T150937Z
LAST-MODIFIED:20260208T161156Z
UID:10080505-1776445200-1776450600@svfehmarn.de
SUMMARY:Training Handball Weibliche B-Jugend
DESCRIPTION:Jahrgang 2007-2008
URL:https://svfehmarn.de/veranstaltung/training-handball-weibliche-b-jugend-2/2026-04-17/
LOCATION:Halle West (Grundschule Burg)\, Ohrtstraße 33\, Fehmarn\, Schleswig-Holstein\, 23769\, Deutschland
CATEGORIES:Handball,Handball Weibliche B-Jugend
ORGANIZER;CN="SV Fehmarn":MAILTO:moin@svfehmarn.de
END:VEVENT
BEGIN:VEVENT
DTSTART;TZID=Europe/Berlin:20260417T163000
DTEND;TZID=Europe/Berlin:20260417T180000
DTSTAMP:20260423T132040
CREATED:20251031T201233Z
LAST-MODIFIED:20260208T161243Z
UID:10078236-1776443400-1776448800@svfehmarn.de
SUMMARY:Training Handball Weibliche B-Jugend
DESCRIPTION:Jahrgang 2007-2008
URL:https://svfehmarn.de/veranstaltung/training-handball-weibliche-b-jugend-2-2/2026-04-17/
LOCATION:Halle West (Grundschule Burg)\, Ohrtstraße 33\, Fehmarn\, Schleswig-Holstein\, 23769\, Deutschland
CATEGORIES:Handball,Handball Weibliche B-Jugend
ORGANIZER;CN="SV Fehmarn":MAILTO:moin@svfehmarn.de
END:VEVENT
BEGIN:VEVENT
DTSTART;TZID=Europe/Berlin:20260416T193000
DTEND;TZID=Europe/Berlin:20260416T213000
DTSTAMP:20260423T132040
CREATED:20230730T140007Z
LAST-MODIFIED:20260208T161323Z
UID:10077195-1776367800-1776375000@svfehmarn.de
SUMMARY:Training Handball Herren
DESCRIPTION:
URL:https://svfehmarn.de/veranstaltung/training-handball-maennliche-a-b-jugend-herren-2/2026-04-16/
LOCATION:Halle West (Grundschule Burg)\, Ohrtstraße 33\, Fehmarn\, Schleswig-Holstein\, 23769\, Deutschland
CATEGORIES:Handball,Handball Männliche A-B-Jugend
ORGANIZER;CN="SV Fehmarn":MAILTO:moin@svfehmarn.de
END:VEVENT
BEGIN:VEVENT
DTSTART;TZID=Europe/Berlin:20260416T170000
DTEND;TZID=Europe/Berlin:20260416T183000
DTSTAMP:20260423T132040
CREATED:20251205T124935Z
LAST-MODIFIED:20260208T160814Z
UID:10080074-1776358800-1776364200@svfehmarn.de
SUMMARY:Training Handball Weibliche E-Jugend
DESCRIPTION:Jahrgang 2013 – 2014
URL:https://svfehmarn.de/veranstaltung/training-handball-weibliche-e-jugend-3-2/2026-04-16/
LOCATION:Halle West (Grundschule Burg)\, Ohrtstraße 33\, Fehmarn\, Schleswig-Holstein\, 23769\, Deutschland
CATEGORIES:Handball,Handball Weibliche E-Jugend
ORGANIZER;CN="SV Fehmarn":MAILTO:moin@svfehmarn.de
END:VEVENT
BEGIN:VEVENT
DTSTART;TZID=Europe/Berlin:20260416T170000
DTEND;TZID=Europe/Berlin:20260416T183000
DTSTAMP:20260423T132040
CREATED:20251031T205127Z
LAST-MODIFIED:20260208T161520Z
UID:10080444-1776358800-1776364200@svfehmarn.de
SUMMARY:Training Handball Weibliche E-Jugend
DESCRIPTION:Jahrgang 2013 – 2014
URL:https://svfehmarn.de/veranstaltung/training-handball-weibliche-e-jugend-3/2026-04-16/
LOCATION:Halle West (Grundschule Burg)\, Ohrtstraße 33\, Fehmarn\, Schleswig-Holstein\, 23769\, Deutschland
CATEGORIES:Handball,Handball Weibliche E-Jugend
ORGANIZER;CN="SV Fehmarn":MAILTO:moin@svfehmarn.de
END:VEVENT
BEGIN:VEVENT
DTSTART;TZID=Europe/Berlin:20260416T170000
DTEND;TZID=Europe/Berlin:20260416T183000
DTSTAMP:20260423T132040
CREATED:20231116T163822Z
LAST-MODIFIED:20260208T161534Z
UID:10044649-1776358800-1776364200@svfehmarn.de
SUMMARY:Training Handball Männliche  D-Jugend
DESCRIPTION:Jahrgang 2009 – 2012
URL:https://svfehmarn.de/veranstaltung/training-handball-maennliche-c-d-jugend-4-2/2026-04-16/
LOCATION:Halle West (Grundschule Burg)\, Ohrtstraße 33\, Fehmarn\, Schleswig-Holstein\, 23769\, Deutschland
CATEGORIES:Handball,Handball Männliche C-D-Jugend
ORGANIZER;CN="SV Fehmarn":MAILTO:moin@svfehmarn.de
END:VEVENT
BEGIN:VEVENT
DTSTART;TZID=Europe/Berlin:20260416T170000
DTEND;TZID=Europe/Berlin:20260416T183000
DTSTAMP:20260423T132040
CREATED:20231106T152859Z
LAST-MODIFIED:20260208T161547Z
UID:10080565-1776358800-1776364200@svfehmarn.de
SUMMARY:Training Handball Weibliche C-Jugend
DESCRIPTION:
URL:https://svfehmarn.de/veranstaltung/training-handball-weibl-c-jugend-2/2026-04-16/
LOCATION:Halle West (Grundschule Burg)\, Ohrtstraße 33\, Fehmarn\, Schleswig-Holstein\, 23769\, Deutschland
CATEGORIES:Handball,Handball Weibliche C-Jugend
ORGANIZER;CN="SV Fehmarn":MAILTO:moin@svfehmarn.de
END:VEVENT
BEGIN:VEVENT
DTSTART;TZID=Europe/Berlin:20260416T170000
DTEND;TZID=Europe/Berlin:20260416T183000
DTSTAMP:20260423T132040
CREATED:20230730T143215Z
LAST-MODIFIED:20260208T161603Z
UID:10019059-1776358800-1776364200@svfehmarn.de
SUMMARY:Training Handball Männliche E-Jugend
DESCRIPTION:
URL:https://svfehmarn.de/veranstaltung/training-handball-maennliche-e-jugend-2/2026-04-16/
LOCATION:Halle West (Grundschule Burg)\, Ohrtstraße 33\, Fehmarn\, Schleswig-Holstein\, 23769\, Deutschland
CATEGORIES:Handball,Handball Männliche E-Jugend
ORGANIZER;CN="SV Fehmarn":MAILTO:moin@svfehmarn.de
END:VEVENT
BEGIN:VEVENT
DTSTART;TZID=Europe/Berlin:20260415T203000
DTEND;TZID=Europe/Berlin:20260415T220000
DTSTAMP:20260423T132040
CREATED:20230730T155356Z
LAST-MODIFIED:20260208T161717Z
UID:10020366-1776285000-1776290400@svfehmarn.de
SUMMARY:Training Inliner-Hockey Herren
DESCRIPTION:
URL:https://svfehmarn.de/veranstaltung/training-inliner-hockey-herren/2026-04-15/
LOCATION:Halle West (Grundschule Burg)\, Ohrtstraße 33\, Fehmarn\, Schleswig-Holstein\, 23769\, Deutschland
CATEGORIES:Inliner-Hockey,Inliner-Hockey Herren
ORGANIZER;CN="SV Fehmarn":MAILTO:moin@svfehmarn.de
END:VEVENT
BEGIN:VEVENT
DTSTART;TZID=Europe/Berlin:20260415T190000
DTEND;TZID=Europe/Berlin:20260415T200000
DTSTAMP:20260423T132040
CREATED:20240814T152229Z
LAST-MODIFIED:20251206T150157Z
UID:10014880-1776279600-1776283200@svfehmarn.de
SUMMARY:Training Fitness Step-Aerobic
DESCRIPTION:
URL:https://svfehmarn.de/veranstaltung/training-fitness-step-aerobic-2-2/2026-04-15/
LOCATION:Halle West (Grundschule Burg)\, Ohrtstraße 33\, Fehmarn\, Schleswig-Holstein\, 23769\, Deutschland
CATEGORIES:Fitness,Step-Aerobic
ORGANIZER;CN="SV Fehmarn":MAILTO:moin@svfehmarn.de
END:VEVENT
BEGIN:VEVENT
DTSTART;TZID=Europe/Berlin:20260415T180000
DTEND;TZID=Europe/Berlin:20260415T190000
DTSTAMP:20260423T132040
CREATED:20241022T084528Z
LAST-MODIFIED:20260208T161821Z
UID:10043308-1776276000-1776279600@svfehmarn.de
SUMMARY:Training Fitness Hot Iron
DESCRIPTION:
URL:https://svfehmarn.de/veranstaltung/training-fitness-hot-iron-2-2/2026-04-15/
LOCATION:Halle West (Grundschule Burg)\, Ohrtstraße 33\, Fehmarn\, Schleswig-Holstein\, 23769\, Deutschland
CATEGORIES:Fitness,Hot Iron
ORGANIZER;CN="SV Fehmarn":MAILTO:moin@svfehmarn.de
END:VEVENT
BEGIN:VEVENT
DTSTART;TZID=Europe/Berlin:20260415T170000
DTEND;TZID=Europe/Berlin:20260415T200000
DTSTAMP:20260423T132040
CREATED:20260107T163753Z
LAST-MODIFIED:20260208T160745Z
UID:10020888-1776272400-1776283200@svfehmarn.de
SUMMARY:Training Inliner-Hockey Jugend
DESCRIPTION:
URL:https://svfehmarn.de/veranstaltung/training-inliner-hockey-jugend-2/2026-04-15/
LOCATION:Halle West (Grundschule Burg)\, Ohrtstraße 33\, Fehmarn\, Schleswig-Holstein\, 23769\, Deutschland
CATEGORIES:Inliner-Hockey Jugend
ORGANIZER;CN="SV Fehmarn":MAILTO:moin@svfehmarn.de
END:VEVENT
BEGIN:VEVENT
DTSTART;TZID=Europe/Berlin:20260414T190000
DTEND;TZID=Europe/Berlin:20260414T200000
DTSTAMP:20260423T132040
CREATED:20231108T070807Z
LAST-MODIFIED:20260208T162218Z
UID:10039842-1776193200-1776196800@svfehmarn.de
SUMMARY:Training Pilates
DESCRIPTION:
URL:https://svfehmarn.de/veranstaltung/pilates/2026-04-14/
LOCATION:Halle West (Grundschule Burg)\, Ohrtstraße 33\, Fehmarn\, Schleswig-Holstein\, 23769\, Deutschland
CATEGORIES:Pilates,Pilates
ORGANIZER;CN="SV Fehmarn":MAILTO:moin@svfehmarn.de
END:VEVENT
BEGIN:VEVENT
DTSTART;TZID=Europe/Berlin:20260413T193000
DTEND;TZID=Europe/Berlin:20260413T203000
DTSTAMP:20260423T132040
CREATED:20231110T155734Z
LAST-MODIFIED:20260208T162546Z
UID:10043569-1776108600-1776112200@svfehmarn.de
SUMMARY:Ladies-Workout
DESCRIPTION:
URL:https://svfehmarn.de/veranstaltung/ladies-workout-halle-west/2026-04-13/
LOCATION:Halle West (Grundschule Burg)\, Ohrtstraße 33\, Fehmarn\, Schleswig-Holstein\, 23769\, Deutschland
CATEGORIES:Fitness,Ladies-Workout
ORGANIZER;CN="SV Fehmarn":MAILTO:moin@svfehmarn.de
END:VEVENT
BEGIN:VEVENT
DTSTART;TZID=Europe/Berlin:20260413T193000
DTEND;TZID=Europe/Berlin:20260413T203000
DTSTAMP:20260423T132040
CREATED:20230730T133634Z
LAST-MODIFIED:20260208T162558Z
UID:10014358-1776108600-1776112200@svfehmarn.de
SUMMARY:Training Fitness Bauch-Beine-Po
DESCRIPTION:
URL:https://svfehmarn.de/veranstaltung/training-fitness-bauch-beine-po/2026-04-13/
LOCATION:Halle West (Grundschule Burg)\, Ohrtstraße 33\, Fehmarn\, Schleswig-Holstein\, 23769\, Deutschland
CATEGORIES:Bauch-Beine-Po,Fitness
ORGANIZER;CN="SV Fehmarn":MAILTO:moin@svfehmarn.de
END:VEVENT
END:VCALENDAR